Workbook

Sheet Depth Chart
A1: Majors | B1: Name | C1: sWAR | D1: Card | E1: Card 2 | F1: Last 1 | G1: Last 2 | H1: IL Return | I1: Dem Wk | J1: Vanity | K1: Injury | L1: Hand | M1: C | N1: 1B | O1: 2B | P1: 3B | Q1: SS | R1: LF | S1: CF | T1: RF | U1: vL | V1: vR | W1: OVR | X1: P | Y1: SP | Z1: RP | AA1: CP | AB1: vL | AC1: vR | AD1: OVR | AE1: Defense / Endurance | AG1: Left Field | AL1: Center Field | AQ1: Right Field | AW1: FALSE | AX1: Draft Mode
A2: =IFERROR(__xludf.DUMMYFUNCTION("if(AW1,QUERY(Imports!A1:Z56,""select A, B, C, D, E, P, Q, R, S, T, W where Z = 'WV' order by B asc"", 0), QUERY(Imports!A1:Z56,""select A, B, C, D, E, P, Q, R, S, T, W where G = 'WV' order by B asc"", 0))"),12548.0) -> 12548 | B2: =IFERROR(__xludf.DUMMYFUNCTION("""COMPUTED_VALUE"""),"Andy Pages") -> Andy Pages | C2: =IFERROR(__xludf.DUMMYFUNCTION("""COMPUTED_VALUE"""),0.85) -> 0.85 | D2: =IFERROR(__xludf.DUMMYFUNCTION("""COMPUTED_VALUE"""),"https://sba-cards-2024.s3.us-east-1.amazonaws.com/2024-cards/andy-pages.png") -> https://sba-cards-2024.s3.us-east-1.amazonaws.com/2024-cards/andy-pages.png | I2: =IFERROR(__xludf.DUMMYFUNCTION("""COMPUTED_VALUE"""),-2.0) -> -2 | K2: =IFERROR(__xludf.DUMMYFUNCTION("""COMPUTED_VALUE"""),"1p60") -> 1p60 | L2: {=iferror(index(BatterCalcs!D:D,match(A2,BatterCalcs!A:A,0)),index(PitcherCalcs!E:E,match(A2,PitcherCalcs!A:A,0)))} -> R | M2: {=iferror(index(BatterCalcs!CJ:CQ,match(A2,BatterCalcs!A:A,0)),)} | R2: 205 | S2: 305 | T2: 205 | U2: {=iferror(index(BatterCalcs!CK:CM,match(A2,BatterCalcs!E:E,0)),)} | X2: {=iferror(index(PitcherCalcs!CL:CL,match(A2,PitcherCalcs!F:F,0)),)} | Y2: {=iferror(index(PitcherCalcs!CD:CF,match(A2,PitcherCalcs!A:A,0)),)} | AB2: {=iferror(index(BatterCalcs!CG:CG,match(A2,BatterCalcs!A:A,0)),index(PitcherCalcs!CT:CT,match(A2,PitcherCalcs!A:A,0)))} -> 10 | AC2: {=iferror(index(BatterCalcs!CH:CH,match(A2,BatterCalcs!A:A,0)),index(PitcherCalcs!CU:CU,match(A2,PitcherCalcs!A:A,0)))} -> -2 | AD2: {=iferror(index(BatterCalcs!CI:CI,match(A2,BatterCalcs!A:A,0)),index(PitcherCalcs!CV:CV,match(A2,PitcherCalcs!A:A,0)))} -> 7 | AE2: {=IFERROR(index(BatterCalcs!CR:CR,match(A2,BatterCalcs!A:A,0)),index(PitcherCalcs!BY:BY,match(A2,PitcherCalcs!A:A,0)))} -> cf-3(-1)e5 rf-2e5 lf-2e5 | AG2: Name | AH2: H | AI2: vL | AJ2: vR | AK2: Def | AL2: Name | AM2: H | AN2: vL | AO2: vR | AP2: Def | AQ2: Name | AR2: H | AS2: vL | AT2: vR | AU2: Def | AW2: TRUE | AX2: All Imports
A3: =IFERROR(__xludf.DUMMYFUNCTION("""COMPUTED_VALUE"""),12553.0) -> 12553 | B3: =IFERROR(__xludf.DUMMYFUNCTION("""COMPUTED_VALUE"""),"Anthony Bender") -> Anthony Bender | C3: =IFERROR(__xludf.DUMMYFUNCTION("""COMPUTED_VALUE"""),0.49) -> 0.49 | D3: =IFERROR(__xludf.DUMMYFUNCTION("""COMPUTED_VALUE"""),"https://sba-cards-2024.s3.us-east-1.amazonaws.com/2024-cards/anthony-bender.png") -> https://sba-cards-2024.s3.us-east-1.amazonaws.com/2024-cards/anthony-bender.png | I3: =IFERROR(__xludf.DUMMYFUNCTION("""COMPUTED_VALUE"""),-2.0) -> -2 | K3: =IFERROR(__xludf.DUMMYFUNCTION("""COMPUTED_VALUE"""),"2p50") -> 2p50 | L3: {=iferror(index(BatterCalcs!D:D,match(A3,BatterCalcs!A:A,0)),index(PitcherCalcs!E:E,match(A3,PitcherCalcs!A:A,0)))} -> R | M3: {=iferror(index(BatterCalcs!CJ:CQ,match(A3,BatterCalcs!A:A,0)),)} | U3: {=iferror(index(BatterCalcs!CK:CM,match(A3,BatterCalcs!E:E,0)),)} | X3: {=iferror(index(PitcherCalcs!CL:CL,match(A3,PitcherCalcs!F:F,0)),)} | Y3: {=iferror(index(PitcherCalcs!CD:CF,match(A3,PitcherCalcs!A:A,0)),)} | Z3: 1 | AA3: 0 | AB3: {=iferror(index(BatterCalcs!CG:CG,match(A3,BatterCalcs!A:A,0)),index(PitcherCalcs!CT:CT,match(A3,PitcherCalcs!A:A,0)))} -> -7 | AC3: {=iferror(index(BatterCalcs!CH:CH,match(A3,BatterCalcs!A:A,0)),index(PitcherCalcs!CU:CU,match(A3,PitcherCalcs!A:A,0)))} -> 46 | AD3: {=iferror(index(BatterCalcs!CI:CI,match(A3,BatterCalcs!A:A,0)),index(PitcherCalcs!CV:CV,match(A3,PitcherCalcs!A:A,0)))} -> 13.666667 | AE3: {=IFERROR(index(BatterCalcs!CR:CR,match(A3,BatterCalcs!A:A,0)),index(PitcherCalcs!BY:BY,match(A3,PitcherCalcs!A:A,0)))} -> R(1) C(0) | AG3: =IFERROR(__xludf.DUMMYFUNCTION("query($A$2:$AE$28,""select B, L, AB, AC, R where R is not null order by AD desc"")"),"Yordan Alvarez") -> Yordan Alvarez | AH3: =IFERROR(__xludf.DUMMYFUNCTION("""COMPUTED_VALUE"""),"L") -> L | AI3: =IFERROR(__xludf.DUMMYFUNCTION("""COMPUTED_VALUE"""),41.0) -> 41 | AJ3: =IFERROR(__xludf.DUMMYFUNCTION("""COMPUTED_VALUE"""),34.0) -> 34 | AK3: =IFERROR(__xludf.DUMMYFUNCTION("""COMPUTED_VALUE"""),503.0) -> 503 | AL3: =IFERROR(__xludf.DUMMYFUNCTION("query($A$2:$AE$28,""select B, L, AB, AC, S where S is not null order by AD desc"")"),"JJ Bleday") -> JJ Bleday | AM3: =IFERROR(__xludf.DUMMYFUNCTION("""COMPUTED_VALUE"""),"L") -> L | AN3: =IFERROR(__xludf.DUMMYFUNCTION("""COMPUTED_VALUE"""),14.0) -> 14 | AO3: =IFERROR(__xludf.DUMMYFUNCTION("""COMPUTED_VALUE"""),13.0) -> 13 | AP3: =IFERROR(__xludf.DUMMYFUNCTION("""COMPUTED_VALUE"""),406.0) -> 406 | AQ3: =IFERROR(__xludf.DUMMYFUNCTION("query($A$2:$AE$28,""select B, L, AB, AC, T where T is not null order by AD desc"")"),"Teoscar Hernandez") -> Teoscar Hernandez | AR3: =IFERROR(__xludf.DUMMYFUNCTION("""COMPUTED_VALUE"""),"R") -> R | AS3: =IFERROR(__xludf.DUMMYFUNCTION("""COMPUTED_VALUE"""),32.0) -> 32 | AT3: =IFERROR(__xludf.DUMMYFUNCTION("""COMPUTED_VALUE"""),23.0) -> 23 | AU3: =IFERROR(__xludf.DUMMYFUNCTION("""COMPUTED_VALUE"""),403.0) -> 403 | AV3: vs Left | AX3: vs Right
A4: =IFERROR(__xludf.DUMMYFUNCTION("""COMPUTED_VALUE"""),12573.0) -> 12573 | B4: =IFERROR(__xludf.DUMMYFUNCTION("""COMPUTED_VALUE"""),"Ben Brown") -> Ben Brown | C4: =IFERROR(__xludf.DUMMYFUNCTION("""COMPUTED_VALUE"""),1.22) -> 1.22 | D4: =IFERROR(__xludf.DUMMYFUNCTION("""COMPUTED_VALUE"""),"https://sba-cards-2024.s3.us-east-1.amazonaws.com/2024-cards/ben-brown.png") -> https://sba-cards-2024.s3.us-east-1.amazonaws.com/2024-cards/ben-brown.png | H4: =IFERROR(__xludf.DUMMYFUNCTION("""COMPUTED_VALUE"""),"w07g2") -> w07g2 | I4: =IFERROR(__xludf.DUMMYFUNCTION("""COMPUTED_VALUE"""),-2.0) -> -2 | K4: =IFERROR(__xludf.DUMMYFUNCTION("""COMPUTED_VALUE"""),"5p30") -> 5p30 | L4: {=iferror(index(BatterCalcs!D:D,match(A4,BatterCalcs!A:A,0)),index(PitcherCalcs!E:E,match(A4,PitcherCalcs!A:A,0)))} -> R | M4: {=iferror(index(BatterCalcs!CJ:CQ,match(A4,BatterCalcs!A:A,0)),)} | U4: {=iferror(index(BatterCalcs!CK:CM,match(A4,BatterCalcs!E:E,0)),)} | X4: {=iferror(index(PitcherCalcs!CL:CL,match(A4,PitcherCalcs!F:F,0)),)} | Y4: {=iferror(index(PitcherCalcs!CD:CF,match(A4,PitcherCalcs!A:A,0)),)} -> 5 | Z4: 4 | AB4: {=iferror(index(BatterCalcs!CG:CG,match(A4,BatterCalcs!A:A,0)),index(PitcherCalcs!CT:CT,match(A4,PitcherCalcs!A:A,0)))} -> 10 | AC4: {=iferror(index(BatterCalcs!CH:CH,match(A4,BatterCalcs!A:A,0)),index(PitcherCalcs!CU:CU,match(A4,PitcherCalcs!A:A,0)))} -> 35 | AD4: {=iferror(index(BatterCalcs!CI:CI,match(A4,BatterCalcs!A:A,0)),index(PitcherCalcs!CV:CV,match(A4,PitcherCalcs!A:A,0)))} -> 20.333333 | AE4: {=IFERROR(index(BatterCalcs!CR:CR,match(A4,BatterCalcs!A:A,0)),index(PitcherCalcs!BY:BY,match(A4,PitcherCalcs!A:A,0)))} -> S(5) R(4) | AG4: =IFERROR(__xludf.DUMMYFUNCTION("""COMPUTED_VALUE"""),"Teoscar Hernandez") -> Teoscar Hernandez | AH4: =IFERROR(__xludf.DUMMYFUNCTION("""COMPUTED_VALUE"""),"R") -> R | AI4: =IFERROR(__xludf.DUMMYFUNCTION("""COMPUTED_VALUE"""),32.0) -> 32 | AJ4: =IFERROR(__xludf.DUMMYFUNCTION("""COMPUTED_VALUE"""),23.0) -> 23 | AK4: =IFERROR(__xludf.DUMMYFUNCTION("""COMPUTED_VALUE"""),403.0) -> 403 | AL4: =IFERROR(__xludf.DUMMYFUNCTION("""COMPUTED_VALUE"""),"Cedric Mullins") -> Cedric Mullins | AM4: =IFERROR(__xludf.DUMMYFUNCTION("""COMPUTED_VALUE"""),"L") -> L | AN4: =IFERROR(__xludf.DUMMYFUNCTION("""COMPUTED_VALUE"""),-24.0) -> -24 | AO4: =IFERROR(__xludf.DUMMYFUNCTION("""COMPUTED_VALUE"""),14.0) -> 14 | AP4: =IFERROR(__xludf.DUMMYFUNCTION("""COMPUTED_VALUE"""),101.0) -> 101 | AQ4: =IFERROR(__xludf.DUMMYFUNCTION("""COMPUTED_VALUE"""),"Andy Pages") -> Andy Pages | AR4: =IFERROR(__xludf.DUMMYFUNCTION("""COMPUTED_VALUE"""),"R") -> R | AS4: =IFERROR(__xludf.DUMMYFUNCTION("""COMPUTED_VALUE"""),10.0) -> 10 | AT4: =IFERROR(__xludf.DUMMYFUNCTION("""COMPUTED_VALUE"""),-2.0) -> -2 | AU4: =IFERROR(__xludf.DUMMYFUNCTION("""COMPUTED_VALUE"""),205.0) -> 205 | AV4: David Fry | AW4: C | AX4: Shea Langaliers
A5: =IFERROR(__xludf.DUMMYFUNCTION("""COMPUTED_VALUE"""),12577.0) -> 12577 | B5: =IFERROR(__xludf.DUMMYFUNCTION("""COMPUTED_VALUE"""),"Ben Rice") -> Ben Rice | C5: =IFERROR(__xludf.DUMMYFUNCTION("""COMPUTED_VALUE"""),0.0) -> 0 | D5: =IFERROR(__xludf.DUMMYFUNCTION("""COMPUTED_VALUE"""),"https://sba-cards-2024.s3.us-east-1.amazonaws.com/2024-cards/ben-rice.png") -> https://sba-cards-2024.s3.us-east-1.amazonaws.com/2024-cards/ben-rice.png | I5: =IFERROR(__xludf.DUMMYFUNCTION("""COMPUTED_VALUE"""),-2.0) -> -2 | K5: =IFERROR(__xludf.DUMMYFUNCTION("""COMPUTED_VALUE"""),"1p30") -> 1p30 | L5: {=iferror(index(BatterCalcs!D:D,match(A5,BatterCalcs!A:A,0)),index(PitcherCalcs!E:E,match(A5,PitcherCalcs!A:A,0)))} -> L | M5: {=iferror(index(BatterCalcs!CJ:CQ,match(A5,BatterCalcs!A:A,0)),)} -> 402 | N5: 408 | U5: {=iferror(index(BatterCalcs!CK:CM,match(A5,BatterCalcs!E:E,0)),)} | X5: {=iferror(index(PitcherCalcs!CL:CL,match(A5,PitcherCalcs!F:F,0)),)} | Y5: {=iferror(index(PitcherCalcs!CD:CF,match(A5,PitcherCalcs!A:A,0)),)} | AB5: {=iferror(index(BatterCalcs!CG:CG,match(A5,BatterCalcs!A:A,0)),index(PitcherCalcs!CT:CT,match(A5,PitcherCalcs!A:A,0)))} -> -15 | AC5: {=iferror(index(BatterCalcs!CH:CH,match(A5,BatterCalcs!A:A,0)),index(PitcherCalcs!CU:CU,match(A5,PitcherCalcs!A:A,0)))} -> -15 | AD5: {=iferror(index(BatterCalcs!CI:CI,match(A5,BatterCalcs!A:A,0)),index(PitcherCalcs!CV:CV,match(A5,PitcherCalcs!A:A,0)))} -> -13 | AE5: {=IFERROR(index(BatterCalcs!CR:CR,match(A5,BatterCalcs!A:A,0)),index(PitcherCalcs!BY:BY,match(A5,PitcherCalcs!A:A,0)))} -> 1b-4e8 c-4(+2)e2,T-2(pb-0) | AG5: =IFERROR(__xludf.DUMMYFUNCTION("""COMPUTED_VALUE"""),"Andy Pages") -> Andy Pages | AH5: =IFERROR(__xludf.DUMMYFUNCTION("""COMPUTED_VALUE"""),"R") -> R | AI5: =IFERROR(__xludf.DUMMYFUNCTION("""COMPUTED_VALUE"""),10.0) -> 10 | AJ5: =IFERROR(__xludf.DUMMYFUNCTION("""COMPUTED_VALUE"""),-2.0) -> -2 | AK5: =IFERROR(__xludf.DUMMYFUNCTION("""COMPUTED_VALUE"""),205.0) -> 205 | AL5: =IFERROR(__xludf.DUMMYFUNCTION("""COMPUTED_VALUE"""),"Andy Pages") -> Andy Pages | AM5: =IFERROR(__xludf.DUMMYFUNCTION("""COMPUTED_VALUE"""),"R") -> R | AN5: =IFERROR(__xludf.DUMMYFUNCTION("""COMPUTED_VALUE"""),10.0) -> 10 | AO5: =IFERROR(__xludf.DUMMYFUNCTION("""COMPUTED_VALUE"""),-2.0) -> -2 | AP5: =IFERROR(__xludf.DUMMYFUNCTION("""COMPUTED_VALUE"""),305.0) -> 305 | AQ5: =IFERROR(__xludf.DUMMYFUNCTION("""COMPUTED_VALUE"""),"Mickey Moniak") -> Mickey Moniak | AR5: =IFERROR(__xludf.DUMMYFUNCTION("""COMPUTED_VALUE"""),"L") -> L | AS5: =IFERROR(__xludf.DUMMYFUNCTION("""COMPUTED_VALUE"""),-17.0) -> -17 | AT5: =IFERROR(__xludf.DUMMYFUNCTION("""COMPUTED_VALUE"""),-10.0) -> -10 | AU5: =IFERROR(__xludf.DUMMYFUNCTION("""COMPUTED_VALUE"""),306.0) -> 306 | AV5: Rhys Hoskins | AW5: 1B | AX5: Alec Burleson
A6: =IFERROR(__xludf.DUMMYFUNCTION("""COMPUTED_VALUE"""),12665.0) -> 12665 | B6: =IFERROR(__xludf.DUMMYFUNCTION("""COMPUTED_VALUE"""),"Cedric Mullins") -> Cedric Mullins | C6: =IFERROR(__xludf.DUMMYFUNCTION("""COMPUTED_VALUE"""),1.51) -> 1.51 | D6: =IFERROR(__xludf.DUMMYFUNCTION("""COMPUTED_VALUE"""),"https://sba-cards-2024.s3.us-east-1.amazonaws.com/2024-cards/cedric-mullins.png") -> https://sba-cards-2024.s3.us-east-1.amazonaws.com/2024-cards/cedric-mullins.png | I6: =IFERROR(__xludf.DUMMYFUNCTION("""COMPUTED_VALUE"""),-2.0) -> -2 | K6: =IFERROR(__xludf.DUMMYFUNCTION("""COMPUTED_VALUE"""),"1p65") -> 1p65 | L6: {=iferror(index(BatterCalcs!D:D,match(A6,BatterCalcs!A:A,0)),index(PitcherCalcs!E:E,match(A6,PitcherCalcs!A:A,0)))} -> L | M6: {=iferror(index(BatterCalcs!CJ:CQ,match(A6,BatterCalcs!A:A,0)),)} | S6: 101 | U6: {=iferror(index(BatterCalcs!CK:CM,match(A6,BatterCalcs!E:E,0)),)} | X6: {=iferror(index(PitcherCalcs!CL:CL,match(A6,PitcherCalcs!F:F,0)),)} | Y6: {=iferror(index(PitcherCalcs!CD:CF,match(A6,PitcherCalcs!A:A,0)),)} | AB6: {=iferror(index(BatterCalcs!CG:CG,match(A6,BatterCalcs!A:A,0)),index(PitcherCalcs!CT:CT,match(A6,PitcherCalcs!A:A,0)))} -> -24 | AC6: {=iferror(index(BatterCalcs!CH:CH,match(A6,BatterCalcs!A:A,0)),index(PitcherCalcs!CU:CU,match(A6,PitcherCalcs!A:A,0)))} -> 14 | AD6: {=iferror(index(BatterCalcs!CI:CI,match(A6,BatterCalcs!A:A,0)),index(PitcherCalcs!CV:CV,match(A6,PitcherCalcs!A:A,0)))} -> 14 | AE6: {=IFERROR(index(BatterCalcs!CR:CR,match(A6,BatterCalcs!A:A,0)),index(PitcherCalcs!BY:BY,match(A6,PitcherCalcs!A:A,0)))} -> cf-1(0)e1 | AG6: =IFERROR(__xludf.DUMMYFUNCTION("""COMPUTED_VALUE"""),"Mickey Moniak") -> Mickey Moniak | AH6: =IFERROR(__xludf.DUMMYFUNCTION("""COMPUTED_VALUE"""),"L") -> L | AI6: =IFERROR(__xludf.DUMMYFUNCTION("""COMPUTED_VALUE"""),-17.0) -> -17 | AJ6: =IFERROR(__xludf.DUMMYFUNCTION("""COMPUTED_VALUE"""),-10.0) -> -10 | AK6: =IFERROR(__xludf.DUMMYFUNCTION("""COMPUTED_VALUE"""),306.0) -> 306 | AL6: =IFERROR(__xludf.DUMMYFUNCTION("""COMPUTED_VALUE"""),"Mickey Moniak") -> Mickey Moniak | AM6: =IFERROR(__xludf.DUMMYFUNCTION("""COMPUTED_VALUE"""),"L") -> L | AN6: =IFERROR(__xludf.DUMMYFUNCTION("""COMPUTED_VALUE"""),-17.0) -> -17 | AO6: =IFERROR(__xludf.DUMMYFUNCTION("""COMPUTED_VALUE"""),-10.0) -> -10 | AP6: =IFERROR(__xludf.DUMMYFUNCTION("""COMPUTED_VALUE"""),306.0) -> 306 | AV6: Ramon Urias | AW6: 2B | AX6: Ramon Urias
A7: =IFERROR(__xludf.DUMMYFUNCTION("""COMPUTED_VALUE"""),12751.0) -> 12751 | B7: =IFERROR(__xludf.DUMMYFUNCTION("""COMPUTED_VALUE"""),"Dedniel Nunez") -> Dedniel Nunez | C7: =IFERROR(__xludf.DUMMYFUNCTION("""COMPUTED_VALUE"""),1.65) -> 1.65 | D7: =IFERROR(__xludf.DUMMYFUNCTION("""COMPUTED_VALUE"""),"https://sba-cards-2024.s3.us-east-1.amazonaws.com/2024-cards/dedniel-nunez.png") -> https://sba-cards-2024.s3.us-east-1.amazonaws.com/2024-cards/dedniel-nunez.png | I7: =IFERROR(__xludf.DUMMYFUNCTION("""COMPUTED_VALUE"""),-2.0) -> -2 | K7: =IFERROR(__xludf.DUMMYFUNCTION("""COMPUTED_VALUE"""),"5p20") -> 5p20 | L7: {=iferror(index(BatterCalcs!D:D,match(A7,BatterCalcs!A:A,0)),index(PitcherCalcs!E:E,match(A7,PitcherCalcs!A:A,0)))} -> R | M7: {=iferror(index(BatterCalcs!CJ:CQ,match(A7,BatterCalcs!A:A,0)),)} | U7: {=iferror(index(BatterCalcs!CK:CM,match(A7,BatterCalcs!E:E,0)),)} | X7: {=iferror(index(PitcherCalcs!CL:CL,match(A7,PitcherCalcs!F:F,0)),)} | Y7: {=iferror(index(PitcherCalcs!CD:CF,match(A7,PitcherCalcs!A:A,0)),)} | Z7: 2 | AA7: 0 | AB7: {=iferror(index(BatterCalcs!CG:CG,match(A7,BatterCalcs!A:A,0)),index(PitcherCalcs!CT:CT,match(A7,PitcherCalcs!A:A,0)))} -> 35 | AC7: {=iferror(index(BatterCalcs!CH:CH,match(A7,BatterCalcs!A:A,0)),index(PitcherCalcs!CU:CU,match(A7,PitcherCalcs!A:A,0)))} -> 46 | AD7: {=iferror(index(BatterCalcs!CI:CI,match(A7,BatterCalcs!A:A,0)),index(PitcherCalcs!CV:CV,match(A7,PitcherCalcs!A:A,0)))} -> 41.666667 | AE7: {=IFERROR(index(BatterCalcs!CR:CR,match(A7,BatterCalcs!A:A,0)),index(PitcherCalcs!BY:BY,match(A7,PitcherCalcs!A:A,0)))} -> R(2) C(0) | AG7: =IFERROR(__xludf.DUMMYFUNCTION("""COMPUTED_VALUE"""),"Ildemaro Vargas") -> Ildemaro Vargas | AH7: =IFERROR(__xludf.DUMMYFUNCTION("""COMPUTED_VALUE"""),"S") -> S | AI7: =IFERROR(__xludf.DUMMYFUNCTION("""COMPUTED_VALUE"""),-13.0) -> -13 | AJ7: =IFERROR(__xludf.DUMMYFUNCTION("""COMPUTED_VALUE"""),-22.0) -> -22 | AK7: =IFERROR(__xludf.DUMMYFUNCTION("""COMPUTED_VALUE"""),518.0) -> 518 | AV7: Alex Bregman | AW7: 3B | AX7: Alex Bregman
A8: =IFERROR(__xludf.DUMMYFUNCTION("""COMPUTED_VALUE"""),12752.0) -> 12752 | B8: =IFERROR(__xludf.DUMMYFUNCTION("""COMPUTED_VALUE"""),"Dennis Santana") -> Dennis Santana | C8: =IFERROR(__xludf.DUMMYFUNCTION("""COMPUTED_VALUE"""),0.9) -> 0.9 | D8: =IFERROR(__xludf.DUMMYFUNCTION("""COMPUTED_VALUE"""),"https://sba-cards-2024.s3.us-east-1.amazonaws.com/2024-cards/dennis-santana.png") -> https://sba-cards-2024.s3.us-east-1.amazonaws.com/2024-cards/dennis-santana.png | I8: =IFERROR(__xludf.DUMMYFUNCTION("""COMPUTED_VALUE"""),-2.0) -> -2 | K8: =IFERROR(__xludf.DUMMYFUNCTION("""COMPUTED_VALUE"""),"1p40") -> 1p40 | L8: {=iferror(index(BatterCalcs!D:D,match(A8,BatterCalcs!A:A,0)),index(PitcherCalcs!E:E,match(A8,PitcherCalcs!A:A,0)))} -> R | M8: {=iferror(index(BatterCalcs!CJ:CQ,match(A8,BatterCalcs!A:A,0)),)} | U8: {=iferror(index(BatterCalcs!CK:CM,match(A8,BatterCalcs!E:E,0)),)} | X8: {=iferror(index(PitcherCalcs!CL:CL,match(A8,PitcherCalcs!F:F,0)),)} | Y8: {=iferror(index(PitcherCalcs!CD:CF,match(A8,PitcherCalcs!A:A,0)),)} | Z8: 2 | AA8: 2 | AB8: {=iferror(index(BatterCalcs!CG:CG,match(A8,BatterCalcs!A:A,0)),index(PitcherCalcs!CT:CT,match(A8,PitcherCalcs!A:A,0)))} -> 22 | AC8: {=iferror(index(BatterCalcs!CH:CH,match(A8,BatterCalcs!A:A,0)),index(PitcherCalcs!CU:CU,match(A8,PitcherCalcs!A:A,0)))} -> 20 | AD8: {=iferror(index(BatterCalcs!CI:CI,match(A8,BatterCalcs!A:A,0)),index(PitcherCalcs!CV:CV,match(A8,PitcherCalcs!A:A,0)))} -> 25.666667 | AE8: {=IFERROR(index(BatterCalcs!CR:CR,match(A8,BatterCalcs!A:A,0)),index(PitcherCalcs!BY:BY,match(A8,PitcherCalcs!A:A,0)))} -> R(2) C(2) | AV8: Trea Turner | AW8: SS | AX8: Trea Turner
A9: =IFERROR(__xludf.DUMMYFUNCTION("""COMPUTED_VALUE"""),12857.0) -> 12857 | B9: =IFERROR(__xludf.DUMMYFUNCTION("""COMPUTED_VALUE"""),"Griffin Canning") -> Griffin Canning | C9: =IFERROR(__xludf.DUMMYFUNCTION("""COMPUTED_VALUE"""),0.08) -> 0.08 | D9: =IFERROR(__xludf.DUMMYFUNCTION("""COMPUTED_VALUE"""),"https://sba-cards-2024.s3.us-east-1.amazonaws.com/2024-cards/griffin-canning.png") -> https://sba-cards-2024.s3.us-east-1.amazonaws.com/2024-cards/griffin-canning.png | I9: =IFERROR(__xludf.DUMMYFUNCTION("""COMPUTED_VALUE"""),-2.0) -> -2 | K9: =IFERROR(__xludf.DUMMYFUNCTION("""COMPUTED_VALUE"""),"1p70") -> 1p70 | L9: {=iferror(index(BatterCalcs!D:D,match(A9,BatterCalcs!A:A,0)),index(PitcherCalcs!E:E,match(A9,PitcherCalcs!A:A,0)))} -> R | M9: {=iferror(index(BatterCalcs!CJ:CQ,match(A9,BatterCalcs!A:A,0)),)} | U9: {=iferror(index(BatterCalcs!CK:CM,match(A9,BatterCalcs!E:E,0)),)} | X9: {=iferror(index(PitcherCalcs!CL:CL,match(A9,PitcherCalcs!F:F,0)),)} | Y9: {=iferror(index(PitcherCalcs!CD:CF,match(A9,PitcherCalcs!A:A,0)),)} -> 5 | AB9: {=iferror(index(BatterCalcs!CG:CG,match(A9,BatterCalcs!A:A,0)),index(PitcherCalcs!CT:CT,match(A9,PitcherCalcs!A:A,0)))} -> -22 | AC9: {=iferror(index(BatterCalcs!CH:CH,match(A9,BatterCalcs!A:A,0)),index(PitcherCalcs!CU:CU,match(A9,PitcherCalcs!A:A,0)))} -> -9 | AD9: {=iferror(index(BatterCalcs!CI:CI,match(A9,BatterCalcs!A:A,0)),index(PitcherCalcs!CV:CV,match(A9,PitcherCalcs!A:A,0)))} -> -10.666667 | AE9: {=IFERROR(index(BatterCalcs!CR:CR,match(A9,BatterCalcs!A:A,0)),index(PitcherCalcs!BY:BY,match(A9,PitcherCalcs!A:A,0)))} -> S(5) | AV9: Steven Kwan | AW9: LF | AX9: Steven Kwan
A10: =IFERROR(__xludf.DUMMYFUNCTION("""COMPUTED_VALUE"""),12885.0) -> 12885 | B10: =IFERROR(__xludf.DUMMYFUNCTION("""COMPUTED_VALUE"""),"Ildemaro Vargas") -> Ildemaro Vargas | C10: =IFERROR(__xludf.DUMMYFUNCTION("""COMPUTED_VALUE"""),0.0) -> 0 | D10: =IFERROR(__xludf.DUMMYFUNCTION("""COMPUTED_VALUE"""),"https://sba-cards-2024.s3.us-east-1.amazonaws.com/2024-cards/ildemaro-vargas.png") -> https://sba-cards-2024.s3.us-east-1.amazonaws.com/2024-cards/ildemaro-vargas.png | I10: =IFERROR(__xludf.DUMMYFUNCTION("""COMPUTED_VALUE"""),-2.0) -> -2 | K10: =IFERROR(__xludf.DUMMYFUNCTION("""COMPUTED_VALUE"""),"1p50") -> 1p50 | L10: {=iferror(index(BatterCalcs!D:D,match(A10,BatterCalcs!A:A,0)),index(PitcherCalcs!E:E,match(A10,PitcherCalcs!A:A,0)))} -> S | M10: {=iferror(index(BatterCalcs!CJ:CQ,match(A10,BatterCalcs!A:A,0)),)} | N10: 425 | O10: 303 | P10: 219 | Q10: 427 | R10: 518 | U10: {=iferror(index(BatterCalcs!CK:CM,match(A10,BatterCalcs!E:E,0)),)} | X10: {=iferror(index(PitcherCalcs!CL:CL,match(A10,PitcherCalcs!F:F,0)),)} | Y10: {=iferror(index(PitcherCalcs!CD:CF,match(A10,PitcherCalcs!A:A,0)),)} | AB10: {=iferror(index(BatterCalcs!CG:CG,match(A10,BatterCalcs!A:A,0)),index(PitcherCalcs!CT:CT,match(A10,PitcherCalcs!A:A,0)))} -> -13 | AC10: {=iferror(index(BatterCalcs!CH:CH,match(A10,BatterCalcs!A:A,0)),index(PitcherCalcs!CU:CU,match(A10,PitcherCalcs!A:A,0)))} -> -22 | AD10: {=iferror(index(BatterCalcs!CI:CI,match(A10,BatterCalcs!A:A,0)),index(PitcherCalcs!CV:CV,match(A10,PitcherCalcs!A:A,0)))} -> -14 | AE10: {=IFERROR(index(BatterCalcs!CR:CR,match(A10,BatterCalcs!A:A,0)),index(PitcherCalcs!BY:BY,match(A10,PitcherCalcs!A:A,0)))} -> 3b-2e19 2b-3e3 lf-5(0)e18 ss-4e27 1b-4e25 | AG10: Third Base | AL10: Shortstop | AQ10: Second Base | AV10: Blake Perkins | AW10: CF | AX10: Blake Perkins
A11: =IFERROR(__xludf.DUMMYFUNCTION("""COMPUTED_VALUE"""),12927.0) -> 12927 | B11: =IFERROR(__xludf.DUMMYFUNCTION("""COMPUTED_VALUE"""),"Jared Jones") -> Jared Jones | C11: =IFERROR(__xludf.DUMMYFUNCTION("""COMPUTED_VALUE"""),1.11) -> 1.11 | D11: =IFERROR(__xludf.DUMMYFUNCTION("""COMPUTED_VALUE"""),"https://sba-cards-2024.s3.us-east-1.amazonaws.com/2024-cards/jared-jones.png") -> https://sba-cards-2024.s3.us-east-1.amazonaws.com/2024-cards/jared-jones.png | I11: =IFERROR(__xludf.DUMMYFUNCTION("""COMPUTED_VALUE"""),-2.0) -> -2 | K11: =IFERROR(__xludf.DUMMYFUNCTION("""COMPUTED_VALUE"""),"2p65") -> 2p65 | L11: {=iferror(index(BatterCalcs!D:D,match(A11,BatterCalcs!A:A,0)),index(PitcherCalcs!E:E,match(A11,PitcherCalcs!A:A,0)))} -> R | M11: {=iferror(index(BatterCalcs!CJ:CQ,match(A11,BatterCalcs!A:A,0)),)} | U11: {=iferror(index(BatterCalcs!CK:CM,match(A11,BatterCalcs!E:E,0)),)} | X11: {=iferror(index(PitcherCalcs!CL:CL,match(A11,PitcherCalcs!F:F,0)),)} | Y11: {=iferror(index(PitcherCalcs!CD:CF,match(A11,PitcherCalcs!A:A,0)),)} -> 5 | AB11: {=iferror(index(BatterCalcs!CG:CG,match(A11,BatterCalcs!A:A,0)),index(PitcherCalcs!CT:CT,match(A11,PitcherCalcs!A:A,0)))} -> 9 | AC11: {=iferror(index(BatterCalcs!CH:CH,match(A11,BatterCalcs!A:A,0)),index(PitcherCalcs!CU:CU,match(A11,PitcherCalcs!A:A,0)))} -> 7 | AD11: {=iferror(index(BatterCalcs!CI:CI,match(A11,BatterCalcs!A:A,0)),index(PitcherCalcs!CV:CV,match(A11,PitcherCalcs!A:A,0)))} -> 12.666667 | AE11: {=IFERROR(index(BatterCalcs!CR:CR,match(A11,BatterCalcs!A:A,0)),index(PitcherCalcs!BY:BY,match(A11,PitcherCalcs!A:A,0)))} -> S(5) | AG11: Name | AH11: H | AI11: vL | AJ11: vR | AK11: Def | AL11: Name | AM11: H | AN11: vL | AO11: vR | AP11: Def | AQ11: Name | AR11: H | AS11: vL | AT11: vR | AU11: Def | AV11: Jo Adell | AW11: RF | AX11: Ronald Acuna Jr
A12: =IFERROR(__xludf.DUMMYFUNCTION("""COMPUTED_VALUE"""),12961.0) -> 12961 | B12: =IFERROR(__xludf.DUMMYFUNCTION("""COMPUTED_VALUE"""),"JJ Bleday") -> JJ Bleday | C12: =IFERROR(__xludf.DUMMYFUNCTION("""COMPUTED_VALUE"""),0.95) -> 0.95 | D12: =IFERROR(__xludf.DUMMYFUNCTION("""COMPUTED_VALUE"""),"https://sba-cards-2024.s3.us-east-1.amazonaws.com/2024-cards/jj-bleday.png") -> https://sba-cards-2024.s3.us-east-1.amazonaws.com/2024-cards/jj-bleday.png | I12: =IFERROR(__xludf.DUMMYFUNCTION("""COMPUTED_VALUE"""),-2.0) -> -2 | K12: =IFERROR(__xludf.DUMMYFUNCTION("""COMPUTED_VALUE"""),"1p70") -> 1p70 | L12: {=iferror(index(BatterCalcs!D:D,match(A12,BatterCalcs!A:A,0)),index(PitcherCalcs!E:E,match(A12,PitcherCalcs!A:A,0)))} -> L | M12: {=iferror(index(BatterCalcs!CJ:CQ,match(A12,BatterCalcs!A:A,0)),)} | S12: 406 | U12: {=iferror(index(BatterCalcs!CK:CM,match(A12,BatterCalcs!E:E,0)),)} | X12: {=iferror(index(PitcherCalcs!CL:CL,match(A12,PitcherCalcs!F:F,0)),)} | Y12: {=iferror(index(PitcherCalcs!CD:CF,match(A12,PitcherCalcs!A:A,0)),)} | AB12: {=iferror(index(BatterCalcs!CG:CG,match(A12,BatterCalcs!A:A,0)),index(PitcherCalcs!CT:CT,match(A12,PitcherCalcs!A:A,0)))} -> 14 | AC12: {=iferror(index(BatterCalcs!CH:CH,match(A12,BatterCalcs!A:A,0)),index(PitcherCalcs!CU:CU,match(A12,PitcherCalcs!A:A,0)))} -> 13 | AD12: {=iferror(index(BatterCalcs!CI:CI,match(A12,BatterCalcs!A:A,0)),index(PitcherCalcs!CV:CV,match(A12,PitcherCalcs!A:A,0)))} -> 21 | AE12: {=IFERROR(index(BatterCalcs!CR:CR,match(A12,BatterCalcs!A:A,0)),index(PitcherCalcs!BY:BY,match(A12,PitcherCalcs!A:A,0)))} -> cf-4(-2)e6 | AG12: =IFERROR(__xludf.DUMMYFUNCTION("query($A$2:$AE$28,""select B, L, AB, AC, P where P is not null order by AD desc"")"),"Mark Vientos") -> Mark Vientos | AH12: =IFERROR(__xludf.DUMMYFUNCTION("""COMPUTED_VALUE"""),"R") -> R | AI12: =IFERROR(__xludf.DUMMYFUNCTION("""COMPUTED_VALUE"""),30.0) -> 30 | AJ12: =IFERROR(__xludf.DUMMYFUNCTION("""COMPUTED_VALUE"""),21.0) -> 21 | AK12: =IFERROR(__xludf.DUMMYFUNCTION("""COMPUTED_VALUE"""),408.0) -> 408 | AL12: =IFERROR(__xludf.DUMMYFUNCTION("query($A$2:$AE$28,""select B, L, AB, AC, Q where Q is not null order by AD desc"")"),"Trea Turner") -> Trea Turner | AM12: =IFERROR(__xludf.DUMMYFUNCTION("""COMPUTED_VALUE"""),"R") -> R | AN12: =IFERROR(__xludf.DUMMYFUNCTION("""COMPUTED_VALUE"""),32.0) -> 32 | AO12: =IFERROR(__xludf.DUMMYFUNCTION("""COMPUTED_VALUE"""),15.0) -> 15 | AP12: =IFERROR(__xludf.DUMMYFUNCTION("""COMPUTED_VALUE"""),324.0) -> 324 | AQ12: =IFERROR(__xludf.DUMMYFUNCTION("query($A$2:$AE$28,""select B, L, AB, AC, O where O is not null order by AD desc"")"),"Jorge Polanco") -> Jorge Polanco | AR12: =IFERROR(__xludf.DUMMYFUNCTION("""COMPUTED_VALUE"""),"S") -> S | AS12: =IFERROR(__xludf.DUMMYFUNCTION("""COMPUTED_VALUE"""),-9.0) -> -9 | AT12: =IFERROR(__xludf.DUMMYFUNCTION("""COMPUTED_VALUE"""),-16.0) -> -16 | AU12: =IFERROR(__xludf.DUMMYFUNCTION("""COMPUTED_VALUE"""),411.0) -> 411 | AV12: Ronald Acuna Jr | AW12: DH | AX12: Andrew McCutchen
A13: =IFERROR(__xludf.DUMMYFUNCTION("""COMPUTED_VALUE"""),12967.0) -> 12967 | B13: =IFERROR(__xludf.DUMMYFUNCTION("""COMPUTED_VALUE"""),"Joe Mantiply") -> Joe Mantiply | C13: =IFERROR(__xludf.DUMMYFUNCTION("""COMPUTED_VALUE"""),0.48) -> 0.48 | D13: =IFERROR(__xludf.DUMMYFUNCTION("""COMPUTED_VALUE"""),"https://sba-cards-2024.s3.us-east-1.amazonaws.com/2024-cards/joe-mantiply.png") -> https://sba-cards-2024.s3.us-east-1.amazonaws.com/2024-cards/joe-mantiply.png | I13: =IFERROR(__xludf.DUMMYFUNCTION("""COMPUTED_VALUE"""),-2.0) -> -2 | K13: =IFERROR(__xludf.DUMMYFUNCTION("""COMPUTED_VALUE"""),"0p72") -> 0p72 | L13: {=iferror(index(BatterCalcs!D:D,match(A13,BatterCalcs!A:A,0)),index(PitcherCalcs!E:E,match(A13,PitcherCalcs!A:A,0)))} -> L | M13: {=iferror(index(BatterCalcs!CJ:CQ,match(A13,BatterCalcs!A:A,0)),)} | U13: {=iferror(index(BatterCalcs!CK:CM,match(A13,BatterCalcs!E:E,0)),)} | X13: {=iferror(index(PitcherCalcs!CL:CL,match(A13,PitcherCalcs!F:F,0)),)} | Y13: {=iferror(index(PitcherCalcs!CD:CF,match(A13,PitcherCalcs!A:A,0)),)} -> 1 | Z13: 1 | AA13: 0 | AB13: {=iferror(index(BatterCalcs!CG:CG,match(A13,BatterCalcs!A:A,0)),index(PitcherCalcs!CT:CT,match(A13,PitcherCalcs!A:A,0)))} -> 35 | AC13: {=iferror(index(BatterCalcs!CH:CH,match(A13,BatterCalcs!A:A,0)),index(PitcherCalcs!CU:CU,match(A13,PitcherCalcs!A:A,0)))} -> 10 | AD13: {=iferror(index(BatterCalcs!CI:CI,match(A13,BatterCalcs!A:A,0)),index(PitcherCalcs!CV:CV,match(A13,PitcherCalcs!A:A,0)))} -> 27.333333 | AE13: {=IFERROR(index(BatterCalcs!CR:CR,match(A13,BatterCalcs!A:A,0)),index(PitcherCalcs!BY:BY,match(A13,PitcherCalcs!A:A,0)))} -> S(1) R(1) C(0) | AG13: =IFERROR(__xludf.DUMMYFUNCTION("""COMPUTED_VALUE"""),"Ildemaro Vargas") -> Ildemaro Vargas | AH13: =IFERROR(__xludf.DUMMYFUNCTION("""COMPUTED_VALUE"""),"S") -> S | AI13: =IFERROR(__xludf.DUMMYFUNCTION("""COMPUTED_VALUE"""),-13.0) -> -13 | AJ13: =IFERROR(__xludf.DUMMYFUNCTION("""COMPUTED_VALUE"""),-22.0) -> -22 | AK13: =IFERROR(__xludf.DUMMYFUNCTION("""COMPUTED_VALUE"""),219.0) -> 219 | AL13: =IFERROR(__xludf.DUMMYFUNCTION("""COMPUTED_VALUE"""),"Ildemaro Vargas") -> Ildemaro Vargas | AM13: =IFERROR(__xludf.DUMMYFUNCTION("""COMPUTED_VALUE"""),"S") -> S | AN13: =IFERROR(__xludf.DUMMYFUNCTION("""COMPUTED_VALUE"""),-13.0) -> -13 | AO13: =IFERROR(__xludf.DUMMYFUNCTION("""COMPUTED_VALUE"""),-22.0) -> -22 | AP13: =IFERROR(__xludf.DUMMYFUNCTION("""COMPUTED_VALUE"""),427.0) -> 427 | AQ13: =IFERROR(__xludf.DUMMYFUNCTION("""COMPUTED_VALUE"""),"Ildemaro Vargas") -> Ildemaro Vargas | AR13: =IFERROR(__xludf.DUMMYFUNCTION("""COMPUTED_VALUE"""),"S") -> S | AS13: =IFERROR(__xludf.DUMMYFUNCTION("""COMPUTED_VALUE"""),-13.0) -> -13 | AT13: =IFERROR(__xludf.DUMMYFUNCTION("""COMPUTED_VALUE"""),-22.0) -> -22 | AU13: =IFERROR(__xludf.DUMMYFUNCTION("""COMPUTED_VALUE"""),303.0) -> 303
A14: =IFERROR(__xludf.DUMMYFUNCTION("""COMPUTED_VALUE"""),12983.0) -> 12983 | B14: =IFERROR(__xludf.DUMMYFUNCTION("""COMPUTED_VALUE"""),"John Schreiber") -> John Schreiber | C14: =IFERROR(__xludf.DUMMYFUNCTION("""COMPUTED_VALUE"""),0.46) -> 0.46 | D14: =IFERROR(__xludf.DUMMYFUNCTION("""COMPUTED_VALUE"""),"https://sba-cards-2024.s3.us-east-1.amazonaws.com/2024-cards/john-schreiber.png") -> https://sba-cards-2024.s3.us-east-1.amazonaws.com/2024-cards/john-schreiber.png | I14: =IFERROR(__xludf.DUMMYFUNCTION("""COMPUTED_VALUE"""),-2.0) -> -2 | K14: =IFERROR(__xludf.DUMMYFUNCTION("""COMPUTED_VALUE"""),"2p40") -> 2p40 | L14: {=iferror(index(BatterCalcs!D:D,match(A14,BatterCalcs!A:A,0)),index(PitcherCalcs!E:E,match(A14,PitcherCalcs!A:A,0)))} -> R | M14: {=iferror(index(BatterCalcs!CJ:CQ,match(A14,BatterCalcs!A:A,0)),)} | U14: {=iferror(index(BatterCalcs!CK:CM,match(A14,BatterCalcs!E:E,0)),)} | X14: {=iferror(index(PitcherCalcs!CL:CL,match(A14,PitcherCalcs!F:F,0)),)} | Y14: {=iferror(index(PitcherCalcs!CD:CF,match(A14,PitcherCalcs!A:A,0)),)} | Z14: 1 | AA14: 1 | AB14: {=iferror(index(BatterCalcs!CG:CG,match(A14,BatterCalcs!A:A,0)),index(PitcherCalcs!CT:CT,match(A14,PitcherCalcs!A:A,0)))} -> 10 | AC14: {=iferror(index(BatterCalcs!CH:CH,match(A14,BatterCalcs!A:A,0)),index(PitcherCalcs!CU:CU,match(A14,PitcherCalcs!A:A,0)))} -> 24 | AD14: {=iferror(index(BatterCalcs!CI:CI,match(A14,BatterCalcs!A:A,0)),index(PitcherCalcs!CV:CV,match(A14,PitcherCalcs!A:A,0)))} -> 18.666667 | AE14: {=IFERROR(index(BatterCalcs!CR:CR,match(A14,BatterCalcs!A:A,0)),index(PitcherCalcs!BY:BY,match(A14,PitcherCalcs!A:A,0)))} -> R(1) C(1)
A15: =IFERROR(__xludf.DUMMYFUNCTION("""COMPUTED_VALUE"""),13007.0) -> 13007 | B15: =IFERROR(__xludf.DUMMYFUNCTION("""COMPUTED_VALUE"""),"Jorge Polanco") -> Jorge Polanco | C15: =IFERROR(__xludf.DUMMYFUNCTION("""COMPUTED_VALUE"""),0.48) -> 0.48 | D15: =IFERROR(__xludf.DUMMYFUNCTION("""COMPUTED_VALUE"""),"https://sba-cards-2024.s3.us-east-1.amazonaws.com/2024-cards/jorge-polanco.png") -> https://sba-cards-2024.s3.us-east-1.amazonaws.com/2024-cards/jorge-polanco.png | I15: =IFERROR(__xludf.DUMMYFUNCTION("""COMPUTED_VALUE"""),-2.0) -> -2 | K15: =IFERROR(__xludf.DUMMYFUNCTION("""COMPUTED_VALUE"""),"2p60") -> 2p60 | L15: {=iferror(index(BatterCalcs!D:D,match(A15,BatterCalcs!A:A,0)),index(PitcherCalcs!E:E,match(A15,PitcherCalcs!A:A,0)))} -> S | M15: {=iferror(index(BatterCalcs!CJ:CQ,match(A15,BatterCalcs!A:A,0)),)} | O15: 411 | U15: {=iferror(index(BatterCalcs!CK:CM,match(A15,BatterCalcs!E:E,0)),)} | X15: {=iferror(index(PitcherCalcs!CL:CL,match(A15,PitcherCalcs!F:F,0)),)} | Y15: {=iferror(index(PitcherCalcs!CD:CF,match(A15,PitcherCalcs!A:A,0)),)} | AB15: {=iferror(index(BatterCalcs!CG:CG,match(A15,BatterCalcs!A:A,0)),index(PitcherCalcs!CT:CT,match(A15,PitcherCalcs!A:A,0)))} -> -9 | AC15: {=iferror(index(BatterCalcs!CH:CH,match(A15,BatterCalcs!A:A,0)),index(PitcherCalcs!CU:CU,match(A15,PitcherCalcs!A:A,0)))} -> -16 | AD15: {=iferror(index(BatterCalcs!CI:CI,match(A15,BatterCalcs!A:A,0)),index(PitcherCalcs!CV:CV,match(A15,PitcherCalcs!A:A,0)))} -> -11 | AE15: {=IFERROR(index(BatterCalcs!CR:CR,match(A15,BatterCalcs!A:A,0)),index(PitcherCalcs!BY:BY,match(A15,PitcherCalcs!A:A,0)))} -> 2b-4e11
A16: =IFERROR(__xludf.DUMMYFUNCTION("""COMPUTED_VALUE"""),13036.0) -> 13036 | B16: =IFERROR(__xludf.DUMMYFUNCTION("""COMPUTED_VALUE"""),"Josh Naylor") -> Josh Naylor | C16: =IFERROR(__xludf.DUMMYFUNCTION("""COMPUTED_VALUE"""),0.69) -> 0.69 | D16: =IFERROR(__xludf.DUMMYFUNCTION("""COMPUTED_VALUE"""),"https://sba-cards-2024.s3.us-east-1.amazonaws.com/2024-cards/josh-naylor.png") -> https://sba-cards-2024.s3.us-east-1.amazonaws.com/2024-cards/josh-naylor.png | I16: =IFERROR(__xludf.DUMMYFUNCTION("""COMPUTED_VALUE"""),-2.0) -> -2 | K16: =IFERROR(__xludf.DUMMYFUNCTION("""COMPUTED_VALUE"""),"1p70") -> 1p70 | L16: {=iferror(index(BatterCalcs!D:D,match(A16,BatterCalcs!A:A,0)),index(PitcherCalcs!E:E,match(A16,PitcherCalcs!A:A,0)))} -> L | M16: {=iferror(index(BatterCalcs!CJ:CQ,match(A16,BatterCalcs!A:A,0)),)} | N16: 311 | U16: {=iferror(index(BatterCalcs!CK:CM,match(A16,BatterCalcs!E:E,0)),)} | X16: {=iferror(index(PitcherCalcs!CL:CL,match(A16,PitcherCalcs!F:F,0)),)} | Y16: {=iferror(index(PitcherCalcs!CD:CF,match(A16,PitcherCalcs!A:A,0)),)} | AB16: {=iferror(index(BatterCalcs!CG:CG,match(A16,BatterCalcs!A:A,0)),index(PitcherCalcs!CT:CT,match(A16,PitcherCalcs!A:A,0)))} -> 5 | AC16: {=iferror(index(BatterCalcs!CH:CH,match(A16,BatterCalcs!A:A,0)),index(PitcherCalcs!CU:CU,match(A16,PitcherCalcs!A:A,0)))} -> 12 | AD16: {=iferror(index(BatterCalcs!CI:CI,match(A16,BatterCalcs!A:A,0)),index(PitcherCalcs!CV:CV,match(A16,PitcherCalcs!A:A,0)))} -> 18 | AE16: {=IFERROR(index(BatterCalcs!CR:CR,match(A16,BatterCalcs!A:A,0)),index(PitcherCalcs!BY:BY,match(A16,PitcherCalcs!A:A,0)))} -> 1b-3e11
A17: =IFERROR(__xludf.DUMMYFUNCTION("""COMPUTED_VALUE"""),13046.0) -> 13046 | B17: =IFERROR(__xludf.DUMMYFUNCTION("""COMPUTED_VALUE"""),"JT Realmuto") -> JT Realmuto | C17: =IFERROR(__xludf.DUMMYFUNCTION("""COMPUTED_VALUE"""),2.11) -> 2.11 | D17: =IFERROR(__xludf.DUMMYFUNCTION("""COMPUTED_VALUE"""),"https://sba-cards-2024.s3.us-east-1.amazonaws.com/2024-cards/jt-realmuto.png") -> https://sba-cards-2024.s3.us-east-1.amazonaws.com/2024-cards/jt-realmuto.png | I17: =IFERROR(__xludf.DUMMYFUNCTION("""COMPUTED_VALUE"""),-2.0) -> -2 | K17: =IFERROR(__xludf.DUMMYFUNCTION("""COMPUTED_VALUE"""),"4p50") -> 4p50 | L17: {=iferror(index(BatterCalcs!D:D,match(A17,BatterCalcs!A:A,0)),index(PitcherCalcs!E:E,match(A17,PitcherCalcs!A:A,0)))} -> R | M17: {=iferror(index(BatterCalcs!CJ:CQ,match(A17,BatterCalcs!A:A,0)),)} -> 201 | U17: {=iferror(index(BatterCalcs!CK:CM,match(A17,BatterCalcs!E:E,0)),)} | X17: {=iferror(index(PitcherCalcs!CL:CL,match(A17,PitcherCalcs!F:F,0)),)} | Y17: {=iferror(index(PitcherCalcs!CD:CF,match(A17,PitcherCalcs!A:A,0)),)} | AB17: {=iferror(index(BatterCalcs!CG:CG,match(A17,BatterCalcs!A:A,0)),index(PitcherCalcs!CT:CT,match(A17,PitcherCalcs!A:A,0)))} -> 15 | AC17: {=iferror(index(BatterCalcs!CH:CH,match(A17,BatterCalcs!A:A,0)),index(PitcherCalcs!CU:CU,match(A17,PitcherCalcs!A:A,0)))} -> 5 | AD17: {=iferror(index(BatterCalcs!CI:CI,match(A17,BatterCalcs!A:A,0)),index(PitcherCalcs!CV:CV,match(A17,PitcherCalcs!A:A,0)))} -> 7 | AE17: {=IFERROR(index(BatterCalcs!CR:CR,match(A17,BatterCalcs!A:A,0)),index(PitcherCalcs!BY:BY,match(A17,PitcherCalcs!A:A,0)))} -> c-2(-3)e1,T-7(pb-1)
A18: =IFERROR(__xludf.DUMMYFUNCTION("""COMPUTED_VALUE"""),13158.0) -> 13158 | B18: =IFERROR(__xludf.DUMMYFUNCTION("""COMPUTED_VALUE"""),"Mark Vientos") -> Mark Vientos | C18: =IFERROR(__xludf.DUMMYFUNCTION("""COMPUTED_VALUE"""),1.98) -> 1.98 | D18: =IFERROR(__xludf.DUMMYFUNCTION("""COMPUTED_VALUE"""),"https://sba-cards-2024.s3.us-east-1.amazonaws.com/2024-cards/mark-vientos.png") -> https://sba-cards-2024.s3.us-east-1.amazonaws.com/2024-cards/mark-vientos.png | I18: =IFERROR(__xludf.DUMMYFUNCTION("""COMPUTED_VALUE"""),-2.0) -> -2 | K18: =IFERROR(__xludf.DUMMYFUNCTION("""COMPUTED_VALUE"""),"1p50") -> 1p50 | L18: {=iferror(index(BatterCalcs!D:D,match(A18,BatterCalcs!A:A,0)),index(PitcherCalcs!E:E,match(A18,PitcherCalcs!A:A,0)))} -> R | M18: {=iferror(index(BatterCalcs!CJ:CQ,match(A18,BatterCalcs!A:A,0)),)} | N18: 412 | P18: 408 | U18: {=iferror(index(BatterCalcs!CK:CM,match(A18,BatterCalcs!E:E,0)),)} | X18: {=iferror(index(PitcherCalcs!CL:CL,match(A18,PitcherCalcs!F:F,0)),)} | Y18: {=iferror(index(PitcherCalcs!CD:CF,match(A18,PitcherCalcs!A:A,0)),)} | AB18: {=iferror(index(BatterCalcs!CG:CG,match(A18,BatterCalcs!A:A,0)),index(PitcherCalcs!CT:CT,match(A18,PitcherCalcs!A:A,0)))} -> 30 | AC18: {=iferror(index(BatterCalcs!CH:CH,match(A18,BatterCalcs!A:A,0)),index(PitcherCalcs!CU:CU,match(A18,PitcherCalcs!A:A,0)))} -> 21 | AD18: {=iferror(index(BatterCalcs!CI:CI,match(A18,BatterCalcs!A:A,0)),index(PitcherCalcs!CV:CV,match(A18,PitcherCalcs!A:A,0)))} -> 27 | AE18: {=IFERROR(index(BatterCalcs!CR:CR,match(A18,BatterCalcs!A:A,0)),index(PitcherCalcs!BY:BY,match(A18,PitcherCalcs!A:A,0)))} -> 3b-4e8 1b-4e12
A19: =IFERROR(__xludf.DUMMYFUNCTION("""COMPUTED_VALUE"""),13205.0) -> 13205 | B19: =IFERROR(__xludf.DUMMYFUNCTION("""COMPUTED_VALUE"""),"Mickey Moniak") -> Mickey Moniak | C19: =IFERROR(__xludf.DUMMYFUNCTION("""COMPUTED_VALUE"""),0.0) -> 0 | D19: =IFERROR(__xludf.DUMMYFUNCTION("""COMPUTED_VALUE"""),"https://sba-cards-2024.s3.us-east-1.amazonaws.com/2024-cards/mickey-moniak.png") -> https://sba-cards-2024.s3.us-east-1.amazonaws.com/2024-cards/mickey-moniak.png | I19: =IFERROR(__xludf.DUMMYFUNCTION("""COMPUTED_VALUE"""),-2.0) -> -2 | K19: =IFERROR(__xludf.DUMMYFUNCTION("""COMPUTED_VALUE"""),"1p60") -> 1p60 | L19: {=iferror(index(BatterCalcs!D:D,match(A19,BatterCalcs!A:A,0)),index(PitcherCalcs!E:E,match(A19,PitcherCalcs!A:A,0)))} -> L | M19: {=iferror(index(BatterCalcs!CJ:CQ,match(A19,BatterCalcs!A:A,0)),)} | R19: 306 | S19: 306 | T19: 306 | U19: {=iferror(index(BatterCalcs!CK:CM,match(A19,BatterCalcs!E:E,0)),)} | X19: {=iferror(index(PitcherCalcs!CL:CL,match(A19,PitcherCalcs!F:F,0)),)} | Y19: {=iferror(index(PitcherCalcs!CD:CF,match(A19,PitcherCalcs!A:A,0)),)} | AB19: {=iferror(index(BatterCalcs!CG:CG,match(A19,BatterCalcs!A:A,0)),index(PitcherCalcs!CT:CT,match(A19,PitcherCalcs!A:A,0)))} -> -17 | AC19: {=iferror(index(BatterCalcs!CH:CH,match(A19,BatterCalcs!A:A,0)),index(PitcherCalcs!CU:CU,match(A19,PitcherCalcs!A:A,0)))} -> -10 | AD19: {=iferror(index(BatterCalcs!CI:CI,match(A19,BatterCalcs!A:A,0)),index(PitcherCalcs!CV:CV,match(A19,PitcherCalcs!A:A,0)))} -> -6 | AE19: {=IFERROR(index(BatterCalcs!CR:CR,match(A19,BatterCalcs!A:A,0)),index(PitcherCalcs!BY:BY,match(A19,PitcherCalcs!A:A,0)))} -> cf-3(0)e6 rf-3e6 lf-3e6 | AL19: Catcher | AQ19: First Base
A20: =IFERROR(__xludf.DUMMYFUNCTION("""COMPUTED_VALUE"""),13290.0) -> 13290 | B20: =IFERROR(__xludf.DUMMYFUNCTION("""COMPUTED_VALUE"""),"Porter Hodge") -> Porter Hodge | C20: =IFERROR(__xludf.DUMMYFUNCTION("""COMPUTED_VALUE"""),1.45) -> 1.45 | D20: =IFERROR(__xludf.DUMMYFUNCTION("""COMPUTED_VALUE"""),"https://sba-cards-2024.s3.us-east-1.amazonaws.com/2024-cards/porter-hodge.png") -> https://sba-cards-2024.s3.us-east-1.amazonaws.com/2024-cards/porter-hodge.png | I20: =IFERROR(__xludf.DUMMYFUNCTION("""COMPUTED_VALUE"""),-2.0) -> -2 | K20: =IFERROR(__xludf.DUMMYFUNCTION("""COMPUTED_VALUE"""),"1p40") -> 1p40 | L20: {=iferror(index(BatterCalcs!D:D,match(A20,BatterCalcs!A:A,0)),index(PitcherCalcs!E:E,match(A20,PitcherCalcs!A:A,0)))} -> R | M20: {=iferror(index(BatterCalcs!CJ:CQ,match(A20,BatterCalcs!A:A,0)),)} | U20: {=iferror(index(BatterCalcs!CK:CM,match(A20,BatterCalcs!E:E,0)),)} | X20: {=iferror(index(PitcherCalcs!CL:CL,match(A20,PitcherCalcs!F:F,0)),)} | Y20: {=iferror(index(PitcherCalcs!CD:CF,match(A20,PitcherCalcs!A:A,0)),)} | Z20: 1 | AA20: 4 | AB20: {=iferror(index(BatterCalcs!CG:CG,match(A20,BatterCalcs!A:A,0)),index(PitcherCalcs!CT:CT,match(A20,PitcherCalcs!A:A,0)))} -> 33 | AC20: {=iferror(index(BatterCalcs!CH:CH,match(A20,BatterCalcs!A:A,0)),index(PitcherCalcs!CU:CU,match(A20,PitcherCalcs!A:A,0)))} -> 35 | AD20: {=iferror(index(BatterCalcs!CI:CI,match(A20,BatterCalcs!A:A,0)),index(PitcherCalcs!CV:CV,match(A20,PitcherCalcs!A:A,0)))} -> 38.666667 | AE20: {=IFERROR(index(BatterCalcs!CR:CR,match(A20,BatterCalcs!A:A,0)),index(PitcherCalcs!BY:BY,match(A20,PitcherCalcs!A:A,0)))} -> R(1) C(4) | AL20: Name | AM20: H | AN20: vL | AO20: vR | AP20: Def | AQ20: Name | AR20: H | AS20: vL | AT20: vR | AU20: Def
A21: =IFERROR(__xludf.DUMMYFUNCTION("""COMPUTED_VALUE"""),13331.0) -> 13331 | B21: =IFERROR(__xludf.DUMMYFUNCTION("""COMPUTED_VALUE"""),"Ryan Fernandez") -> Ryan Fernandez | C21: =IFERROR(__xludf.DUMMYFUNCTION("""COMPUTED_VALUE"""),0.72) -> 0.72 | D21: =IFERROR(__xludf.DUMMYFUNCTION("""COMPUTED_VALUE"""),"https://sba-cards-2024.s3.us-east-1.amazonaws.com/2024-cards/ryan-fernandez.png") -> https://sba-cards-2024.s3.us-east-1.amazonaws.com/2024-cards/ryan-fernandez.png | I21: =IFERROR(__xludf.DUMMYFUNCTION("""COMPUTED_VALUE"""),-2.0) -> -2 | K21: =IFERROR(__xludf.DUMMYFUNCTION("""COMPUTED_VALUE"""),"1p60") -> 1p60 | L21: {=iferror(index(BatterCalcs!D:D,match(A21,BatterCalcs!A:A,0)),index(PitcherCalcs!E:E,match(A21,PitcherCalcs!A:A,0)))} -> R | M21: {=iferror(index(BatterCalcs!CJ:CQ,match(A21,BatterCalcs!A:A,0)),)} | U21: {=iferror(index(BatterCalcs!CK:CM,match(A21,BatterCalcs!E:E,0)),)} | X21: {=iferror(index(PitcherCalcs!CL:CL,match(A21,PitcherCalcs!F:F,0)),)} | Y21: {=iferror(index(PitcherCalcs!CD:CF,match(A21,PitcherCalcs!A:A,0)),)} | Z21: 1 | AA21: 1 | AB21: {=iferror(index(BatterCalcs!CG:CG,match(A21,BatterCalcs!A:A,0)),index(PitcherCalcs!CT:CT,match(A21,PitcherCalcs!A:A,0)))} -> 25 | AC21: {=iferror(index(BatterCalcs!CH:CH,match(A21,BatterCalcs!A:A,0)),index(PitcherCalcs!CU:CU,match(A21,PitcherCalcs!A:A,0)))} -> 12 | AD21: {=iferror(index(BatterCalcs!CI:CI,match(A21,BatterCalcs!A:A,0)),index(PitcherCalcs!CV:CV,match(A21,PitcherCalcs!A:A,0)))} -> 21.333333 | AE21: {=IFERROR(index(BatterCalcs!CR:CR,match(A21,BatterCalcs!A:A,0)),index(PitcherCalcs!BY:BY,match(A21,PitcherCalcs!A:A,0)))} -> R(1) C(1) | AG21: Black Bears sWAR | AH21: =sum(C2:C28) -> 26.93 | AI21: =AH21-sumif(AF2:AF27,"x",C2:C27) -> 26.93 | AL21: =IFERROR(__xludf.DUMMYFUNCTION("query($A$2:$AE$28,""select B, L, AB, AC, M where M is not null order by AD desc"")"),"JT Realmuto") -> JT Realmuto | AM21: =IFERROR(__xludf.DUMMYFUNCTION("""COMPUTED_VALUE"""),"R") -> R | AN21: =IFERROR(__xludf.DUMMYFUNCTION("""COMPUTED_VALUE"""),15.0) -> 15 | AO21: =IFERROR(__xludf.DUMMYFUNCTION("""COMPUTED_VALUE"""),5.0) -> 5 | AP21: =IFERROR(__xludf.DUMMYFUNCTION("""COMPUTED_VALUE"""),201.0) -> 201 | AQ21: =IFERROR(__xludf.DUMMYFUNCTION("query($A$2:$AE$28,""select B, L, AB, AC, N where N is not null order by AD desc"")"),"Mark Vientos") -> Mark Vientos | AR21: =IFERROR(__xludf.DUMMYFUNCTION("""COMPUTED_VALUE"""),"R") -> R | AS21: =IFERROR(__xludf.DUMMYFUNCTION("""COMPUTED_VALUE"""),30.0) -> 30 | AT21: =IFERROR(__xludf.DUMMYFUNCTION("""COMPUTED_VALUE"""),21.0) -> 21 | AU21: =IFERROR(__xludf.DUMMYFUNCTION("""COMPUTED_VALUE"""),412.0) -> 412
A22: =IFERROR(__xludf.DUMMYFUNCTION("""COMPUTED_VALUE"""),13409.0) -> 13409 | B22: =IFERROR(__xludf.DUMMYFUNCTION("""COMPUTED_VALUE"""),"Teoscar Hernandez") -> Teoscar Hernandez | C22: =IFERROR(__xludf.DUMMYFUNCTION("""COMPUTED_VALUE"""),1.91) -> 1.91 | D22: =IFERROR(__xludf.DUMMYFUNCTION("""COMPUTED_VALUE"""),"https://sba-cards-2024.s3.us-east-1.amazonaws.com/2024-cards/teoscar-hernandez.png") -> https://sba-cards-2024.s3.us-east-1.amazonaws.com/2024-cards/teoscar-hernandez.png | I22: =IFERROR(__xludf.DUMMYFUNCTION("""COMPUTED_VALUE"""),-2.0) -> -2 | K22: =IFERROR(__xludf.DUMMYFUNCTION("""COMPUTED_VALUE"""),"1p70") -> 1p70 | L22: {=iferror(index(BatterCalcs!D:D,match(A22,BatterCalcs!A:A,0)),index(PitcherCalcs!E:E,match(A22,PitcherCalcs!A:A,0)))} -> R | M22: {=iferror(index(BatterCalcs!CJ:CQ,match(A22,BatterCalcs!A:A,0)),)} | R22: 403 | T22: 403 | U22: {=iferror(index(BatterCalcs!CK:CM,match(A22,BatterCalcs!E:E,0)),)} | X22: {=iferror(index(PitcherCalcs!CL:CL,match(A22,PitcherCalcs!F:F,0)),)} | Y22: {=iferror(index(PitcherCalcs!CD:CF,match(A22,PitcherCalcs!A:A,0)),)} | AB22: {=iferror(index(BatterCalcs!CG:CG,match(A22,BatterCalcs!A:A,0)),index(PitcherCalcs!CT:CT,match(A22,PitcherCalcs!A:A,0)))} -> 32 | AC22: {=iferror(index(BatterCalcs!CH:CH,match(A22,BatterCalcs!A:A,0)),index(PitcherCalcs!CU:CU,match(A22,PitcherCalcs!A:A,0)))} -> 23 | AD22: {=iferror(index(BatterCalcs!CI:CI,match(A22,BatterCalcs!A:A,0)),index(PitcherCalcs!CV:CV,match(A22,PitcherCalcs!A:A,0)))} -> 34 | AE22: {=IFERROR(index(BatterCalcs!CR:CR,match(A22,BatterCalcs!A:A,0)),index(PitcherCalcs!BY:BY,match(A22,PitcherCalcs!A:A,0)))} -> lf-4(-1)e3 rf-4e3 | AG22: Coal Miners sWAR | AH22: =sum(C30:C35) -> 4.44 | AI22: =sumif(AF30:AF42,"x",#REF!) -> #N/A | AL22: =IFERROR(__xludf.DUMMYFUNCTION("""COMPUTED_VALUE"""),"Ben Rice") -> Ben Rice | AM22: =IFERROR(__xludf.DUMMYFUNCTION("""COMPUTED_VALUE"""),"L") -> L | AN22: =IFERROR(__xludf.DUMMYFUNCTION("""COMPUTED_VALUE"""),-15.0) -> -15 | AO22: =IFERROR(__xludf.DUMMYFUNCTION("""COMPUTED_VALUE"""),-15.0) -> -15 | AP22: =IFERROR(__xludf.DUMMYFUNCTION("""COMPUTED_VALUE"""),402.0) -> 402 | AQ22: =IFERROR(__xludf.DUMMYFUNCTION("""COMPUTED_VALUE"""),"Josh Naylor") -> Josh Naylor | AR22: =IFERROR(__xludf.DUMMYFUNCTION("""COMPUTED_VALUE"""),"L") -> L | AS22: =IFERROR(__xludf.DUMMYFUNCTION("""COMPUTED_VALUE"""),5.0) -> 5 | AT22: =IFERROR(__xludf.DUMMYFUNCTION("""COMPUTED_VALUE"""),12.0) -> 12 | AU22: =IFERROR(__xludf.DUMMYFUNCTION("""COMPUTED_VALUE"""),311.0) -> 311
A23: =IFERROR(__xludf.DUMMYFUNCTION("""COMPUTED_VALUE"""),13429.0) -> 13429 | B23: =IFERROR(__xludf.DUMMYFUNCTION("""COMPUTED_VALUE"""),"Trea Turner") -> Trea Turner | C23: =IFERROR(__xludf.DUMMYFUNCTION("""COMPUTED_VALUE"""),1.61) -> 1.61 | D23: =IFERROR(__xludf.DUMMYFUNCTION("""COMPUTED_VALUE"""),"https://sba-cards-2024.s3.us-east-1.amazonaws.com/2024-cards/trea-turner.png") -> https://sba-cards-2024.s3.us-east-1.amazonaws.com/2024-cards/trea-turner.png | I23: =IFERROR(__xludf.DUMMYFUNCTION("""COMPUTED_VALUE"""),-2.0) -> -2 | K23: =IFERROR(__xludf.DUMMYFUNCTION("""COMPUTED_VALUE"""),"1p60") -> 1p60 | L23: {=iferror(index(BatterCalcs!D:D,match(A23,BatterCalcs!A:A,0)),index(PitcherCalcs!E:E,match(A23,PitcherCalcs!A:A,0)))} -> R | M23: {=iferror(index(BatterCalcs!CJ:CQ,match(A23,BatterCalcs!A:A,0)),)} | Q23: 324 | U23: {=iferror(index(BatterCalcs!CK:CM,match(A23,BatterCalcs!E:E,0)),)} | X23: {=iferror(index(PitcherCalcs!CL:CL,match(A23,PitcherCalcs!F:F,0)),)} | Y23: {=iferror(index(PitcherCalcs!CD:CF,match(A23,PitcherCalcs!A:A,0)),)} | AB23: {=iferror(index(BatterCalcs!CG:CG,match(A23,BatterCalcs!A:A,0)),index(PitcherCalcs!CT:CT,match(A23,PitcherCalcs!A:A,0)))} -> 32 | AC23: {=iferror(index(BatterCalcs!CH:CH,match(A23,BatterCalcs!A:A,0)),index(PitcherCalcs!CU:CU,match(A23,PitcherCalcs!A:A,0)))} -> 15 | AD23: {=iferror(index(BatterCalcs!CI:CI,match(A23,BatterCalcs!A:A,0)),index(PitcherCalcs!CV:CV,match(A23,PitcherCalcs!A:A,0)))} -> 28 | AE23: {=IFERROR(index(BatterCalcs!CR:CR,match(A23,BatterCalcs!A:A,0)),index(PitcherCalcs!BY:BY,match(A23,PitcherCalcs!A:A,0)))} -> ss-3e24 | AG23: Injured List sWAR | AH23: =sum(C38:C56) -> 1.98 | AI23: =AI21+AI22 -> #N/A | AQ23: =IFERROR(__xludf.DUMMYFUNCTION("""COMPUTED_VALUE"""),"Ben Rice") -> Ben Rice | AR23: =IFERROR(__xludf.DUMMYFUNCTION("""COMPUTED_VALUE"""),"L") -> L | AS23: =IFERROR(__xludf.DUMMYFUNCTION("""COMPUTED_VALUE"""),-15.0) -> -15 | AT23: =IFERROR(__xludf.DUMMYFUNCTION("""COMPUTED_VALUE"""),-15.0) -> -15 | AU23: =IFERROR(__xludf.DUMMYFUNCTION("""COMPUTED_VALUE"""),408.0) -> 408
A24: =IFERROR(__xludf.DUMMYFUNCTION("""COMPUTED_VALUE"""),13483.0) -> 13483 | B24: =IFERROR(__xludf.DUMMYFUNCTION("""COMPUTED_VALUE"""),"Will Vest") -> Will Vest | C24: =IFERROR(__xludf.DUMMYFUNCTION("""COMPUTED_VALUE"""),1.02) -> 1.02 | D24: =IFERROR(__xludf.DUMMYFUNCTION("""COMPUTED_VALUE"""),"https://sba-cards-2024.s3.us-east-1.amazonaws.com/2024-cards/will-vest.png") -> https://sba-cards-2024.s3.us-east-1.amazonaws.com/2024-cards/will-vest.png | I24: =IFERROR(__xludf.DUMMYFUNCTION("""COMPUTED_VALUE"""),-2.0) -> -2 | K24: =IFERROR(__xludf.DUMMYFUNCTION("""COMPUTED_VALUE"""),"1p60") -> 1p60 | L24: {=iferror(index(BatterCalcs!D:D,match(A24,BatterCalcs!A:A,0)),index(PitcherCalcs!E:E,match(A24,PitcherCalcs!A:A,0)))} -> R | M24: {=iferror(index(BatterCalcs!CJ:CQ,match(A24,BatterCalcs!A:A,0)),)} | U24: {=iferror(index(BatterCalcs!CK:CM,match(A24,BatterCalcs!E:E,0)),)} | X24: {=iferror(index(PitcherCalcs!CL:CL,match(A24,PitcherCalcs!F:F,0)),)} | Y24: {=iferror(index(PitcherCalcs!CD:CF,match(A24,PitcherCalcs!A:A,0)),)} | Z24: 1 | AA24: 1 | AB24: {=iferror(index(BatterCalcs!CG:CG,match(A24,BatterCalcs!A:A,0)),index(PitcherCalcs!CT:CT,match(A24,PitcherCalcs!A:A,0)))} -> 29 | AC24: {=iferror(index(BatterCalcs!CH:CH,match(A24,BatterCalcs!A:A,0)),index(PitcherCalcs!CU:CU,match(A24,PitcherCalcs!A:A,0)))} -> 21 | AD24: {=iferror(index(BatterCalcs!CI:CI,match(A24,BatterCalcs!A:A,0)),index(PitcherCalcs!CV:CV,match(A24,PitcherCalcs!A:A,0)))} -> 28.666667 | AE24: {=IFERROR(index(BatterCalcs!CR:CR,match(A24,BatterCalcs!A:A,0)),index(PitcherCalcs!BY:BY,match(A24,PitcherCalcs!A:A,0)))} -> R(1) C(1) | AQ24: =IFERROR(__xludf.DUMMYFUNCTION("""COMPUTED_VALUE"""),"Ildemaro Vargas") -> Ildemaro Vargas | AR24: =IFERROR(__xludf.DUMMYFUNCTION("""COMPUTED_VALUE"""),"S") -> S | AS24: =IFERROR(__xludf.DUMMYFUNCTION("""COMPUTED_VALUE"""),-13.0) -> -13 | AT24: =IFERROR(__xludf.DUMMYFUNCTION("""COMPUTED_VALUE"""),-22.0) -> -22 | AU24: =IFERROR(__xludf.DUMMYFUNCTION("""COMPUTED_VALUE"""),425.0) -> 425
A25: =IFERROR(__xludf.DUMMYFUNCTION("""COMPUTED_VALUE"""),13506.0) -> 13506 | B25: =IFERROR(__xludf.DUMMYFUNCTION("""COMPUTED_VALUE"""),"Yordan Alvarez") -> Yordan Alvarez | C25: =IFERROR(__xludf.DUMMYFUNCTION("""COMPUTED_VALUE"""),2.47) -> 2.47 | D25: =IFERROR(__xludf.DUMMYFUNCTION("""COMPUTED_VALUE"""),"https://sba-cards-2024.s3.us-east-1.amazonaws.com/2024-cards/yordan-alvarez.png") -> https://sba-cards-2024.s3.us-east-1.amazonaws.com/2024-cards/yordan-alvarez.png | I25: =IFERROR(__xludf.DUMMYFUNCTION("""COMPUTED_VALUE"""),-2.0) -> -2 | K25: =IFERROR(__xludf.DUMMYFUNCTION("""COMPUTED_VALUE"""),"1p65") -> 1p65 | L25: {=iferror(index(BatterCalcs!D:D,match(A25,BatterCalcs!A:A,0)),index(PitcherCalcs!E:E,match(A25,PitcherCalcs!A:A,0)))} -> L | M25: {=iferror(index(BatterCalcs!CJ:CQ,match(A25,BatterCalcs!A:A,0)),)} | R25: 503 | U25: {=iferror(index(BatterCalcs!CK:CM,match(A25,BatterCalcs!E:E,0)),)} | X25: {=iferror(index(PitcherCalcs!CL:CL,match(A25,PitcherCalcs!F:F,0)),)} | Y25: {=iferror(index(PitcherCalcs!CD:CF,match(A25,PitcherCalcs!A:A,0)),)} | AB25: {=iferror(index(BatterCalcs!CG:CG,match(A25,BatterCalcs!A:A,0)),index(PitcherCalcs!CT:CT,match(A25,PitcherCalcs!A:A,0)))} -> 41 | AC25: {=iferror(index(BatterCalcs!CH:CH,match(A25,BatterCalcs!A:A,0)),index(PitcherCalcs!CU:CU,match(A25,PitcherCalcs!A:A,0)))} -> 34 | AD25: {=iferror(index(BatterCalcs!CI:CI,match(A25,BatterCalcs!A:A,0)),index(PitcherCalcs!CV:CV,match(A25,PitcherCalcs!A:A,0)))} -> 42 | AE25: {=IFERROR(index(BatterCalcs!CR:CR,match(A25,BatterCalcs!A:A,0)),index(PitcherCalcs!BY:BY,match(A25,PitcherCalcs!A:A,0)))} -> lf-5(-3)e3
A26: =IFERROR(__xludf.DUMMYFUNCTION("""COMPUTED_VALUE"""),13507.0) -> 13507 | B26: =IFERROR(__xludf.DUMMYFUNCTION("""COMPUTED_VALUE"""),"Yoshinobu Yamamoto") -> Yoshinobu Yamamoto | C26: =IFERROR(__xludf.DUMMYFUNCTION("""COMPUTED_VALUE"""),1.42) -> 1.42 | D26: =IFERROR(__xludf.DUMMYFUNCTION("""COMPUTED_VALUE"""),"https://sba-cards-2024.s3.us-east-1.amazonaws.com/2024-cards/yoshinobu-yamamoto.png") -> https://sba-cards-2024.s3.us-east-1.amazonaws.com/2024-cards/yoshinobu-yamamoto.png | I26: =IFERROR(__xludf.DUMMYFUNCTION("""COMPUTED_VALUE"""),-2.0) -> -2 | K26: =IFERROR(__xludf.DUMMYFUNCTION("""COMPUTED_VALUE"""),"3p50") -> 3p50 | L26: {=iferror(index(BatterCalcs!D:D,match(A26,BatterCalcs!A:A,0)),index(PitcherCalcs!E:E,match(A26,PitcherCalcs!A:A,0)))} -> R | M26: {=iferror(index(BatterCalcs!CJ:CQ,match(A26,BatterCalcs!A:A,0)),)} | U26: {=iferror(index(BatterCalcs!CK:CM,match(A26,BatterCalcs!E:E,0)),)} | X26: {=iferror(index(PitcherCalcs!CL:CL,match(A26,PitcherCalcs!F:F,0)),)} | Y26: {=iferror(index(PitcherCalcs!CD:CF,match(A26,PitcherCalcs!A:A,0)),)} -> 5 | AB26: {=iferror(index(BatterCalcs!CG:CG,match(A26,BatterCalcs!A:A,0)),index(PitcherCalcs!CT:CT,match(A26,PitcherCalcs!A:A,0)))} -> 42 | AC26: {=iferror(index(BatterCalcs!CH:CH,match(A26,BatterCalcs!A:A,0)),index(PitcherCalcs!CU:CU,match(A26,PitcherCalcs!A:A,0)))} -> 6 | AD26: {=iferror(index(BatterCalcs!CI:CI,match(A26,BatterCalcs!A:A,0)),index(PitcherCalcs!CV:CV,match(A26,PitcherCalcs!A:A,0)))} -> 20 | AE26: {=IFERROR(index(BatterCalcs!CR:CR,match(A26,BatterCalcs!A:A,0)),index(PitcherCalcs!BY:BY,match(A26,PitcherCalcs!A:A,0)))} -> S(5)
A27: =IFERROR(__xludf.DUMMYFUNCTION("""COMPUTED_VALUE"""),13513.0) -> 13513 | B27: =IFERROR(__xludf.DUMMYFUNCTION("""COMPUTED_VALUE"""),"Zac Gallen") -> Zac Gallen | C27: =IFERROR(__xludf.DUMMYFUNCTION("""COMPUTED_VALUE"""),1.37) -> 1.37 | D27: =IFERROR(__xludf.DUMMYFUNCTION("""COMPUTED_VALUE"""),"https://sba-cards-2024.s3.us-east-1.amazonaws.com/2024-cards/zac-gallen.png") -> https://sba-cards-2024.s3.us-east-1.amazonaws.com/2024-cards/zac-gallen.png | I27: =IFERROR(__xludf.DUMMYFUNCTION("""COMPUTED_VALUE"""),-2.0) -> -2 | K27: =IFERROR(__xludf.DUMMYFUNCTION("""COMPUTED_VALUE"""),"1p70") -> 1p70 | L27: {=iferror(index(BatterCalcs!D:D,match(A27,BatterCalcs!A:A,0)),index(PitcherCalcs!E:E,match(A27,PitcherCalcs!A:A,0)))} -> R | M27: {=iferror(index(BatterCalcs!CJ:CQ,match(A27,BatterCalcs!A:A,0)),)} | U27: {=iferror(index(BatterCalcs!CK:CM,match(A27,BatterCalcs!E:E,0)),)} | X27: {=iferror(index(PitcherCalcs!CL:CL,match(A27,PitcherCalcs!F:F,0)),)} | Y27: {=iferror(index(PitcherCalcs!CD:CF,match(A27,PitcherCalcs!A:A,0)),)} -> 5 | AB27: {=iferror(index(BatterCalcs!CG:CG,match(A27,BatterCalcs!A:A,0)),index(PitcherCalcs!CT:CT,match(A27,PitcherCalcs!A:A,0)))} -> 25 | AC27: {=iferror(index(BatterCalcs!CH:CH,match(A27,BatterCalcs!A:A,0)),index(PitcherCalcs!CU:CU,match(A27,PitcherCalcs!A:A,0)))} -> 10 | AD27: {=iferror(index(BatterCalcs!CI:CI,match(A27,BatterCalcs!A:A,0)),index(PitcherCalcs!CV:CV,match(A27,PitcherCalcs!A:A,0)))} -> 22 | AE27: {=IFERROR(index(BatterCalcs!CR:CR,match(A27,BatterCalcs!A:A,0)),index(PitcherCalcs!BY:BY,match(A27,PitcherCalcs!A:A,0)))} -> S(5)
AG28: Starting Pitchers | AQ28: Relief Pitchers
A29: Minors | B29: Name | C29: sWAR | D29: Card | E29: Card 2 | F29: Last 1 | G29: Last 2 | H29: IL Return | I29: Dem Week | J29: Vanity | K29: Injury | L29: Hand | M29: C | N29: 1B | O29: 2B | P29: 3B | Q29: SS | R29: LF | S29: CF | T29: RF | U29: P | V29: SP | W29: RP | X29: CP | Y29: Defense / Endurance | AE29: Defense / Endurance | AG29: Name | AH29: H | AI29: vL | AJ29: vR | AK29: End | AL29: Last 2 | AQ29: Name | AR29: H | AS29: vL | AT29: vR | AU29: End | AV29: Last 2
A30: =IFERROR(__xludf.DUMMYFUNCTION("iferror(QUERY(Imports!A1:W56,""select A, B, C, D, E, P, Q, R, S, T, W where G = 'WVMiL' order by B asc"", 0),""No MiL players found"")"),12506.0) -> 12506 | B30: =IFERROR(__xludf.DUMMYFUNCTION("""COMPUTED_VALUE"""),"Adley Rutschman") -> Adley Rutschman | C30: =IFERROR(__xludf.DUMMYFUNCTION("""COMPUTED_VALUE"""),1.55) -> 1.55 | D30: =IFERROR(__xludf.DUMMYFUNCTION("""COMPUTED_VALUE"""),"https://sba-cards-2024.s3.us-east-1.amazonaws.com/2024-cards/adley-rutschman.png") -> https://sba-cards-2024.s3.us-east-1.amazonaws.com/2024-cards/adley-rutschman.png | I30: =IFERROR(__xludf.DUMMYFUNCTION("""COMPUTED_VALUE"""),-2.0) -> -2 | K30: =IFERROR(__xludf.DUMMYFUNCTION("""COMPUTED_VALUE"""),"1p70") -> 1p70 | AE30: {=IFERROR(index(BatterCalcs!CR:CR,match(A30,BatterCalcs!A:A,0)),index(PitcherCalcs!BY:BY,match(A30,PitcherCalcs!A:A,0)))} -> c-1(0)e1,T-5(pb-1) | AG30: =IFERROR(__xludf.DUMMYFUNCTION("query($A$2:$AE$28,""select B, L, AB, AC, AE where Y is not null and Y > 3 order by AD desc"")"),"Zac Gallen") -> Zac Gallen | AH30: =IFERROR(__xludf.DUMMYFUNCTION("""COMPUTED_VALUE"""),"R") -> R | AI30: =IFERROR(__xludf.DUMMYFUNCTION("""COMPUTED_VALUE"""),25.0) -> 25 | AJ30: =IFERROR(__xludf.DUMMYFUNCTION("""COMPUTED_VALUE"""),10.0) -> 10 | AK30: =IFERROR(__xludf.DUMMYFUNCTION("""COMPUTED_VALUE"""),"S(5)") -> S(5) | AL30: {=if(AG30:AG39<>"",XLOOKUP(AG30:AG39, 'Import - Decisions'!$T$2:$T$21,'Import - Decisions'!$BC$2:$BC$21),)} -> #N/A | AP30: FALSE | AQ30: =IFERROR(__xludf.DUMMYFUNCTION("query($A$2:$AE$28,""select B, L, AB, AC, AE where Z is not null order by AD desc"")"),"Dedniel Nunez") -> Dedniel Nunez | AR30: =IFERROR(__xludf.DUMMYFUNCTION("""COMPUTED_VALUE"""),"R") -> R | AS30: =IFERROR(__xludf.DUMMYFUNCTION("""COMPUTED_VALUE"""),35.0) -> 35 | AT30: =IFERROR(__xludf.DUMMYFUNCTION("""COMPUTED_VALUE"""),46.0) -> 46 | AU30: =IFERROR(__xludf.DUMMYFUNCTION("""COMPUTED_VALUE"""),"R(2) C(0)") -> R(2) C(0) | AV30: {=if(AQ30:AQ39<>"",XLOOKUP(AQ30:AQ39, 'Import - Decisions'!$T$2:$T$21,'Import - Decisions'!$BC$2:$BC$21),)} -> #N/A
A31: =IFERROR(__xludf.DUMMYFUNCTION("""COMPUTED_VALUE"""),13026.0) -> 13026 | B31: =IFERROR(__xludf.DUMMYFUNCTION("""COMPUTED_VALUE"""),"Jose Soriano") -> Jose Soriano | C31: =IFERROR(__xludf.DUMMYFUNCTION("""COMPUTED_VALUE"""),1.39) -> 1.39 | D31: =IFERROR(__xludf.DUMMYFUNCTION("""COMPUTED_VALUE"""),"https://sba-cards-2024.s3.us-east-1.amazonaws.com/2024-cards/jose-soriano.png") -> https://sba-cards-2024.s3.us-east-1.amazonaws.com/2024-cards/jose-soriano.png | I31: =IFERROR(__xludf.DUMMYFUNCTION("""COMPUTED_VALUE"""),-2.0) -> -2 | K31: =IFERROR(__xludf.DUMMYFUNCTION("""COMPUTED_VALUE"""),"3p60") -> 3p60 | AE31: {=IFERROR(index(BatterCalcs!CR:CR,match(A31,BatterCalcs!A:A,0)),index(PitcherCalcs!BY:BY,match(A31,PitcherCalcs!A:A,0)))} -> S(5) R(3) | AG31: =IFERROR(__xludf.DUMMYFUNCTION("""COMPUTED_VALUE"""),"Ben Brown") -> Ben Brown | AH31: =IFERROR(__xludf.DUMMYFUNCTION("""COMPUTED_VALUE"""),"R") -> R | AI31: =IFERROR(__xludf.DUMMYFUNCTION("""COMPUTED_VALUE"""),10.0) -> 10 | AJ31: =IFERROR(__xludf.DUMMYFUNCTION("""COMPUTED_VALUE"""),35.0) -> 35 | AK31: =IFERROR(__xludf.DUMMYFUNCTION("""COMPUTED_VALUE"""),"S(5) R(4)") -> S(5) R(4) | AL31: #N/A | AP31: FALSE | AQ31: =IFERROR(__xludf.DUMMYFUNCTION("""COMPUTED_VALUE"""),"Porter Hodge") -> Porter Hodge | AR31: =IFERROR(__xludf.DUMMYFUNCTION("""COMPUTED_VALUE"""),"R") -> R | AS31: =IFERROR(__xludf.DUMMYFUNCTION("""COMPUTED_VALUE"""),33.0) -> 33 | AT31: =IFERROR(__xludf.DUMMYFUNCTION("""COMPUTED_VALUE"""),35.0) -> 35 | AU31: =IFERROR(__xludf.DUMMYFUNCTION("""COMPUTED_VALUE"""),"R(1) C(4)") -> R(1) C(4) | AV31: #N/A
A32: =IFERROR(__xludf.DUMMYFUNCTION("""COMPUTED_VALUE"""),13322.0) -> 13322 | B32: =IFERROR(__xludf.DUMMYFUNCTION("""COMPUTED_VALUE"""),"Ronald Acuna Jr") -> Ronald Acuna Jr | C32: =IFERROR(__xludf.DUMMYFUNCTION("""COMPUTED_VALUE"""),0.0) -> 0 | D32: =IFERROR(__xludf.DUMMYFUNCTION("""COMPUTED_VALUE"""),"https://sba-cards-2024.s3.us-east-1.amazonaws.com/2024-cards/ronald-acuna-jr.png") -> https://sba-cards-2024.s3.us-east-1.amazonaws.com/2024-cards/ronald-acuna-jr.png | I32: =IFERROR(__xludf.DUMMYFUNCTION("""COMPUTED_VALUE"""),-2.0) -> -2 | K32: =IFERROR(__xludf.DUMMYFUNCTION("""COMPUTED_VALUE"""),"5p30") -> 5p30 | AE32: {=IFERROR(index(BatterCalcs!CR:CR,match(A32,BatterCalcs!A:A,0)),index(PitcherCalcs!BY:BY,match(A32,PitcherCalcs!A:A,0)))} -> rf-3(-4)e7 | AG32: =IFERROR(__xludf.DUMMYFUNCTION("""COMPUTED_VALUE"""),"Yoshinobu Yamamoto") -> Yoshinobu Yamamoto | AH32: =IFERROR(__xludf.DUMMYFUNCTION("""COMPUTED_VALUE"""),"R") -> R | AI32: =IFERROR(__xludf.DUMMYFUNCTION("""COMPUTED_VALUE"""),42.0) -> 42 | AJ32: =IFERROR(__xludf.DUMMYFUNCTION("""COMPUTED_VALUE"""),6.0) -> 6 | AK32: =IFERROR(__xludf.DUMMYFUNCTION("""COMPUTED_VALUE"""),"S(5)") -> S(5) | AL32: #N/A | AP32: FALSE | AQ32: =IFERROR(__xludf.DUMMYFUNCTION("""COMPUTED_VALUE"""),"Will Vest") -> Will Vest | AR32: =IFERROR(__xludf.DUMMYFUNCTION("""COMPUTED_VALUE"""),"R") -> R | AS32: =IFERROR(__xludf.DUMMYFUNCTION("""COMPUTED_VALUE"""),29.0) -> 29 | AT32: =IFERROR(__xludf.DUMMYFUNCTION("""COMPUTED_VALUE"""),21.0) -> 21 | AU32: =IFERROR(__xludf.DUMMYFUNCTION("""COMPUTED_VALUE"""),"R(1) C(1)") -> R(1) C(1) | AV32: #N/A
A33: =IFERROR(__xludf.DUMMYFUNCTION("""COMPUTED_VALUE"""),13341.0) -> 13341 | B33: =IFERROR(__xludf.DUMMYFUNCTION("""COMPUTED_VALUE"""),"Ryan Thompson") -> Ryan Thompson | C33: =IFERROR(__xludf.DUMMYFUNCTION("""COMPUTED_VALUE"""),0.72) -> 0.72 | D33: =IFERROR(__xludf.DUMMYFUNCTION("""COMPUTED_VALUE"""),"https://sba-cards-2024.s3.us-east-1.amazonaws.com/2024-cards/ryan-thompson.png") -> https://sba-cards-2024.s3.us-east-1.amazonaws.com/2024-cards/ryan-thompson.png | I33: =IFERROR(__xludf.DUMMYFUNCTION("""COMPUTED_VALUE"""),-2.0) -> -2 | K33: =IFERROR(__xludf.DUMMYFUNCTION("""COMPUTED_VALUE"""),"1p60") -> 1p60 | AE33: {=IFERROR(index(BatterCalcs!CR:CR,match(A33,BatterCalcs!A:A,0)),index(PitcherCalcs!BY:BY,match(A33,PitcherCalcs!A:A,0)))} -> R(1) C(1) | AG33: =IFERROR(__xludf.DUMMYFUNCTION("""COMPUTED_VALUE"""),"Jared Jones") -> Jared Jones | AH33: =IFERROR(__xludf.DUMMYFUNCTION("""COMPUTED_VALUE"""),"R") -> R | AI33: =IFERROR(__xludf.DUMMYFUNCTION("""COMPUTED_VALUE"""),9.0) -> 9 | AJ33: =IFERROR(__xludf.DUMMYFUNCTION("""COMPUTED_VALUE"""),7.0) -> 7 | AK33: =IFERROR(__xludf.DUMMYFUNCTION("""COMPUTED_VALUE"""),"S(5)") -> S(5) | AL33: #N/A | AP33: FALSE | AQ33: =IFERROR(__xludf.DUMMYFUNCTION("""COMPUTED_VALUE"""),"Joe Mantiply") -> Joe Mantiply | AR33: =IFERROR(__xludf.DUMMYFUNCTION("""COMPUTED_VALUE"""),"L") -> L | AS33: =IFERROR(__xludf.DUMMYFUNCTION("""COMPUTED_VALUE"""),35.0) -> 35 | AT33: =IFERROR(__xludf.DUMMYFUNCTION("""COMPUTED_VALUE"""),10.0) -> 10 | AU33: =IFERROR(__xludf.DUMMYFUNCTION("""COMPUTED_VALUE"""),"S(1) R(1) C(0)") -> S(1) R(1) C(0) | AV33: #N/A
A34: =IFERROR(__xludf.DUMMYFUNCTION("""COMPUTED_VALUE"""),13470.0) -> 13470 | B34: =IFERROR(__xludf.DUMMYFUNCTION("""COMPUTED_VALUE"""),"Victor Vodnik") -> Victor Vodnik | C34: =IFERROR(__xludf.DUMMYFUNCTION("""COMPUTED_VALUE"""),0.78) -> 0.78 | D34: =IFERROR(__xludf.DUMMYFUNCTION("""COMPUTED_VALUE"""),"https://sba-cards-2024.s3.us-east-1.amazonaws.com/2024-cards/victor-vodnik.png") -> https://sba-cards-2024.s3.us-east-1.amazonaws.com/2024-cards/victor-vodnik.png | I34: =IFERROR(__xludf.DUMMYFUNCTION("""COMPUTED_VALUE"""),-2.0) -> -2 | K34: =IFERROR(__xludf.DUMMYFUNCTION("""COMPUTED_VALUE"""),"1p40") -> 1p40 | AE34: {=IFERROR(index(BatterCalcs!CR:CR,match(A34,BatterCalcs!A:A,0)),index(PitcherCalcs!BY:BY,match(A34,PitcherCalcs!A:A,0)))} -> R(2) C(3) | AG34: =IFERROR(__xludf.DUMMYFUNCTION("""COMPUTED_VALUE"""),"Griffin Canning") -> Griffin Canning | AH34: =IFERROR(__xludf.DUMMYFUNCTION("""COMPUTED_VALUE"""),"R") -> R | AI34: =IFERROR(__xludf.DUMMYFUNCTION("""COMPUTED_VALUE"""),-22.0) -> -22 | AJ34: =IFERROR(__xludf.DUMMYFUNCTION("""COMPUTED_VALUE"""),-9.0) -> -9 | AK34: =IFERROR(__xludf.DUMMYFUNCTION("""COMPUTED_VALUE"""),"S(5)") -> S(5) | AL34: #N/A | AP34: FALSE | AQ34: =IFERROR(__xludf.DUMMYFUNCTION("""COMPUTED_VALUE"""),"Dennis Santana") -> Dennis Santana | AR34: =IFERROR(__xludf.DUMMYFUNCTION("""COMPUTED_VALUE"""),"R") -> R | AS34: =IFERROR(__xludf.DUMMYFUNCTION("""COMPUTED_VALUE"""),22.0) -> 22 | AT34: =IFERROR(__xludf.DUMMYFUNCTION("""COMPUTED_VALUE"""),20.0) -> 20 | AU34: =IFERROR(__xludf.DUMMYFUNCTION("""COMPUTED_VALUE"""),"R(2) C(2)") -> R(2) C(2) | AV34: #N/A
AP35: FALSE | AQ35: =IFERROR(__xludf.DUMMYFUNCTION("""COMPUTED_VALUE"""),"Ryan Fernandez") -> Ryan Fernandez | AR35: =IFERROR(__xludf.DUMMYFUNCTION("""COMPUTED_VALUE"""),"R") -> R | AS35: =IFERROR(__xludf.DUMMYFUNCTION("""COMPUTED_VALUE"""),25.0) -> 25 | AT35: =IFERROR(__xludf.DUMMYFUNCTION("""COMPUTED_VALUE"""),12.0) -> 12 | AU35: =IFERROR(__xludf.DUMMYFUNCTION("""COMPUTED_VALUE"""),"R(1) C(1)") -> R(1) C(1) | AV35: #N/A
AP36: FALSE | AQ36: =IFERROR(__xludf.DUMMYFUNCTION("""COMPUTED_VALUE"""),"Ben Brown") -> Ben Brown | AR36: =IFERROR(__xludf.DUMMYFUNCTION("""COMPUTED_VALUE"""),"R") -> R | AS36: =IFERROR(__xludf.DUMMYFUNCTION("""COMPUTED_VALUE"""),10.0) -> 10 | AT36: =IFERROR(__xludf.DUMMYFUNCTION("""COMPUTED_VALUE"""),35.0) -> 35 | AU36: =IFERROR(__xludf.DUMMYFUNCTION("""COMPUTED_VALUE"""),"S(5) R(4)") -> S(5) R(4) | AV36: #N/A
A37: IL | B37: Name | C37: sWAR | D37: Card | E37: Card 2 | F37: Last 1 | G37: Last 2 | H37: IL Return | I37: Dem Week | J37: Vanity | K37: Injury | L37: Hand | M37: C | N37: 1B | O37: 2B | P37: 3B | Q37: SS | R37: LF | S37: CF | T37: RF | U37: P | V37: SP | W37: RP | X37: CP | Y37: Defense / Endurance | AE37: Defense / Endurance | AP37: FALSE | AQ37: =IFERROR(__xludf.DUMMYFUNCTION("""COMPUTED_VALUE"""),"John Schreiber") -> John Schreiber | AR37: =IFERROR(__xludf.DUMMYFUNCTION("""COMPUTED_VALUE"""),"R") -> R | AS37: =IFERROR(__xludf.DUMMYFUNCTION("""COMPUTED_VALUE"""),10.0) -> 10 | AT37: =IFERROR(__xludf.DUMMYFUNCTION("""COMPUTED_VALUE"""),24.0) -> 24 | AU37: =IFERROR(__xludf.DUMMYFUNCTION("""COMPUTED_VALUE"""),"R(1) C(1)") -> R(1) C(1) | AV37: #N/A
A38: =IFERROR(__xludf.DUMMYFUNCTION("iferror(QUERY(Imports!A1:W56,""select A, B, C, D, E, P, Q, R, S, T, W where G = 'WVIL' order by B asc"", 0),""No IL players found...is this what happiness feels like?"")"),12765.0) -> 12765 | B38: =IFERROR(__xludf.DUMMYFUNCTION("""COMPUTED_VALUE"""),"Donovan Solano") -> Donovan Solano | C38: =IFERROR(__xludf.DUMMYFUNCTION("""COMPUTED_VALUE"""),0.94) -> 0.94 | D38: =IFERROR(__xludf.DUMMYFUNCTION("""COMPUTED_VALUE"""),"https://sba-cards-2024.s3.us-east-1.amazonaws.com/2024-cards/donovan-solano.png") -> https://sba-cards-2024.s3.us-east-1.amazonaws.com/2024-cards/donovan-solano.png | H38: =IFERROR(__xludf.DUMMYFUNCTION("""COMPUTED_VALUE"""),"w06g4") -> w06g4 | I38: =IFERROR(__xludf.DUMMYFUNCTION("""COMPUTED_VALUE"""),-2.0) -> -2 | K38: =IFERROR(__xludf.DUMMYFUNCTION("""COMPUTED_VALUE"""),"1p50") -> 1p50 | AP38: FALSE | AQ38: =IFERROR(__xludf.DUMMYFUNCTION("""COMPUTED_VALUE"""),"Anthony Bender") -> Anthony Bender | AR38: =IFERROR(__xludf.DUMMYFUNCTION("""COMPUTED_VALUE"""),"R") -> R | AS38: =IFERROR(__xludf.DUMMYFUNCTION("""COMPUTED_VALUE"""),-7.0) -> -7 | AT38: =IFERROR(__xludf.DUMMYFUNCTION("""COMPUTED_VALUE"""),46.0) -> 46 | AU38: =IFERROR(__xludf.DUMMYFUNCTION("""COMPUTED_VALUE"""),"R(1) C(0)") -> R(1) C(0) | AV38: #N/A
A39: =IFERROR(__xludf.DUMMYFUNCTION("""COMPUTED_VALUE"""),13396.0) -> 13396 | B39: =IFERROR(__xludf.DUMMYFUNCTION("""COMPUTED_VALUE"""),"Taj Bradley") -> Taj Bradley | C39: =IFERROR(__xludf.DUMMYFUNCTION("""COMPUTED_VALUE"""),1.04) -> 1.04 | D39: =IFERROR(__xludf.DUMMYFUNCTION("""COMPUTED_VALUE"""),"https://sba-cards-2024.s3.us-east-1.amazonaws.com/2024-cards/taj-bradley.png") -> https://sba-cards-2024.s3.us-east-1.amazonaws.com/2024-cards/taj-bradley.png | H39: =IFERROR(__xludf.DUMMYFUNCTION("""COMPUTED_VALUE"""),"w07g2") -> w07g2 | I39: =IFERROR(__xludf.DUMMYFUNCTION("""COMPUTED_VALUE"""),-2.0) -> -2 | K39: =IFERROR(__xludf.DUMMYFUNCTION("""COMPUTED_VALUE"""),"1p60") -> 1p60 | AP39: FALSE
AP40: FALSE
AP41: FALSE

Sheet Matchups
A1: Ballpark: | B1: West Virginia Black Bears | Q1: FALSE | R1: Scorecard Key | S1: https://docs.google.com/spreadsheets/d/1A45eSmpgfacqwwbnESAVGr41ToqdO4q-DhuNSHkFYMI/edit?gid=1148472416#gid=1148472416 | AB1: =IFERROR(__xludf.DUMMYFUNCTION("if(Q1,IMPORTRANGE(S1,""Q3:S26""),)"),"")
A2: {=image(index(Imports!AL:AL,match(B1,Imports!AE:AE,0)))}
R3: ="Away Pitcher" -> Away Pitcher | S3: Yoshinobu Yamamoto
R4: Away Team: | S4: West Virginia Black Bears
R6: ="Home Pitcher" -> Home Pitcher | S6: Dylan Cease
R7: Home Team | S7: Big Sky Snow Geese
B10: SI L | C10: SI R | E10: HR L | F10: HR R | S10: SI vL | T10: SI vR | V10: HR vL | W10: HR vR
B11: 5 | C11: 7 | E11: 7 | F11: 5 | S11: =B11 -> 5 | T11: =C11 -> 7 | V11: =E11 -> 7 | W11: =F11 -> 5
A12: =S28&" P" -> Big Sky Snow Geese P | B12: =if(Q1,AC23,S6) -> Dylan Cease | G12: Hand | H12: {=index(PitcherCalcs!E:E,match(B12,PitcherCalcs!B:B,0))} -> R | I12: Fatigue | J12: FALSE | R12: =B28&" P" -> West Virginia Black Bears P | S12: =if(Q1,AC11,S3) -> Yoshinobu Yamamoto | X12: Hand | Y12: {=index(PitcherCalcs!E:E,match(S12,PitcherCalcs!B:B,0))} -> R | Z12: Fatigue | AA12: FALSE | AH12: =IFERROR(__xludf.DUMMYFUNCTION("QUERY(PitcherCalcs!B1:DC523,""select B, E, G, H, M, N, S, T, Y, Z, AE, AF, AK, AL, AQ, AR, AW, AX, BE, BF, BK, BL, BQ, BR, BW, CD, CE, CF, CH, CI, CJ, CK, CO, CP, CN where B = '"" & S12 & ""'"")"),"Name") -> Name | AI12: =IFERROR(__xludf.DUMMYFUNCTION("""COMPUTED_VALUE"""),"hand") -> hand | AJ12: =IFERROR(__xludf.DUMMYFUNCTION("""COMPUTED_VALUE"""),"SO vlhp") -> SO vlhp | AK12: =IFERROR(__xludf.DUMMYFUNCTION("""COMPUTED_VALUE"""),"SO v rhp") -> SO v rhp | AL12: =IFERROR(__xludf.DUMMYFUNCTION("""COMPUTED_VALUE"""),"BB vlhp") -> BB vlhp | AM12: =IFERROR(__xludf.DUMMYFUNCTION("""COMPUTED_VALUE"""),"BB v rhp") -> BB v rhp | AN12: =IFERROR(__xludf.DUMMYFUNCTION("""COMPUTED_VALUE"""),"HIT v lhp") -> HIT v lhp | AO12: =IFERROR(__xludf.DUMMYFUNCTION("""COMPUTED_VALUE"""),"HIT v rhp") -> HIT v rhp | AP12: =IFERROR(__xludf.DUMMYFUNCTION("""COMPUTED_VALUE"""),"OB v lhp") -> OB v lhp | AQ12: =IFERROR(__xludf.DUMMYFUNCTION("""COMPUTED_VALUE"""),"OB v rhp") -> OB v rhp | AR12: =IFERROR(__xludf.DUMMYFUNCTION("""COMPUTED_VALUE"""),"TB v lhp") -> TB v lhp | AS12: =IFERROR(__xludf.DUMMYFUNCTION("""COMPUTED_VALUE"""),"TB v rhp") -> TB v rhp | AT12: =IFERROR(__xludf.DUMMYFUNCTION("""COMPUTED_VALUE"""),"123B v lhp") -> 123B v lhp | AU12: =IFERROR(__xludf.DUMMYFUNCTION("""COMPUTED_VALUE"""),"123b v rhp") -> 123b v rhp | AV12: =IFERROR(__xludf.DUMMYFUNCTION("""COMPUTED_VALUE"""),"123TB v l") -> 123TB v l | AW12: =IFERROR(__xludf.DUMMYFUNCTION("""COMPUTED_VALUE"""),"123TB v rhp") -> 123TB v rhp | AX12: =IFERROR(__xludf.DUMMYFUNCTION("""COMPUTED_VALUE"""),"HR v lhp") -> HR v lhp | AY12: =IFERROR(__xludf.DUMMYFUNCTION("""COMPUTED_VALUE"""),"HR v rhp") -> HR v rhp | AZ12: =IFERROR(__xludf.DUMMYFUNCTION("""COMPUTED_VALUE"""),"BPHR vL") -> BPHR vL | BA12: =IFERROR(__xludf.DUMMYFUNCTION("""COMPUTED_VALUE"""),"BPHR vR") -> BPHR vR | BB12: =IFERROR(__xludf.DUMMYFUNCTION("""COMPUTED_VALUE"""),"BP1B v lhp") -> BP1B v lhp | BC12: =IFERROR(__xludf.DUMMYFUNCTION("""COMPUTED_VALUE"""),"BP1b v rhp") -> BP1b v rhp | BD12: =IFERROR(__xludf.DUMMYFUNCTION("""COMPUTED_VALUE"""),"DP vlhp") -> DP vlhp | BE12: =IFERROR(__xludf.DUMMYFUNCTION("""COMPUTED_VALUE"""),"DP v rhp") -> DP v rhp | BF12: =IFERROR(__xludf.DUMMYFUNCTION("""COMPUTED_VALUE"""),"HO") -> HO | BG12: =IFERROR(__xludf.DUMMYFUNCTION("""COMPUTED_VALUE"""),"SP") -> SP | BH12: =IFERROR(__xludf.DUMMYFUNCTION("""COMPUTED_VALUE"""),"RP") -> RP | BI12: =IFERROR(__xludf.DUMMYFUNCTION("""COMPUTED_VALUE"""),"CP") -> CP | BJ12: =IFERROR(__xludf.DUMMYFUNCTION("""COMPUTED_VALUE"""),"Range") -> Range | BK12: =IFERROR(__xludf.DUMMYFUNCTION("""COMPUTED_VALUE"""),"Error") -> Error | BL12: =IFERROR(__xludf.DUMMYFUNCTION("""COMPUTED_VALUE"""),"BK") -> BK | BM12: =IFERROR(__xludf.DUMMYFUNCTION("""COMPUTED_VALUE"""),"WP") -> WP | BN12: =IFERROR(__xludf.DUMMYFUNCTION("""COMPUTED_VALUE"""),"Bunt") -> Bunt | BO12: =IFERROR(__xludf.DUMMYFUNCTION("""COMPUTED_VALUE"""),"Injury") -> Injury | BP12: =IFERROR(__xludf.DUMMYFUNCTION("""COMPUTED_VALUE"""),"SPD") -> SPD
A13: {=iferror(image(index(Imports!D:D,match(B12,Imports!B:B,0))),image("https://sombaseball.ddns.net/static/images/sba-logo.png"))} | R13: {=iferror(image(index(Imports!D:D,match(S12,Imports!B:B,0))),image("https://sombaseball.ddns.net/static/images/sba-logo.png"))} | AH13: =IFERROR(__xludf.DUMMYFUNCTION("""COMPUTED_VALUE"""),"Yoshinobu Yamamoto") -> Yoshinobu Yamamoto | AI13: =IFERROR(__xludf.DUMMYFUNCTION("""COMPUTED_VALUE"""),"R") -> R | AJ13: =IFERROR(__xludf.DUMMYFUNCTION("""COMPUTED_VALUE"""),37.0) -> 37 | AK13: =IFERROR(__xludf.DUMMYFUNCTION("""COMPUTED_VALUE"""),37.0) -> 37 | AL13: =IFERROR(__xludf.DUMMYFUNCTION("""COMPUTED_VALUE"""),8.0) -> 8 | AM13: =IFERROR(__xludf.DUMMYFUNCTION("""COMPUTED_VALUE"""),1.0) -> 1 | AN13: =IFERROR(__xludf.DUMMYFUNCTION("""COMPUTED_VALUE"""),7.0) -> 7 | AO13: =IFERROR(__xludf.DUMMYFUNCTION("""COMPUTED_VALUE"""),22.3) -> 22.3 | AP13: =IFERROR(__xludf.DUMMYFUNCTION("""COMPUTED_VALUE"""),15.1) -> 15.1 | AQ13: =IFERROR(__xludf.DUMMYFUNCTION("""COMPUTED_VALUE"""),23.3) -> 23.3 | AR13: =IFERROR(__xludf.DUMMYFUNCTION("""COMPUTED_VALUE"""),8.5) -> 8.5 | AS13: =IFERROR(__xludf.DUMMYFUNCTION("""COMPUTED_VALUE"""),43.6) -> 43.6 | AT13: =IFERROR(__xludf.DUMMYFUNCTION("""COMPUTED_VALUE"""),7.0) -> 7 | AU13: =IFERROR(__xludf.DUMMYFUNCTION("""COMPUTED_VALUE"""),20.900000000000002) -> 20.9 | AV13: =IFERROR(__xludf.DUMMYFUNCTION("""COMPUTED_VALUE"""),8.5) -> 8.5 | AW13: =IFERROR(__xludf.DUMMYFUNCTION("""COMPUTED_VALUE"""),38.0) -> 38 | AX13: =IFERROR(__xludf.DUMMYFUNCTION("""COMPUTED_VALUE"""),0.0) -> 0 | AY13: =IFERROR(__xludf.DUMMYFUNCTION("""COMPUTED_VALUE"""),1.4) -> 1.4 | AZ13: =IFERROR(__xludf.DUMMYFUNCTION("""COMPUTED_VALUE"""),0.0) -> 0 | BA13: =IFERROR(__xludf.DUMMYFUNCTION("""COMPUTED_VALUE"""),2.0) -> 2 | BB13: =IFERROR(__xludf.DUMMYFUNCTION("""COMPUTED_VALUE"""),5.0) -> 5 | BC13: =IFERROR(__xludf.DUMMYFUNCTION("""COMPUTED_VALUE"""),5.0) -> 5 | BD13: =IFERROR(__xludf.DUMMYFUNCTION("""COMPUTED_VALUE"""),8.0) -> 8 | BE13: =IFERROR(__xludf.DUMMYFUNCTION("""COMPUTED_VALUE"""),7.0) -> 7 | BF13: =IFERROR(__xludf.DUMMYFUNCTION("""COMPUTED_VALUE"""),-1.0) -> -1 | BG13: =IFERROR(__xludf.DUMMYFUNCTION("""COMPUTED_VALUE"""),5.0) -> 5 | BJ13: =IFERROR(__xludf.DUMMYFUNCTION("""COMPUTED_VALUE"""),2.0) -> 2 | BK13: =IFERROR(__xludf.DUMMYFUNCTION("""COMPUTED_VALUE"""),0.0) -> 0 | BL13: =IFERROR(__xludf.DUMMYFUNCTION("""COMPUTED_VALUE"""),0.0) -> 0 | BM13: =IFERROR(__xludf.DUMMYFUNCTION("""COMPUTED_VALUE"""),4.0) -> 4 | BN13: =IFERROR(__xludf.DUMMYFUNCTION("""COMPUTED_VALUE"""),"C") -> C | BO13: =IFERROR(__xludf.DUMMYFUNCTION("""COMPUTED_VALUE"""),"3p50") -> 3p50 | BP13: =IFERROR(__xludf.DUMMYFUNCTION("""COMPUTED_VALUE"""),10.0) -> 10
AH15: =IFERROR(__xludf.DUMMYFUNCTION("QUERY(PitcherCalcs!B1:DC523,""select B, E, G, H, M, N, S, T, Y, Z, AE, AF, AK, AL, AQ, AR, AW, AX, BE, BF, BK, BL, BQ, BR, BW, CD, CE, CF, CH, CI, CJ, CK, CO, CP, CN where B = '"" & B12 & ""'"")"),"Name") -> Name | AI15: =IFERROR(__xludf.DUMMYFUNCTION("""COMPUTED_VALUE"""),"hand") -> hand | AJ15: =IFERROR(__xludf.DUMMYFUNCTION("""COMPUTED_VALUE"""),"SO vlhp") -> SO vlhp | AK15: =IFERROR(__xludf.DUMMYFUNCTION("""COMPUTED_VALUE"""),"SO v rhp") -> SO v rhp | AL15: =IFERROR(__xludf.DUMMYFUNCTION("""COMPUTED_VALUE"""),"BB vlhp") -> BB vlhp | AM15: =IFERROR(__xludf.DUMMYFUNCTION("""COMPUTED_VALUE"""),"BB v rhp") -> BB v rhp | AN15: =IFERROR(__xludf.DUMMYFUNCTION("""COMPUTED_VALUE"""),"HIT v lhp") -> HIT v lhp | AO15: =IFERROR(__xludf.DUMMYFUNCTION("""COMPUTED_VALUE"""),"HIT v rhp") -> HIT v rhp | AP15: =IFERROR(__xludf.DUMMYFUNCTION("""COMPUTED_VALUE"""),"OB v lhp") -> OB v lhp | AQ15: =IFERROR(__xludf.DUMMYFUNCTION("""COMPUTED_VALUE"""),"OB v rhp") -> OB v rhp | AR15: =IFERROR(__xludf.DUMMYFUNCTION("""COMPUTED_VALUE"""),"TB v lhp") -> TB v lhp | AS15: =IFERROR(__xludf.DUMMYFUNCTION("""COMPUTED_VALUE"""),"TB v rhp") -> TB v rhp | AT15: =IFERROR(__xludf.DUMMYFUNCTION("""COMPUTED_VALUE"""),"123B v lhp") -> 123B v lhp | AU15: =IFERROR(__xludf.DUMMYFUNCTION("""COMPUTED_VALUE"""),"123b v rhp") -> 123b v rhp | AV15: =IFERROR(__xludf.DUMMYFUNCTION("""COMPUTED_VALUE"""),"123TB v l") -> 123TB v l | AW15: =IFERROR(__xludf.DUMMYFUNCTION("""COMPUTED_VALUE"""),"123TB v rhp") -> 123TB v rhp | AX15: =IFERROR(__xludf.DUMMYFUNCTION("""COMPUTED_VALUE"""),"HR v lhp") -> HR v lhp | AY15: =IFERROR(__xludf.DUMMYFUNCTION("""COMPUTED_VALUE"""),"HR v rhp") -> HR v rhp | AZ15: =IFERROR(__xludf.DUMMYFUNCTION("""COMPUTED_VALUE"""),"BPHR vL") -> BPHR vL | BA15: =IFERROR(__xludf.DUMMYFUNCTION("""COMPUTED_VALUE"""),"BPHR vR") -> BPHR vR | BB15: =IFERROR(__xludf.DUMMYFUNCTION("""COMPUTED_VALUE"""),"BP1B v lhp") -> BP1B v lhp | BC15: =IFERROR(__xludf.DUMMYFUNCTION("""COMPUTED_VALUE"""),"BP1b v rhp") -> BP1b v rhp | BD15: =IFERROR(__xludf.DUMMYFUNCTION("""COMPUTED_VALUE"""),"DP vlhp") -> DP vlhp | BE15: =IFERROR(__xludf.DUMMYFUNCTION("""COMPUTED_VALUE"""),"DP v rhp") -> DP v rhp | BF15: =IFERROR(__xludf.DUMMYFUNCTION("""COMPUTED_VALUE"""),"HO") -> HO | BG15: =IFERROR(__xludf.DUMMYFUNCTION("""COMPUTED_VALUE"""),"SP") -> SP | BH15: =IFERROR(__xludf.DUMMYFUNCTION("""COMPUTED_VALUE"""),"RP") -> RP | BI15: =IFERROR(__xludf.DUMMYFUNCTION("""COMPUTED_VALUE"""),"CP") -> CP | BJ15: =IFERROR(__xludf.DUMMYFUNCTION("""COMPUTED_VALUE"""),"Range") -> Range | BK15: =IFERROR(__xludf.DUMMYFUNCTION("""COMPUTED_VALUE"""),"Error") -> Error | BL15: =IFERROR(__xludf.DUMMYFUNCTION("""COMPUTED_VALUE"""),"BK") -> BK | BM15: =IFERROR(__xludf.DUMMYFUNCTION("""COMPUTED_VALUE"""),"WP") -> WP | BN15: =IFERROR(__xludf.DUMMYFUNCTION("""COMPUTED_VALUE"""),"Bunt") -> Bunt | BO15: =IFERROR(__xludf.DUMMYFUNCTION("""COMPUTED_VALUE"""),"Injury") -> Injury | BP15: =IFERROR(__xludf.DUMMYFUNCTION("""COMPUTED_VALUE"""),"SPD") -> SPD
AH16: =IFERROR(__xludf.DUMMYFUNCTION("""COMPUTED_VALUE"""),"Dylan Cease") -> Dylan Cease | AI16: =IFERROR(__xludf.DUMMYFUNCTION("""COMPUTED_VALUE"""),"R") -> R | AJ16: =IFERROR(__xludf.DUMMYFUNCTION("""COMPUTED_VALUE"""),32.0) -> 32 | AK16: =IFERROR(__xludf.DUMMYFUNCTION("""COMPUTED_VALUE"""),46.0) -> 46 | AL16: =IFERROR(__xludf.DUMMYFUNCTION("""COMPUTED_VALUE"""),9.0) -> 9 | AM16: =IFERROR(__xludf.DUMMYFUNCTION("""COMPUTED_VALUE"""),10.0) -> 10 | AN16: =IFERROR(__xludf.DUMMYFUNCTION("""COMPUTED_VALUE"""),10.4) -> 10.4 | AO16: =IFERROR(__xludf.DUMMYFUNCTION("""COMPUTED_VALUE"""),7.0) -> 7 | AP16: =IFERROR(__xludf.DUMMYFUNCTION("""COMPUTED_VALUE"""),19.5) -> 19.5 | AQ16: =IFERROR(__xludf.DUMMYFUNCTION("""COMPUTED_VALUE"""),17.0) -> 17 | AR16: =IFERROR(__xludf.DUMMYFUNCTION("""COMPUTED_VALUE"""),23.0) -> 23 | AS16: =IFERROR(__xludf.DUMMYFUNCTION("""COMPUTED_VALUE"""),13.1) -> 13.1 | AT16: =IFERROR(__xludf.DUMMYFUNCTION("""COMPUTED_VALUE"""),8.6) -> 8.6 | AU16: =IFERROR(__xludf.DUMMYFUNCTION("""COMPUTED_VALUE"""),6.2) -> 6.2 | AV16: =IFERROR(__xludf.DUMMYFUNCTION("""COMPUTED_VALUE"""),15.8) -> 15.8 | AW16: =IFERROR(__xludf.DUMMYFUNCTION("""COMPUTED_VALUE"""),9.899999999999999) -> 9.9 | AX16: =IFERROR(__xludf.DUMMYFUNCTION("""COMPUTED_VALUE"""),1.8) -> 1.8 | AY16: =IFERROR(__xludf.DUMMYFUNCTION("""COMPUTED_VALUE"""),0.8) -> 0.8 | AZ16: =IFERROR(__xludf.DUMMYFUNCTION("""COMPUTED_VALUE"""),2.0) -> 2 | BA16: =IFERROR(__xludf.DUMMYFUNCTION("""COMPUTED_VALUE"""),0.0) -> 0 | BB16: =IFERROR(__xludf.DUMMYFUNCTION("""COMPUTED_VALUE"""),5.0) -> 5 | BC16: =IFERROR(__xludf.DUMMYFUNCTION("""COMPUTED_VALUE"""),5.0) -> 5 | BD16: =IFERROR(__xludf.DUMMYFUNCTION("""COMPUTED_VALUE"""),5.0) -> 5 | BE16: =IFERROR(__xludf.DUMMYFUNCTION("""COMPUTED_VALUE"""),3.0) -> 3 | BF16: =IFERROR(__xludf.DUMMYFUNCTION("""COMPUTED_VALUE"""),-3.0) -> -3 | BG16: =IFERROR(__xludf.DUMMYFUNCTION("""COMPUTED_VALUE"""),6.0) -> 6 | BJ16: =IFERROR(__xludf.DUMMYFUNCTION("""COMPUTED_VALUE"""),3.0) -> 3 | BK16: =IFERROR(__xludf.DUMMYFUNCTION("""COMPUTED_VALUE"""),0.0) -> 0 | BL16: =IFERROR(__xludf.DUMMYFUNCTION("""COMPUTED_VALUE"""),0.0) -> 0 | BM16: =IFERROR(__xludf.DUMMYFUNCTION("""COMPUTED_VALUE"""),15.0) -> 15 | BN16: =IFERROR(__xludf.DUMMYFUNCTION("""COMPUTED_VALUE"""),"C") -> C | BO16: =IFERROR(__xludf.DUMMYFUNCTION("""COMPUTED_VALUE"""),"0p72") -> 0p72 | BP16: =IFERROR(__xludf.DUMMYFUNCTION("""COMPUTED_VALUE"""),10.0) -> 10
A28: vs Team | B28: =if(Q1,AB1,S4) -> West Virginia Black Bears | F28: {=index(Imports!$AB$2:$AB$18,match(B28,Imports!$AE$2:$AE$18,0))} -> 548 | R28: vs Team: | S28: =if(Q1,AB13,S7) -> Big Sky Snow Geese | W28: {=index(Imports!$AB$2:$AB$18,match(S28,Imports!$AE$2:$AE$18,0))} -> 572
AH30: Roster Match Term: | AI30: =TEXTJOIN("|",True,A32:A52) -> Andy Pages|Ben Rice|Cedric Mullins|Ildemaro Vargas|JJ Bleday|Jorge Polanco|Josh Naylor|JT Realmuto|Mark Vientos|Mickey Moniak|Teoscar Hernandez|Trea Turner|Yordan Alvarez | BV30: Roster Match Term: | BW30: =TEXTJOIN("|",True,R32:R52) -> Bobby Witt Jr|Colton Cowser|Connor Wong|Hunter Goodman|Jordan Westburg|Junior Caminero|Leo Rivas|Matt Wallner|Michael Busch|Miguel Andujar|Nico Hoerner|Riley Greene|Sal Frelick
A31: =B28 & " Batters" -> West Virginia Black Bears Batters | B31: Hand | C31: AVG | D31: OBP | E31: SLG | F31: K% | G31: DP% | H31: DMG | I31: Order | J31: Pos | R31: =S28 & " Batters" -> Big Sky Snow Geese Batters | S31: Hand | T31: AVG | U31: OBP | V31: SLG | W31: K% | X31: DP% | Y31: DMG | Z31: Order | AA31: Pos | AH31: =IFERROR(__xludf.DUMMYFUNCTION("QUERY(BatterCalcs!B:CM,""select B, D, J, K, P, Q, V, W, AB, AC, AH, AI, AN, AO, AV, AW, BB, BC, BJ, BK, BS, BT, BZ, CA where B matches '(""& AI30 & "")' order by CM desc"")"),"Name") -> Name | AI31: =IFERROR(__xludf.DUMMYFUNCTION("""COMPUTED_VALUE"""),"hand") -> hand | AJ31: =IFERROR(__xludf.DUMMYFUNCTION("""COMPUTED_VALUE"""),"SO vlhp") -> SO vlhp | AK31: =IFERROR(__xludf.DUMMYFUNCTION("""COMPUTED_VALUE"""),"SO v rhp") -> SO v rhp | AL31: =IFERROR(__xludf.DUMMYFUNCTION("""COMPUTED_VALUE"""),"BB v lhp") -> BB v lhp | AM31: =IFERROR(__xludf.DUMMYFUNCTION("""COMPUTED_VALUE"""),"BB v rhp") -> BB v rhp | AN31: =IFERROR(__xludf.DUMMYFUNCTION("""COMPUTED_VALUE"""),"HIT v lhp") -> HIT v lhp | AO31: =IFERROR(__xludf.DUMMYFUNCTION("""COMPUTED_VALUE"""),"HIT v rhp") -> HIT v rhp | AP31: =IFERROR(__xludf.DUMMYFUNCTION("""COMPUTED_VALUE"""),"OB v lhp") -> OB v lhp | AQ31: =IFERROR(__xludf.DUMMYFUNCTION("""COMPUTED_VALUE"""),"OB v rhp") -> OB v rhp | AR31: =IFERROR(__xludf.DUMMYFUNCTION("""COMPUTED_VALUE"""),"TB v lhp") -> TB v lhp | AS31: =IFERROR(__xludf.DUMMYFUNCTION("""COMPUTED_VALUE"""),"TB v rhp") -> TB v rhp | AT31: =IFERROR(__xludf.DUMMYFUNCTION("""COMPUTED_VALUE"""),"HR v lhp") -> HR v lhp | AU31: =IFERROR(__xludf.DUMMYFUNCTION("""COMPUTED_VALUE"""),"HR v rhp") -> HR v rhp | AV31: =IFERROR(__xludf.DUMMYFUNCTION("""COMPUTED_VALUE"""),"BPHR v lhp") -> BPHR v lhp | AW31: =IFERROR(__xludf.DUMMYFUNCTION("""COMPUTED_VALUE"""),"BPHR v rhp") -> BPHR v rhp | AX31: =IFERROR(__xludf.DUMMYFUNCTION("""COMPUTED_VALUE"""),"BP1B v lhp") -> BP1B v lhp | AY31: =IFERROR(__xludf.DUMMYFUNCTION("""COMPUTED_VALUE"""),"BP1B v rhp") -> BP1B v rhp | AZ31: =IFERROR(__xludf.DUMMYFUNCTION("""COMPUTED_VALUE"""),"DP v lhp") -> DP v lhp | BA31: =IFERROR(__xludf.DUMMYFUNCTION("""COMPUTED_VALUE"""),"DP v rhp") -> DP v rhp | BB31: =IFERROR(__xludf.DUMMYFUNCTION("""COMPUTED_VALUE"""),"STEALING") -> STEALING | BC31: =IFERROR(__xludf.DUMMYFUNCTION("""COMPUTED_VALUE"""),"STL") -> STL | BD31: =IFERROR(__xludf.DUMMYFUNCTION("""COMPUTED_VALUE"""),"B") -> B | BE31: =IFERROR(__xludf.DUMMYFUNCTION("""COMPUTED_VALUE"""),"H") -> H | BF31: h-helper | BI31: HITS | BJ31: BP1B | BK31: BPHR | BL31: All H | BM31: OB | BN31: All OB | BO31: TB | BP31: All TB | BQ31: K | BR31: DP | BV31: =IFERROR(__xludf.DUMMYFUNCTION("QUERY(BatterCalcs!A:CM,""select B, D, J, K, P, Q, V, W, AB, AC, AH, AI, AN, AO, AV, AW, BB, BC, BJ, BK, BS, BT, BZ, CA where B matches '(""& BW30 & "")' order by CM desc"")"),"Name") -> Name | BW31: =IFERROR(__xludf.DUMMYFUNCTION("""COMPUTED_VALUE"""),"hand") -> hand | BX31: =IFERROR(__xludf.DUMMYFUNCTION("""COMPUTED_VALUE"""),"SO vlhp") -> SO vlhp | BY31: =IFERROR(__xludf.DUMMYFUNCTION("""COMPUTED_VALUE"""),"SO v rhp") -> SO v rhp | BZ31: =IFERROR(__xludf.DUMMYFUNCTION("""COMPUTED_VALUE"""),"BB v lhp") -> BB v lhp | CA31: =IFERROR(__xludf.DUMMYFUNCTION("""COMPUTED_VALUE"""),"BB v rhp") -> BB v rhp | CB31: =IFERROR(__xludf.DUMMYFUNCTION("""COMPUTED_VALUE"""),"HIT v lhp") -> HIT v lhp | CC31: =IFERROR(__xludf.DUMMYFUNCTION("""COMPUTED_VALUE"""),"HIT v rhp") -> HIT v rhp | CD31: =IFERROR(__xludf.DUMMYFUNCTION("""COMPUTED_VALUE"""),"OB v lhp") -> OB v lhp | CE31: =IFERROR(__xludf.DUMMYFUNCTION("""COMPUTED_VALUE"""),"OB v rhp") -> OB v rhp | CF31: =IFERROR(__xludf.DUMMYFUNCTION("""COMPUTED_VALUE"""),"TB v lhp") -> TB v lhp | CG31: =IFERROR(__xludf.DUMMYFUNCTION("""COMPUTED_VALUE"""),"TB v rhp") -> TB v rhp | CH31: =IFERROR(__xludf.DUMMYFUNCTION("""COMPUTED_VALUE"""),"HR v lhp") -> HR v lhp | CI31: =IFERROR(__xludf.DUMMYFUNCTION("""COMPUTED_VALUE"""),"HR v rhp") -> HR v rhp | CJ31: =IFERROR(__xludf.DUMMYFUNCTION("""COMPUTED_VALUE"""),"BPHR v lhp") -> BPHR v lhp | CK31: =IFERROR(__xludf.DUMMYFUNCTION("""COMPUTED_VALUE"""),"BPHR v rhp") -> BPHR v rhp | CL31: =IFERROR(__xludf.DUMMYFUNCTION("""COMPUTED_VALUE"""),"BP1B v lhp") -> BP1B v lhp | CM31: =IFERROR(__xludf.DUMMYFUNCTION("""COMPUTED_VALUE"""),"BP1B v rhp") -> BP1B v rhp | CN31: =IFERROR(__xludf.DUMMYFUNCTION("""COMPUTED_VALUE"""),"DP v lhp") -> DP v lhp | CO31: =IFERROR(__xludf.DUMMYFUNCTION("""COMPUTED_VALUE"""),"DP v rhp") -> DP v rhp | CP31: =IFERROR(__xludf.DUMMYFUNCTION("""COMPUTED_VALUE"""),"STEALING") -> STEALING | CQ31: =IFERROR(__xludf.DUMMYFUNCTION("""COMPUTED_VALUE"""),"STL") -> STL | CR31: =IFERROR(__xludf.DUMMYFUNCTION("""COMPUTED_VALUE"""),"B") -> B | CS31: =IFERROR(__xludf.DUMMYFUNCTION("""COMPUTED_VALUE"""),"H") -> H | CT31: h-helper | CW31: HITS | CX31: BP1B | CY31: BPHR | CZ31: All H | DA31: OB | DB31: All OB | DC31: TB | DD31: All TB | DE31: K | DF31: DP
A32: =IFERROR(__xludf.DUMMYFUNCTION("query(Imports!A2:H1587,""select B where H<>'SP' and H<>'RP' and F="" & F28 & ""order by B"")"),"Andy Pages") -> Andy Pages | B32: {=IF(A32:A52<>"",XLOOKUP(A32:A52,AH32:AH52,AI32:AI52),)} -> R | C32: {=if($A$32:$A$52<>"",XLOOKUP($A$32:$A$52, $AH$32:$AH$52,$BL$32:$BL$52,False) / 208,)} -> 0.14230769 | D32: {=if($A$32:$A$52<>"",XLOOKUP($A$32:$A$52, $AH$32:$AH$52,$BM$32:$BM$52,False) / 208,)} -> 0.21923077 | E32: {=if($A$32:$A$52<>"",XLOOKUP($A$32:$A$52, $AH$32:$AH$52,$BP$32:$BP$52,False) / 208,)} -> 0.23798077 | F32: {=if($A$32:$A$52<>"",XLOOKUP($A$32:$A$52, $AH$32:$AH$52,$BQ$32:$BQ$52,False) / 208,)} -> 0.36057692 | G32: {=if($A$32:$A$52<>"",XLOOKUP($A$32:$A$52, $AH$32:$AH$52,$BR$32:$BR$52,False) / 208,)} -> 0.086538462 | H32: =if(not(isblank(A32)),(max(D32, C32*1.5)+E32) * (1 - G32),) -> 0.41764516 | R32: =IFERROR(__xludf.DUMMYFUNCTION("query(Imports!A2:H1587,""select B where H<>'SP' and H<>'RP' and F="" & W28 & ""order by B"")"),"Bobby Witt Jr") -> Bobby Witt Jr | S32: {=IF(R32:R52<>"",XLOOKUP(R32:R52, BV32:BV52, BW32:BW52),)} -> R | T32: {=if($R$32:$R$52<>"",XLOOKUP($R$32:$R$52, $BV$32:$BV$52, $CZ$32:$CZ$52,False) / 208,)} -> 0.29807692 | U32: {=if($R$32:$R$52<>"",XLOOKUP($R$32:$R$52, $BV$32:$BV$52, DA32:DA52,False) / 208,)} -> 0.33173077 | V32: {=if($R$32:$R$52<>"",XLOOKUP($R$32:$R$52, $BV$32:$BV$52, DD32:DD52,False) / 208,)} -> 0.57307692 | W32: {=if($R$32:$R$52<>"",XLOOKUP($R$32:$R$52, $BV$32:$BV$52, DE32:DE52,False) / 208,)} -> 0.22115385 | X32: {=if($R$32:$R$52<>"",XLOOKUP($R$32:$R$52, $BV$32:$BV$52, DF32:DF52,False) / 208,)} -> 0.038461538 | Y32: =if(not(isblank(R32)),(max(U32, T32*1.5)+V32) * (1 - X32),) -> 0.98095414 | AH32: =IFERROR(__xludf.DUMMYFUNCTION("""COMPUTED_VALUE"""),"Mark Vientos") -> Mark Vientos | AI32: =IFERROR(__xludf.DUMMYFUNCTION("""COMPUTED_VALUE"""),"R") -> R | AJ32: =IFERROR(__xludf.DUMMYFUNCTION("""COMPUTED_VALUE"""),42.0) -> 42 | AK32: =IFERROR(__xludf.DUMMYFUNCTION("""COMPUTED_VALUE"""),38.0) -> 38 | AL32: =IFERROR(__xludf.DUMMYFUNCTION("""COMPUTED_VALUE"""),4.0) -> 4 | AM32: =IFERROR(__xludf.DUMMYFUNCTION("""COMPUTED_VALUE"""),10.0) -> 10 | AN32: =IFERROR(__xludf.DUMMYFUNCTION("""COMPUTED_VALUE"""),29.8) -> 29.8 | AO32: =IFERROR(__xludf.DUMMYFUNCTION("""COMPUTED_VALUE"""),18.5) -> 18.5 | AP32: =IFERROR(__xludf.DUMMYFUNCTION("""COMPUTED_VALUE"""),35.8) -> 35.8 | AQ32: =IFERROR(__xludf.DUMMYFUNCTION("""COMPUTED_VALUE"""),30.5) -> 30.5 | AR32: =IFERROR(__xludf.DUMMYFUNCTION("""COMPUTED_VALUE"""),53.8) -> 53.8 | AS32: =IFERROR(__xludf.DUMMYFUNCTION("""COMPUTED_VALUE"""),39.6) -> 39.6 | AT32: =IFERROR(__xludf.DUMMYFUNCTION("""COMPUTED_VALUE"""),4.3) -> 4.3 | AU32: =IFERROR(__xludf.DUMMYFUNCTION("""COMPUTED_VALUE"""),6.2) -> 6.2 | AV32: =IFERROR(__xludf.DUMMYFUNCTION("""COMPUTED_VALUE"""),6.0) -> 6 | AW32: =IFERROR(__xludf.DUMMYFUNCTION("""COMPUTED_VALUE"""),8.0) -> 8 | AX32: =IFERROR(__xludf.DUMMYFUNCTION("""COMPUTED_VALUE"""),5.0) -> 5 | AY32: =IFERROR(__xludf.DUMMYFUNCTION("""COMPUTED_VALUE"""),5.0) -> 5 | AZ32: =IFERROR(__xludf.DUMMYFUNCTION("""COMPUTED_VALUE"""),13.0) -> 13 | BA32: =IFERROR(__xludf.DUMMYFUNCTION("""COMPUTED_VALUE"""),9.0) -> 9 | BB32: =IFERROR(__xludf.DUMMYFUNCTION("""COMPUTED_VALUE"""),"-/- (---)") -> -/- (---) | BC32: =IFERROR(__xludf.DUMMYFUNCTION("""COMPUTED_VALUE"""),"E") -> E | BD32: =IFERROR(__xludf.DUMMYFUNCTION("""COMPUTED_VALUE"""),"D") -> D | BE32: =IFERROR(__xludf.DUMMYFUNCTION("""COMPUTED_VALUE"""),"D") -> D | BF32: =if(AI32<>"",ifs(AI32="L","L",AI32="R","R",and(AI32="S",$AI$16="R"),"L",True,"R"),) -> R | BI32: {=if($AH$32:$AH$52<>"",IF($BF$32:$BF$52="L",AN16,AO16)+if($AI$16="L",AN32:AN52,AO32:AO52),)} -> 25.5 | BJ32: {=if($AH$32:$AH$52<>"",(IF($BF$32:$BF$52="L",BB16,BC16)+if($AI$16="L",AX32:AX52,AY32:AY52)) * IF($BF$32:$BF$52="L",$B$11,$C$11) / 20,)} -> 3.5 | BK32: {=if($AH$32:$AH$52<>"",(IF($BF$32:$BF$52="L",AZ16,BA16)+if($AI$16="L",AV32:AV52,AW32:AW52)) * IF($BF$32:$BF$52="L",$E$11,$F$11) / 20,)} -> 2 | BL32: =SUM(BI32:BK32)+IF($J$12,10,0) -> 31 | BM32: {=if($AH$32:$AH$52<>"",IF($BF$32:$BF$52="L", AP16,AQ16)+if($AI$16="L",AP32:AP52,AQ32:AQ52),)} -> 47.5 | BN32: =SUM(BL32:BM32) -> 78.5 | BO32: {=if($AH$32:$AH$52<>"",IF($BF$32:$BF$52="L", AR16, AS16)+if($AI$16="L",AR32:AR52,AS32:AS52),)} -> 52.7 | BP32: =BO32+BJ32+BK32*4+IF($J$12,10,0) -> 64.2 | BQ32: {=if($AH$32:$AH$52<>"",IF($BF$32:$BF$52="L",AJ16, AK16)+if($AI$16="L",AJ32:AJ52,AK32:AK52),)} -> 84 | BR32: {=if($AH$32:$AH$52<>"",IF($BF$32:$BF$52="L", BD16,BE16)+if($AI$16="L",AZ32:AZ52,BA32:BA52),)} -> 12 | BV32: =IFERROR(__xludf.DUMMYFUNCTION("""COMPUTED_VALUE"""),"Sal Frelick") -> Sal Frelick | BW32: =IFERROR(__xludf.DUMMYFUNCTION("""COMPUTED_VALUE"""),"L") -> L | BX32: =IFERROR(__xludf.DUMMYFUNCTION("""COMPUTED_VALUE"""),10.0) -> 10 | BY32: =IFERROR(__xludf.DUMMYFUNCTION("""COMPUTED_VALUE"""),8.0) -> 8 | BZ32: =IFERROR(__xludf.DUMMYFUNCTION("""COMPUTED_VALUE"""),9.0) -> 9 | CA32: =IFERROR(__xludf.DUMMYFUNCTION("""COMPUTED_VALUE"""),6.0) -> 6 | CB32: =IFERROR(__xludf.DUMMYFUNCTION("""COMPUTED_VALUE"""),21.5) -> 21.5 | CC32: =IFERROR(__xludf.DUMMYFUNCTION("""COMPUTED_VALUE"""),25.9) -> 25.9 | CD32: =IFERROR(__xludf.DUMMYFUNCTION("""COMPUTED_VALUE"""),32.5) -> 32.5 | CE32: =IFERROR(__xludf.DUMMYFUNCTION("""COMPUTED_VALUE"""),33.9) -> 33.9 | CF32: =IFERROR(__xludf.DUMMYFUNCTION("""COMPUTED_VALUE"""),37.7) -> 37.7 | CG32: =IFERROR(__xludf.DUMMYFUNCTION("""COMPUTED_VALUE"""),33.0) -> 33 | CH32: =IFERROR(__xludf.DUMMYFUNCTION("""COMPUTED_VALUE"""),2.3) -> 2.3 | CI32: =IFERROR(__xludf.DUMMYFUNCTION("""COMPUTED_VALUE"""),0.5) -> 0.5 | CJ32: =IFERROR(__xludf.DUMMYFUNCTION("""COMPUTED_VALUE"""),-3.0) -> -3 | CK32: =IFERROR(__xludf.DUMMYFUNCTION("""COMPUTED_VALUE"""),-3.0) -> -3 | CL32: =IFERROR(__xludf.DUMMYFUNCTION("""COMPUTED_VALUE"""),5.0) -> 5 | CM32: =IFERROR(__xludf.DUMMYFUNCTION("""COMPUTED_VALUE"""),5.0) -> 5 | CN32: =IFERROR(__xludf.DUMMYFUNCTION("""COMPUTED_VALUE"""),11.0) -> 11 | CO32: =IFERROR(__xludf.DUMMYFUNCTION("""COMPUTED_VALUE"""),12.0) -> 12 | CP32: =IFERROR(__xludf.DUMMYFUNCTION("""COMPUTED_VALUE"""),"*4,5/- (19-12)") -> *4,5/- (19-12) | CQ32: =IFERROR(__xludf.DUMMYFUNCTION("""COMPUTED_VALUE"""),"A") -> A | CR32: =IFERROR(__xludf.DUMMYFUNCTION("""COMPUTED_VALUE"""),"C") -> C | CS32: =IFERROR(__xludf.DUMMYFUNCTION("""COMPUTED_VALUE"""),"C") -> C | CT32: =if(BW32<>"",ifs(BW32="L","L",BW32="R","R",and(BW32="S",$AI$13="R"),"L",True,"R"),) -> L | CW32: {=if($BV$32:$BV$52<>"",IF($CT$32:$CT$52="L",AN13,AO13)+if($AI$13="L",CB32:CB52,CC32:CC52),)} -> 32.9 | CX32: {=if($BV$32:$BV$52<>"",(IF($CT$32:$CT$52="L",BB13,BC13)+if($AI$13="L",CL32:CL52,CM32:CM52)) * IF($CT$32:$CT$52="L",$B$11,$C$11) / 20,)} -> 2.5 | CY32: {=if($BV$32:$BV$52<>"",(IF($CT$32:$CT$52="L",AZ13,BA13)+if($AI$13="L",CJ32:CJ52,CK32:CK52)) * IF($CT$32:$CT$52="L",$E$11,$F$11) / 20,)} -> -1.05 | CZ32: =SUM(CW32:CY32)+IF($AA$12,10,0) -> 34.35 | DA32: {=if($BV$32:$BV$52<>"",(IF($CT$32:$CT$52="L",AP13,AQ13)+if($AI$13="L",CD32:CD52,CE32:CE52)),)} -> 49 | DB32: =SUM(CZ32:DA32) -> 83.35 | DC32: {=if($BV$32:$BV$52<>"",(IF($CT$32:$CT$52="L",AR13,AS13)+if($AI$13="L",CF32:CF52,CG32:CG52)),)} -> 41.5 | DD32: =DC32+CX32+CY32*4+IF($AA$12,10,0) -> 39.8 | DE32: {=if($BV$32:$BV$52<>"",(IF($CT$32:$CT$52="L",AJ13,AK13)+if($AI$13="L",BX32:BX52,BY32:BY52)),)} -> 45 | DF32: {=if($BV$32:$BV$52<>"",(IF($CT$32:$CT$52="L",BD13,BE13)+if($AI$13="L", CN32:CN52, CO32:CO52)),)} -> 20
A33: =IFERROR(__xludf.DUMMYFUNCTION("""COMPUTED_VALUE"""),"Ben Rice") -> Ben Rice | B33: L | C33: 0.099519231 | D33: 0.18798077 | E33: 0.25985577 | F33: 0.33653846 | G33: 0.0625 | H33: =if(not(isblank(A33)),(max(D33, C33*1.5)+E33) * (1 - G33),) -> 0.41984675 | R33: =IFERROR(__xludf.DUMMYFUNCTION("""COMPUTED_VALUE"""),"Colton Cowser") -> Colton Cowser | S33: L | T33: 0.14278846 | U33: 0.23173077 | V33: 0.25576923 | W33: 0.36538462 | X33: 0.086538462 | Y33: =if(not(isblank(R33)),(max(U33, T33*1.5)+V33) * (1 - X33),) -> 0.4453125 | AH33: =IFERROR(__xludf.DUMMYFUNCTION("""COMPUTED_VALUE"""),"Ildemaro Vargas") -> Ildemaro Vargas | AI33: =IFERROR(__xludf.DUMMYFUNCTION("""COMPUTED_VALUE"""),"S") -> S | AJ33: =IFERROR(__xludf.DUMMYFUNCTION("""COMPUTED_VALUE"""),0.0) -> 0 | AK33: =IFERROR(__xludf.DUMMYFUNCTION("""COMPUTED_VALUE"""),0.0) -> 0 | AL33: =IFERROR(__xludf.DUMMYFUNCTION("""COMPUTED_VALUE"""),1.0) -> 1 | AM33: =IFERROR(__xludf.DUMMYFUNCTION("""COMPUTED_VALUE"""),7.0) -> 7 | AN33: =IFERROR(__xludf.DUMMYFUNCTION("""COMPUTED_VALUE"""),25.4) -> 25.4 | AO33: =IFERROR(__xludf.DUMMYFUNCTION("""COMPUTED_VALUE"""),17.5) -> 17.5 | AP33: =IFERROR(__xludf.DUMMYFUNCTION("""COMPUTED_VALUE"""),28.4) -> 28.4 | AQ33: =IFERROR(__xludf.DUMMYFUNCTION("""COMPUTED_VALUE"""),26.5) -> 26.5 | AR33: =IFERROR(__xludf.DUMMYFUNCTION("""COMPUTED_VALUE"""),37.0) -> 37 | AS33: =IFERROR(__xludf.DUMMYFUNCTION("""COMPUTED_VALUE"""),24.4) -> 24.4 | AT33: =IFERROR(__xludf.DUMMYFUNCTION("""COMPUTED_VALUE"""),0.0) -> 0 | AU33: =IFERROR(__xludf.DUMMYFUNCTION("""COMPUTED_VALUE"""),1.5) -> 1.5 | AV33: =IFERROR(__xludf.DUMMYFUNCTION("""COMPUTED_VALUE"""),-3.0) -> -3 | AW33: =IFERROR(__xludf.DUMMYFUNCTION("""COMPUTED_VALUE"""),-3.0) -> -3 | AX33: =IFERROR(__xludf.DUMMYFUNCTION("""COMPUTED_VALUE"""),5.0) -> 5 | AY33: =IFERROR(__xludf.DUMMYFUNCTION("""COMPUTED_VALUE"""),5.0) -> 5 | AZ33: =IFERROR(__xludf.DUMMYFUNCTION("""COMPUTED_VALUE"""),25.0) -> 25 | BA33: =IFERROR(__xludf.DUMMYFUNCTION("""COMPUTED_VALUE"""),23.0) -> 23 | BB33: =IFERROR(__xludf.DUMMYFUNCTION("""COMPUTED_VALUE"""),"*3-6/- (16-12)") -> *3-6/- (16-12) | BC33: =IFERROR(__xludf.DUMMYFUNCTION("""COMPUTED_VALUE"""),"B") -> B | BD33: =IFERROR(__xludf.DUMMYFUNCTION("""COMPUTED_VALUE"""),"C") -> C | BE33: =IFERROR(__xludf.DUMMYFUNCTION("""COMPUTED_VALUE"""),"B") -> B | BF33: =if(AI33<>"",ifs(AI33="L","L",AI33="R","R",and(AI33="S",$AI$16="R"),"L",True,"R"),) -> L | BI33: 27.9 | BJ33: 2.5 | BK33: -0.35 | BL33: =SUM(BI33:BK33)+IF($J$12,10,0) -> 30.05 | BM33: 46 | BN33: =SUM(BL33:BM33) -> 76.05 | BO33: 47.4 | BP33: =BO33+BJ33+BK33*4+IF($J$12,10,0) -> 48.5 | BQ33: 32 | BR33: 28 | BV33: =IFERROR(__xludf.DUMMYFUNCTION("""COMPUTED_VALUE"""),"Michael Busch") -> Michael Busch | BW33: =IFERROR(__xludf.DUMMYFUNCTION("""COMPUTED_VALUE"""),"L") -> L | BX33: =IFERROR(__xludf.DUMMYFUNCTION("""COMPUTED_VALUE"""),29.0) -> 29 | BY33: =IFERROR(__xludf.DUMMYFUNCTION("""COMPUTED_VALUE"""),38.0) -> 38 | BZ33: =IFERROR(__xludf.DUMMYFUNCTION("""COMPUTED_VALUE"""),10.0) -> 10 | CA33: =IFERROR(__xludf.DUMMYFUNCTION("""COMPUTED_VALUE"""),15.0) -> 15 | CB33: =IFERROR(__xludf.DUMMYFUNCTION("""COMPUTED_VALUE"""),24.1) -> 24.1 | CC33: =IFERROR(__xludf.DUMMYFUNCTION("""COMPUTED_VALUE"""),17.4) -> 17.4 | CD33: =IFERROR(__xludf.DUMMYFUNCTION("""COMPUTED_VALUE"""),36.1) -> 36.1 | CE33: =IFERROR(__xludf.DUMMYFUNCTION("""COMPUTED_VALUE"""),34.4) -> 34.4 | CF33: =IFERROR(__xludf.DUMMYFUNCTION("""COMPUTED_VALUE"""),41.9) -> 41.9 | CG33: =IFERROR(__xludf.DUMMYFUNCTION("""COMPUTED_VALUE"""),32.1) -> 32.1 | CH33: =IFERROR(__xludf.DUMMYFUNCTION("""COMPUTED_VALUE"""),2.0) -> 2 | CI33: =IFERROR(__xludf.DUMMYFUNCTION("""COMPUTED_VALUE"""),3.3) -> 3.3 | CJ33: =IFERROR(__xludf.DUMMYFUNCTION("""COMPUTED_VALUE"""),-3.0) -> -3 | CK33: =IFERROR(__xludf.DUMMYFUNCTION("""COMPUTED_VALUE"""),6.0) -> 6 | CL33: =IFERROR(__xludf.DUMMYFUNCTION("""COMPUTED_VALUE"""),5.0) -> 5 | CM33: =IFERROR(__xludf.DUMMYFUNCTION("""COMPUTED_VALUE"""),5.0) -> 5 | CN33: =IFERROR(__xludf.DUMMYFUNCTION("""COMPUTED_VALUE"""),12.0) -> 12 | CO33: =IFERROR(__xludf.DUMMYFUNCTION("""COMPUTED_VALUE"""),11.0) -> 11 | CP33: =IFERROR(__xludf.DUMMYFUNCTION("""COMPUTED_VALUE"""),"4/- (13-6)") -> 4/- (13-6) | CQ33: =IFERROR(__xludf.DUMMYFUNCTION("""COMPUTED_VALUE"""),"E") -> E | CR33: =IFERROR(__xludf.DUMMYFUNCTION("""COMPUTED_VALUE"""),"D") -> D | CS33: =IFERROR(__xludf.DUMMYFUNCTION("""COMPUTED_VALUE"""),"C") -> C | CT33: =if(BW33<>"",ifs(BW33="L","L",BW33="R","R",and(BW33="S",$AI$13="R"),"L",True,"R"),) -> L | CW33: 24.4 | CX33: 2.5 | CY33: 2.1 | CZ33: =SUM(CW33:CY33)+IF($AA$12,10,0) -> 29 | DA33: 49.5 | DB33: =SUM(CZ33:DA33) -> 78.5 | DC33: 40.6 | DD33: =DC33+CX33+CY33*4+IF($AA$12,10,0) -> 51.5 | DE33: 75 | DF33: 19
A34: =IFERROR(__xludf.DUMMYFUNCTION("""COMPUTED_VALUE"""),"Cedric Mullins") -> Cedric Mullins | B34: L | C34: 0.16129808 | D34: 0.24375 | E34: 0.31875 | F34: 0.24519231 | G34: 0.024038462 | H34: =if(not(isblank(A34)),(max(D34, C34*1.5)+E34) * (1 - G34),) -> 0.54897837 | I34: 4 | J34: CF | R34: =IFERROR(__xludf.DUMMYFUNCTION("""COMPUTED_VALUE"""),"Connor Wong") -> Connor Wong | S34: R | T34: 0.25240385 | U34: 0.25480769 | V34: 0.41153846 | W34: 0.31730769 | X34: 0.091346154 | Y34: =if(not(isblank(R34)),(max(U34, T34*1.5)+V34) * (1 - X34),) -> 0.71796759 | AH34: =IFERROR(__xludf.DUMMYFUNCTION("""COMPUTED_VALUE"""),"Yordan Alvarez") -> Yordan Alvarez | AI34: =IFERROR(__xludf.DUMMYFUNCTION("""COMPUTED_VALUE"""),"L") -> L | AJ34: =IFERROR(__xludf.DUMMYFUNCTION("""COMPUTED_VALUE"""),15.0) -> 15 | AK34: =IFERROR(__xludf.DUMMYFUNCTION("""COMPUTED_VALUE"""),6.0) -> 6 | AL34: =IFERROR(__xludf.DUMMYFUNCTION("""COMPUTED_VALUE"""),5.0) -> 5 | AM34: =IFERROR(__xludf.DUMMYFUNCTION("""COMPUTED_VALUE"""),11.0) -> 11 | AN34: =IFERROR(__xludf.DUMMYFUNCTION("""COMPUTED_VALUE"""),42.9) -> 42.9 | AO34: =IFERROR(__xludf.DUMMYFUNCTION("""COMPUTED_VALUE"""),24.0) -> 24 | AP34: =IFERROR(__xludf.DUMMYFUNCTION("""COMPUTED_VALUE"""),51.9) -> 51.9 | AQ34: =IFERROR(__xludf.DUMMYFUNCTION("""COMPUTED_VALUE"""),39.0) -> 39 | AR34: =IFERROR(__xludf.DUMMYFUNCTION("""COMPUTED_VALUE"""),67.7) -> 67.7 | AS34: =IFERROR(__xludf.DUMMYFUNCTION("""COMPUTED_VALUE"""),47.2) -> 47.2 | AT34: =IFERROR(__xludf.DUMMYFUNCTION("""COMPUTED_VALUE"""),4.0) -> 4 | AU34: =IFERROR(__xludf.DUMMYFUNCTION("""COMPUTED_VALUE"""),6.0) -> 6 | AV34: =IFERROR(__xludf.DUMMYFUNCTION("""COMPUTED_VALUE"""),8.0) -> 8 | AW34: =IFERROR(__xludf.DUMMYFUNCTION("""COMPUTED_VALUE"""),8.0) -> 8 | AX34: =IFERROR(__xludf.DUMMYFUNCTION("""COMPUTED_VALUE"""),5.0) -> 5 | AY34: =IFERROR(__xludf.DUMMYFUNCTION("""COMPUTED_VALUE"""),5.0) -> 5 | AZ34: =IFERROR(__xludf.DUMMYFUNCTION("""COMPUTED_VALUE"""),20.0) -> 20 | BA34: =IFERROR(__xludf.DUMMYFUNCTION("""COMPUTED_VALUE"""),17.0) -> 17 | BB34: =IFERROR(__xludf.DUMMYFUNCTION("""COMPUTED_VALUE"""),"2/- (20-6)") -> 2/- (20-6) | BC34: =IFERROR(__xludf.DUMMYFUNCTION("""COMPUTED_VALUE"""),"C") -> C | BD34: =IFERROR(__xludf.DUMMYFUNCTION("""COMPUTED_VALUE"""),"C") -> C | BE34: =IFERROR(__xludf.DUMMYFUNCTION("""COMPUTED_VALUE"""),"C") -> C | BF34: =if(AI34<>"",ifs(AI34="L","L",AI34="R","R",and(AI34="S",$AI$16="R"),"L",True,"R"),) -> L | BI34: 34.4 | BJ34: 2.5 | BK34: 3.5 | BL34: =SUM(BI34:BK34)+IF($J$12,10,0) -> 40.4 | BM34: 58.5 | BN34: =SUM(BL34:BM34) -> 98.9 | BO34: 70.2 | BP34: =BO34+BJ34+BK34*4+IF($J$12,10,0) -> 86.7 | BQ34: 38 | BR34: 22 | BV34: =IFERROR(__xludf.DUMMYFUNCTION("""COMPUTED_VALUE"""),"Junior Caminero") -> Junior Caminero | BW34: =IFERROR(__xludf.DUMMYFUNCTION("""COMPUTED_VALUE"""),"R") -> R | BX34: =IFERROR(__xludf.DUMMYFUNCTION("""COMPUTED_VALUE"""),7.0) -> 7 | BY34: =IFERROR(__xludf.DUMMYFUNCTION("""COMPUTED_VALUE"""),24.0) -> 24 | BZ34: =IFERROR(__xludf.DUMMYFUNCTION("""COMPUTED_VALUE"""),0.0) -> 0 | CA34: =IFERROR(__xludf.DUMMYFUNCTION("""COMPUTED_VALUE"""),4.0) -> 4 | CB34: =IFERROR(__xludf.DUMMYFUNCTION("""COMPUTED_VALUE"""),41.4) -> 41.4 | CC34: =IFERROR(__xludf.DUMMYFUNCTION("""COMPUTED_VALUE"""),19.5) -> 19.5 | CD34: =IFERROR(__xludf.DUMMYFUNCTION("""COMPUTED_VALUE"""),42.4) -> 42.4 | CE34: =IFERROR(__xludf.DUMMYFUNCTION("""COMPUTED_VALUE"""),24.5) -> 24.5 | CF34: =IFERROR(__xludf.DUMMYFUNCTION("""COMPUTED_VALUE"""),51.7) -> 51.7 | CG34: =IFERROR(__xludf.DUMMYFUNCTION("""COMPUTED_VALUE"""),36.0) -> 36 | CH34: =IFERROR(__xludf.DUMMYFUNCTION("""COMPUTED_VALUE"""),0.0) -> 0 | CI34: =IFERROR(__xludf.DUMMYFUNCTION("""COMPUTED_VALUE"""),3.2) -> 3.2 | CJ34: =IFERROR(__xludf.DUMMYFUNCTION("""COMPUTED_VALUE"""),-3.0) -> -3 | CK34: =IFERROR(__xludf.DUMMYFUNCTION("""COMPUTED_VALUE"""),5.0) -> 5 | CL34: =IFERROR(__xludf.DUMMYFUNCTION("""COMPUTED_VALUE"""),5.0) -> 5 | CM34: =IFERROR(__xludf.DUMMYFUNCTION("""COMPUTED_VALUE"""),5.0) -> 5 | CN34: =IFERROR(__xludf.DUMMYFUNCTION("""COMPUTED_VALUE"""),8.0) -> 8 | CO34: =IFERROR(__xludf.DUMMYFUNCTION("""COMPUTED_VALUE"""),7.0) -> 7 | CP34: =IFERROR(__xludf.DUMMYFUNCTION("""COMPUTED_VALUE"""),"3/- (20-6)") -> 3/- (20-6) | CQ34: =IFERROR(__xludf.DUMMYFUNCTION("""COMPUTED_VALUE"""),"D") -> D | CR34: =IFERROR(__xludf.DUMMYFUNCTION("""COMPUTED_VALUE"""),"D") -> D | CS34: =IFERROR(__xludf.DUMMYFUNCTION("""COMPUTED_VALUE"""),"C") -> C | CT34: =if(BW34<>"",ifs(BW34="L","L",BW34="R","R",and(BW34="S",$AI$13="R"),"L",True,"R"),) -> R | CW34: 41.8 | CX34: 3.5 | CY34: 1.75 | CZ34: =SUM(CW34:CY34)+IF($AA$12,10,0) -> 47.05 | DA34: 47.8 | DB34: =SUM(CZ34:DA34) -> 94.85 | DC34: 79.6 | DD34: =DC34+CX34+CY34*4+IF($AA$12,10,0) -> 90.1 | DE34: 61 | DF34: 14
A35: =IFERROR(__xludf.DUMMYFUNCTION("""COMPUTED_VALUE"""),"Ildemaro Vargas") -> Ildemaro Vargas | B35: S | C35: 0.14447115 | D35: 0.22115385 | E35: 0.23317308 | F35: 0.15384615 | G35: 0.13461538 | H35: =if(not(isblank(A35)),(max(D35, C35*1.5)+E35) * (1 - G35),) -> 0.39316753 | R35: =IFERROR(__xludf.DUMMYFUNCTION("""COMPUTED_VALUE"""),"Hunter Goodman") -> Hunter Goodman | S35: R | T35: 0.16009615 | U35: 0.16009615 | V35: 0.36610577 | W35: 0.33173077 | X35: 0.125 | Y35: =if(not(isblank(R35)),(max(U35, T35*1.5)+V35) * (1 - X35),) -> 0.53046875 | AH35: =IFERROR(__xludf.DUMMYFUNCTION("""COMPUTED_VALUE"""),"Teoscar Hernandez") -> Teoscar Hernandez | AI35: =IFERROR(__xludf.DUMMYFUNCTION("""COMPUTED_VALUE"""),"R") -> R | AJ35: =IFERROR(__xludf.DUMMYFUNCTION("""COMPUTED_VALUE"""),35.0) -> 35 | AK35: =IFERROR(__xludf.DUMMYFUNCTION("""COMPUTED_VALUE"""),38.0) -> 38 | AL35: =IFERROR(__xludf.DUMMYFUNCTION("""COMPUTED_VALUE"""),5.0) -> 5 | AM35: =IFERROR(__xludf.DUMMYFUNCTION("""COMPUTED_VALUE"""),10.0) -> 10 | AN35: =IFERROR(__xludf.DUMMYFUNCTION("""COMPUTED_VALUE"""),27.0) -> 27 | AO35: =IFERROR(__xludf.DUMMYFUNCTION("""COMPUTED_VALUE"""),23.3) -> 23.3 | AP35: =IFERROR(__xludf.DUMMYFUNCTION("""COMPUTED_VALUE"""),35.0) -> 35 | AQ35: =IFERROR(__xludf.DUMMYFUNCTION("""COMPUTED_VALUE"""),36.3) -> 36.3 | AR35: =IFERROR(__xludf.DUMMYFUNCTION("""COMPUTED_VALUE"""),52.5) -> 52.5 | AS35: =IFERROR(__xludf.DUMMYFUNCTION("""COMPUTED_VALUE"""),39.5) -> 39.5 | AT35: =IFERROR(__xludf.DUMMYFUNCTION("""COMPUTED_VALUE"""),6.0) -> 6 | AU35: =IFERROR(__xludf.DUMMYFUNCTION("""COMPUTED_VALUE"""),3.8) -> 3.8 | AV35: =IFERROR(__xludf.DUMMYFUNCTION("""COMPUTED_VALUE"""),8.0) -> 8 | AW35: =IFERROR(__xludf.DUMMYFUNCTION("""COMPUTED_VALUE"""),5.0) -> 5 | AX35: =IFERROR(__xludf.DUMMYFUNCTION("""COMPUTED_VALUE"""),5.0) -> 5 | AY35: =IFERROR(__xludf.DUMMYFUNCTION("""COMPUTED_VALUE"""),5.0) -> 5 | AZ35: =IFERROR(__xludf.DUMMYFUNCTION("""COMPUTED_VALUE"""),6.0) -> 6 | BA35: =IFERROR(__xludf.DUMMYFUNCTION("""COMPUTED_VALUE"""),7.0) -> 7 | BB35: =IFERROR(__xludf.DUMMYFUNCTION("""COMPUTED_VALUE"""),"*6/- (18-6)") -> *6/- (18-6) | BC35: =IFERROR(__xludf.DUMMYFUNCTION("""COMPUTED_VALUE"""),"B") -> B | BD35: =IFERROR(__xludf.DUMMYFUNCTION("""COMPUTED_VALUE"""),"D") -> D | BE35: =IFERROR(__xludf.DUMMYFUNCTION("""COMPUTED_VALUE"""),"C") -> C | BF35: =if(AI35<>"",ifs(AI35="L","L",AI35="R","R",and(AI35="S",$AI$16="R"),"L",True,"R"),) -> R | BI35: 30.3 | BJ35: 3.5 | BK35: 1.25 | BL35: =SUM(BI35:BK35)+IF($J$12,10,0) -> 35.05 | BM35: 53.3 | BN35: =SUM(BL35:BM35) -> 88.35 | BO35: 52.6 | BP35: =BO35+BJ35+BK35*4+IF($J$12,10,0) -> 61.1 | BQ35: 84 | BR35: 10 | BV35: =IFERROR(__xludf.DUMMYFUNCTION("""COMPUTED_VALUE"""),"Leo Rivas") -> Leo Rivas | BW35: =IFERROR(__xludf.DUMMYFUNCTION("""COMPUTED_VALUE"""),"S") -> S | BX35: =IFERROR(__xludf.DUMMYFUNCTION("""COMPUTED_VALUE"""),48.0) -> 48 | BY35: =IFERROR(__xludf.DUMMYFUNCTION("""COMPUTED_VALUE"""),30.0) -> 30 | BZ35: =IFERROR(__xludf.DUMMYFUNCTION("""COMPUTED_VALUE"""),18.0) -> 18 | CA35: =IFERROR(__xludf.DUMMYFUNCTION("""COMPUTED_VALUE"""),15.0) -> 15 | CB35: =IFERROR(__xludf.DUMMYFUNCTION("""COMPUTED_VALUE"""),9.7) -> 9.7 | CC35: =IFERROR(__xludf.DUMMYFUNCTION("""COMPUTED_VALUE"""),21.6) -> 21.6 | CD35: =IFERROR(__xludf.DUMMYFUNCTION("""COMPUTED_VALUE"""),30.7) -> 30.7 | CE35: =IFERROR(__xludf.DUMMYFUNCTION("""COMPUTED_VALUE"""),39.6) -> 39.6 | CF35: =IFERROR(__xludf.DUMMYFUNCTION("""COMPUTED_VALUE"""),9.7) -> 9.7 | CG35: =IFERROR(__xludf.DUMMYFUNCTION("""COMPUTED_VALUE"""),28.7) -> 28.7 | CH35: =IFERROR(__xludf.DUMMYFUNCTION("""COMPUTED_VALUE"""),0.0) -> 0 | CI35: =IFERROR(__xludf.DUMMYFUNCTION("""COMPUTED_VALUE"""),0.0) -> 0 | CJ35: =IFERROR(__xludf.DUMMYFUNCTION("""COMPUTED_VALUE"""),-3.0) -> -3 | CK35: =IFERROR(__xludf.DUMMYFUNCTION("""COMPUTED_VALUE"""),-3.0) -> -3 | CL35: =IFERROR(__xludf.DUMMYFUNCTION("""COMPUTED_VALUE"""),5.0) -> 5 | CM35: =IFERROR(__xludf.DUMMYFUNCTION("""COMPUTED_VALUE"""),5.0) -> 5 | CN35: =IFERROR(__xludf.DUMMYFUNCTION("""COMPUTED_VALUE"""),8.0) -> 8 | CO35: =IFERROR(__xludf.DUMMYFUNCTION("""COMPUTED_VALUE"""),8.0) -> 8 | CP35: =IFERROR(__xludf.DUMMYFUNCTION("""COMPUTED_VALUE"""),"*5/- (20-11)") -> *5/- (20-11) | CQ35: =IFERROR(__xludf.DUMMYFUNCTION("""COMPUTED_VALUE"""),"B") -> B | CR35: =IFERROR(__xludf.DUMMYFUNCTION("""COMPUTED_VALUE"""),"B") -> B | CS35: =IFERROR(__xludf.DUMMYFUNCTION("""COMPUTED_VALUE"""),"D") -> D | CT35: =if(BW35<>"",ifs(BW35="L","L",BW35="R","R",and(BW35="S",$AI$13="R"),"L",True,"R"),) -> L | CW35: 28.6 | CX35: 2.5 | CY35: -1.05 | CZ35: =SUM(CW35:CY35)+IF($AA$12,10,0) -> 30.05 | DA35: 54.7 | DB35: =SUM(CZ35:DA35) -> 84.75 | DC35: 37.2 | DD35: =DC35+CX35+CY35*4+IF($AA$12,10,0) -> 35.5 | DE35: 67 | DF35: 16
A36: =IFERROR(__xludf.DUMMYFUNCTION("""COMPUTED_VALUE"""),"JJ Bleday") -> JJ Bleday | B36: L | C36: 0.17235577 | D36: 0.26778846 | E36: 0.33557692 | F36: 0.22596154 | G36: 0.0625 | H36: =if(not(isblank(A36)),(max(D36, C36*1.5)+E36) * (1 - G36),) -> 0.56565505 | R36: =IFERROR(__xludf.DUMMYFUNCTION("""COMPUTED_VALUE"""),"Jordan Westburg") -> Jordan Westburg | S36: R | T36: 0.26057692 | U36: 0.25817308 | V36: 0.49951923 | W36: 0.25961538 | X36: 0.072115385 | Y36: =if(not(isblank(R36)),(max(U36, T36*1.5)+V36) * (1 - X36),) -> 0.82617419 | AH36: =IFERROR(__xludf.DUMMYFUNCTION("""COMPUTED_VALUE"""),"Trea Turner") -> Trea Turner | AI36: =IFERROR(__xludf.DUMMYFUNCTION("""COMPUTED_VALUE"""),"R") -> R | AJ36: =IFERROR(__xludf.DUMMYFUNCTION("""COMPUTED_VALUE"""),13.0) -> 13 | AK36: =IFERROR(__xludf.DUMMYFUNCTION("""COMPUTED_VALUE"""),15.0) -> 15 | AL36: =IFERROR(__xludf.DUMMYFUNCTION("""COMPUTED_VALUE"""),8.0) -> 8 | AM36: =IFERROR(__xludf.DUMMYFUNCTION("""COMPUTED_VALUE"""),1.0) -> 1 | AN36: =IFERROR(__xludf.DUMMYFUNCTION("""COMPUTED_VALUE"""),30.5) -> 30.5 | AO36: =IFERROR(__xludf.DUMMYFUNCTION("""COMPUTED_VALUE"""),32.0) -> 32 | AP36: =IFERROR(__xludf.DUMMYFUNCTION("""COMPUTED_VALUE"""),40.5) -> 40.5 | AQ36: =IFERROR(__xludf.DUMMYFUNCTION("""COMPUTED_VALUE"""),35.0) -> 35 | AR36: =IFERROR(__xludf.DUMMYFUNCTION("""COMPUTED_VALUE"""),50.0) -> 50 | AS36: =IFERROR(__xludf.DUMMYFUNCTION("""COMPUTED_VALUE"""),42.6) -> 42.6 | AT36: =IFERROR(__xludf.DUMMYFUNCTION("""COMPUTED_VALUE"""),4.0) -> 4 | AU36: =IFERROR(__xludf.DUMMYFUNCTION("""COMPUTED_VALUE"""),2.4) -> 2.4 | AV36: =IFERROR(__xludf.DUMMYFUNCTION("""COMPUTED_VALUE"""),6.0) -> 6 | AW36: =IFERROR(__xludf.DUMMYFUNCTION("""COMPUTED_VALUE"""),4.0) -> 4 | AX36: =IFERROR(__xludf.DUMMYFUNCTION("""COMPUTED_VALUE"""),5.0) -> 5 | AY36: =IFERROR(__xludf.DUMMYFUNCTION("""COMPUTED_VALUE"""),5.0) -> 5 | AZ36: =IFERROR(__xludf.DUMMYFUNCTION("""COMPUTED_VALUE"""),15.0) -> 15 | BA36: =IFERROR(__xludf.DUMMYFUNCTION("""COMPUTED_VALUE"""),16.0) -> 16 | BB36: =IFERROR(__xludf.DUMMYFUNCTION("""COMPUTED_VALUE"""),"*4,6/- (19-12)") -> *4,6/- (19-12) | BC36: =IFERROR(__xludf.DUMMYFUNCTION("""COMPUTED_VALUE"""),"A") -> A | BD36: =IFERROR(__xludf.DUMMYFUNCTION("""COMPUTED_VALUE"""),"D") -> D | BE36: =IFERROR(__xludf.DUMMYFUNCTION("""COMPUTED_VALUE"""),"C") -> C | BF36: =if(AI36<>"",ifs(AI36="L","L",AI36="R","R",and(AI36="S",$AI$16="R"),"L",True,"R"),) -> R | BI36: 39 | BJ36: 3.5 | BK36: 1 | BL36: =SUM(BI36:BK36)+IF($J$12,10,0) -> 43.5 | BM36: 52 | BN36: =SUM(BL36:BM36) -> 95.5 | BO36: 55.7 | BP36: =BO36+BJ36+BK36*4+IF($J$12,10,0) -> 63.2 | BQ36: 61 | BR36: 19 | BV36: =IFERROR(__xludf.DUMMYFUNCTION("""COMPUTED_VALUE"""),"Jordan Westburg") -> Jordan Westburg | BW36: =IFERROR(__xludf.DUMMYFUNCTION("""COMPUTED_VALUE"""),"R") -> R | BX36: =IFERROR(__xludf.DUMMYFUNCTION("""COMPUTED_VALUE"""),38.0) -> 38 | BY36: =IFERROR(__xludf.DUMMYFUNCTION("""COMPUTED_VALUE"""),17.0) -> 17 | BZ36: =IFERROR(__xludf.DUMMYFUNCTION("""COMPUTED_VALUE"""),9.0) -> 9 | CA36: =IFERROR(__xludf.DUMMYFUNCTION("""COMPUTED_VALUE"""),1.0) -> 1 | CB36: =IFERROR(__xludf.DUMMYFUNCTION("""COMPUTED_VALUE"""),14.3) -> 14.3 | CC36: =IFERROR(__xludf.DUMMYFUNCTION("""COMPUTED_VALUE"""),26.4) -> 26.4 | CD36: =IFERROR(__xludf.DUMMYFUNCTION("""COMPUTED_VALUE"""),26.3) -> 26.3 | CE36: =IFERROR(__xludf.DUMMYFUNCTION("""COMPUTED_VALUE"""),30.4) -> 30.4 | CF36: =IFERROR(__xludf.DUMMYFUNCTION("""COMPUTED_VALUE"""),32.5) -> 32.5 | CG36: =IFERROR(__xludf.DUMMYFUNCTION("""COMPUTED_VALUE"""),48.8) -> 48.8 | CH36: =IFERROR(__xludf.DUMMYFUNCTION("""COMPUTED_VALUE"""),3.6) -> 3.6 | CI36: =IFERROR(__xludf.DUMMYFUNCTION("""COMPUTED_VALUE"""),3.2) -> 3.2 | CJ36: =IFERROR(__xludf.DUMMYFUNCTION("""COMPUTED_VALUE"""),8.0) -> 8 | CK36: =IFERROR(__xludf.DUMMYFUNCTION("""COMPUTED_VALUE"""),6.0) -> 6 | CL36: =IFERROR(__xludf.DUMMYFUNCTION("""COMPUTED_VALUE"""),5.0) -> 5 | CM36: =IFERROR(__xludf.DUMMYFUNCTION("""COMPUTED_VALUE"""),5.0) -> 5 | CN36: =IFERROR(__xludf.DUMMYFUNCTION("""COMPUTED_VALUE"""),6.0) -> 6 | CO36: =IFERROR(__xludf.DUMMYFUNCTION("""COMPUTED_VALUE"""),8.0) -> 8 | CP36: =IFERROR(__xludf.DUMMYFUNCTION("""COMPUTED_VALUE"""),"*4-6/- (15-11)") -> *4-6/- (15-11) | CQ36: =IFERROR(__xludf.DUMMYFUNCTION("""COMPUTED_VALUE"""),"C") -> C | CR36: =IFERROR(__xludf.DUMMYFUNCTION("""COMPUTED_VALUE"""),"D") -> D | CS36: =IFERROR(__xludf.DUMMYFUNCTION("""COMPUTED_VALUE"""),"C") -> C | CT36: =if(BW36<>"",ifs(BW36="L","L",BW36="R","R",and(BW36="S",$AI$13="R"),"L",True,"R"),) -> R | CW36: 48.7 | CX36: 3.5 | CY36: 2 | CZ36: =SUM(CW36:CY36)+IF($AA$12,10,0) -> 54.2 | DA36: 53.7 | DB36: =SUM(CZ36:DA36) -> 107.9 | DC36: 92.4 | DD36: =DC36+CX36+CY36*4+IF($AA$12,10,0) -> 103.9 | DE36: 54 | DF36: 15
A37: =IFERROR(__xludf.DUMMYFUNCTION("""COMPUTED_VALUE"""),"Jorge Polanco") -> Jorge Polanco | B37: S | C37: 0.12379808 | D37: 0.22067308 | E37: 0.25576923 | F37: 0.375 | G37: 0.125 | H37: =if(not(isblank(A37)),(max(D37, C37*1.5)+E37) * (1 - G37),) -> 0.41688702 | I37: 6 | J37: LF | R37: =IFERROR(__xludf.DUMMYFUNCTION("""COMPUTED_VALUE"""),"Junior Caminero") -> Junior Caminero | S37: R | T37: 0.22620192 | U37: 0.22980769 | V37: 0.43317308 | W37: 0.29326923 | X37: 0.067307692 | Y37: =if(not(isblank(R37)),(max(U37, T37*1.5)+V37) * (1 - X37),) -> 0.72048239 | AH37: =IFERROR(__xludf.DUMMYFUNCTION("""COMPUTED_VALUE"""),"JJ Bleday") -> JJ Bleday | AI37: =IFERROR(__xludf.DUMMYFUNCTION("""COMPUTED_VALUE"""),"L") -> L | AJ37: =IFERROR(__xludf.DUMMYFUNCTION("""COMPUTED_VALUE"""),29.0) -> 29 | AK37: =IFERROR(__xludf.DUMMYFUNCTION("""COMPUTED_VALUE"""),15.0) -> 15 | AL37: =IFERROR(__xludf.DUMMYFUNCTION("""COMPUTED_VALUE"""),5.0) -> 5 | AM37: =IFERROR(__xludf.DUMMYFUNCTION("""COMPUTED_VALUE"""),14.0) -> 14 | AN37: =IFERROR(__xludf.DUMMYFUNCTION("""COMPUTED_VALUE"""),16.5) -> 16.5 | AO37: =IFERROR(__xludf.DUMMYFUNCTION("""COMPUTED_VALUE"""),21.2) -> 21.2 | AP37: =IFERROR(__xludf.DUMMYFUNCTION("""COMPUTED_VALUE"""),22.5) -> 22.5 | AQ37: =IFERROR(__xludf.DUMMYFUNCTION("""COMPUTED_VALUE"""),36.2) -> 36.2 | AR37: =IFERROR(__xludf.DUMMYFUNCTION("""COMPUTED_VALUE"""),43.8) -> 43.8 | AS37: =IFERROR(__xludf.DUMMYFUNCTION("""COMPUTED_VALUE"""),37.3) -> 37.3 | AT37: =IFERROR(__xludf.DUMMYFUNCTION("""COMPUTED_VALUE"""),5.4) -> 5.4 | AU37: =IFERROR(__xludf.DUMMYFUNCTION("""COMPUTED_VALUE"""),1.5) -> 1.5 | AV37: =IFERROR(__xludf.DUMMYFUNCTION("""COMPUTED_VALUE"""),8.0) -> 8 | AW37: =IFERROR(__xludf.DUMMYFUNCTION("""COMPUTED_VALUE"""),3.0) -> 3 | AX37: =IFERROR(__xludf.DUMMYFUNCTION("""COMPUTED_VALUE"""),0.0) -> 0 | AY37: =IFERROR(__xludf.DUMMYFUNCTION("""COMPUTED_VALUE"""),5.0) -> 5 | AZ37: =IFERROR(__xludf.DUMMYFUNCTION("""COMPUTED_VALUE"""),10.0) -> 10 | BA37: =IFERROR(__xludf.DUMMYFUNCTION("""COMPUTED_VALUE"""),8.0) -> 8 | BB37: =IFERROR(__xludf.DUMMYFUNCTION("""COMPUTED_VALUE"""),"5/10 (13-4)") -> 5/10 (13-4) | BC37: =IFERROR(__xludf.DUMMYFUNCTION("""COMPUTED_VALUE"""),"E") -> E | BD37: =IFERROR(__xludf.DUMMYFUNCTION("""COMPUTED_VALUE"""),"D") -> D | BE37: =IFERROR(__xludf.DUMMYFUNCTION("""COMPUTED_VALUE"""),"B") -> B | BF37: =if(AI37<>"",ifs(AI37="L","L",AI37="R","R",and(AI37="S",$AI$16="R"),"L",True,"R"),) -> L | BI37: 31.6 | BJ37: 2.5 | BK37: 1.75 | BL37: =SUM(BI37:BK37)+IF($J$12,10,0) -> 35.85 | BM37: 55.7 | BN37: =SUM(BL37:BM37) -> 91.55 | BO37: 60.3 | BP37: =BO37+BJ37+BK37*4+IF($J$12,10,0) -> 69.8 | BQ37: 47 | BR37: 13 | BV37: =IFERROR(__xludf.DUMMYFUNCTION("""COMPUTED_VALUE"""),"Bobby Witt Jr") -> Bobby Witt Jr | BW37: =IFERROR(__xludf.DUMMYFUNCTION("""COMPUTED_VALUE"""),"R") -> R | BX37: =IFERROR(__xludf.DUMMYFUNCTION("""COMPUTED_VALUE"""),3.0) -> 3 | BY37: =IFERROR(__xludf.DUMMYFUNCTION("""COMPUTED_VALUE"""),9.0) -> 9 | BZ37: =IFERROR(__xludf.DUMMYFUNCTION("""COMPUTED_VALUE"""),0.0) -> 0 | CA37: =IFERROR(__xludf.DUMMYFUNCTION("""COMPUTED_VALUE"""),9.0) -> 9 | CB37: =IFERROR(__xludf.DUMMYFUNCTION("""COMPUTED_VALUE"""),34.3) -> 34.3 | CC37: =IFERROR(__xludf.DUMMYFUNCTION("""COMPUTED_VALUE"""),33.7) -> 33.7 | CD37: =IFERROR(__xludf.DUMMYFUNCTION("""COMPUTED_VALUE"""),37.3) -> 37.3 | CE37: =IFERROR(__xludf.DUMMYFUNCTION("""COMPUTED_VALUE"""),45.7) -> 45.7 | CF37: =IFERROR(__xludf.DUMMYFUNCTION("""COMPUTED_VALUE"""),52.0) -> 52 | CG37: =IFERROR(__xludf.DUMMYFUNCTION("""COMPUTED_VALUE"""),62.1) -> 62.1 | CH37: =IFERROR(__xludf.DUMMYFUNCTION("""COMPUTED_VALUE"""),1.8) -> 1.8 | CI37: =IFERROR(__xludf.DUMMYFUNCTION("""COMPUTED_VALUE"""),4.4) -> 4.4 | CJ37: =IFERROR(__xludf.DUMMYFUNCTION("""COMPUTED_VALUE"""),2.0) -> 2 | CK37: =IFERROR(__xludf.DUMMYFUNCTION("""COMPUTED_VALUE"""),8.0) -> 8 | CL37: =IFERROR(__xludf.DUMMYFUNCTION("""COMPUTED_VALUE"""),5.0) -> 5 | CM37: =IFERROR(__xludf.DUMMYFUNCTION("""COMPUTED_VALUE"""),5.0) -> 5 | CN37: =IFERROR(__xludf.DUMMYFUNCTION("""COMPUTED_VALUE"""),1.0) -> 1 | CO37: =IFERROR(__xludf.DUMMYFUNCTION("""COMPUTED_VALUE"""),1.0) -> 1 | CP37: =IFERROR(__xludf.DUMMYFUNCTION("""COMPUTED_VALUE"""),"*2-6/- (17-13)") -> *2-6/- (17-13) | CQ37: =IFERROR(__xludf.DUMMYFUNCTION("""COMPUTED_VALUE"""),"A") -> A | CR37: =IFERROR(__xludf.DUMMYFUNCTION("""COMPUTED_VALUE"""),"D") -> D | CS37: =IFERROR(__xludf.DUMMYFUNCTION("""COMPUTED_VALUE"""),"C") -> C | CT37: =if(BW37<>"",ifs(BW37="L","L",BW37="R","R",and(BW37="S",$AI$13="R"),"L",True,"R"),) -> R | CW37: 56 | CX37: 3.5 | CY37: 2.5 | CZ37: =SUM(CW37:CY37)+IF($AA$12,10,0) -> 62 | DA37: 69 | DB37: =SUM(CZ37:DA37) -> 131 | DC37: 105.7 | DD37: =DC37+CX37+CY37*4+IF($AA$12,10,0) -> 119.2 | DE37: 46 | DF37: 8
A38: =IFERROR(__xludf.DUMMYFUNCTION("""COMPUTED_VALUE"""),"Josh Naylor") -> Josh Naylor | B38: L | C38: 0.16442308 | D38: 0.23221154 | E38: 0.34855769 | F38: 0.20192308 | G38: 0.12019231 | H38: =if(not(isblank(A38)),(max(D38, C38*1.5)+E38) * (1 - G38),) -> 0.52365477 | I38: 9 | J38: 2B | R38: =IFERROR(__xludf.DUMMYFUNCTION("""COMPUTED_VALUE"""),"Leo Rivas") -> Leo Rivas | S38: S | T38: 0.14447115 | U38: 0.26298077 | V38: 0.17067308 | W38: 0.32211538 | X38: 0.076923077 | Y38: =if(not(isblank(R38)),(max(U38, T38*1.5)+V38) * (1 - X38),) -> 0.40029586 | AH38: =IFERROR(__xludf.DUMMYFUNCTION("""COMPUTED_VALUE"""),"Josh Naylor") -> Josh Naylor | AI38: =IFERROR(__xludf.DUMMYFUNCTION("""COMPUTED_VALUE"""),"L") -> L | AJ38: =IFERROR(__xludf.DUMMYFUNCTION("""COMPUTED_VALUE"""),16.0) -> 16 | AK38: =IFERROR(__xludf.DUMMYFUNCTION("""COMPUTED_VALUE"""),10.0) -> 10 | AL38: =IFERROR(__xludf.DUMMYFUNCTION("""COMPUTED_VALUE"""),10.0) -> 10 | AM38: =IFERROR(__xludf.DUMMYFUNCTION("""COMPUTED_VALUE"""),8.0) -> 8 | AN38: =IFERROR(__xludf.DUMMYFUNCTION("""COMPUTED_VALUE"""),15.0) -> 15 | AO38: =IFERROR(__xludf.DUMMYFUNCTION("""COMPUTED_VALUE"""),17.8) -> 17.8 | AP38: =IFERROR(__xludf.DUMMYFUNCTION("""COMPUTED_VALUE"""),28.0) -> 28 | AQ38: =IFERROR(__xludf.DUMMYFUNCTION("""COMPUTED_VALUE"""),28.8) -> 28.8 | AR38: =IFERROR(__xludf.DUMMYFUNCTION("""COMPUTED_VALUE"""),33.2) -> 33.2 | AS38: =IFERROR(__xludf.DUMMYFUNCTION("""COMPUTED_VALUE"""),33.0) -> 33 | AT38: =IFERROR(__xludf.DUMMYFUNCTION("""COMPUTED_VALUE"""),3.0) -> 3 | AU38: =IFERROR(__xludf.DUMMYFUNCTION("""COMPUTED_VALUE"""),4.3) -> 4.3 | AV38: =IFERROR(__xludf.DUMMYFUNCTION("""COMPUTED_VALUE"""),4.0) -> 4 | AW38: =IFERROR(__xludf.DUMMYFUNCTION("""COMPUTED_VALUE"""),8.0) -> 8 | AX38: =IFERROR(__xludf.DUMMYFUNCTION("""COMPUTED_VALUE"""),5.0) -> 5 | AY38: =IFERROR(__xludf.DUMMYFUNCTION("""COMPUTED_VALUE"""),5.0) -> 5 | AZ38: =IFERROR(__xludf.DUMMYFUNCTION("""COMPUTED_VALUE"""),20.0) -> 20 | BA38: =IFERROR(__xludf.DUMMYFUNCTION("""COMPUTED_VALUE"""),20.0) -> 20 | BB38: =IFERROR(__xludf.DUMMYFUNCTION("""COMPUTED_VALUE"""),"6/- (15-6)") -> 6/- (15-6) | BC38: =IFERROR(__xludf.DUMMYFUNCTION("""COMPUTED_VALUE"""),"C") -> C | BD38: =IFERROR(__xludf.DUMMYFUNCTION("""COMPUTED_VALUE"""),"D") -> D | BE38: =IFERROR(__xludf.DUMMYFUNCTION("""COMPUTED_VALUE"""),"B") -> B | BF38: =if(AI38<>"",ifs(AI38="L","L",AI38="R","R",and(AI38="S",$AI$16="R"),"L",True,"R"),) -> L | BI38: 28.2 | BJ38: 2.5 | BK38: 3.5 | BL38: =SUM(BI38:BK38)+IF($J$12,10,0) -> 34.2 | BM38: 48.3 | BN38: =SUM(BL38:BM38) -> 82.5 | BO38: 56 | BP38: =BO38+BJ38+BK38*4+IF($J$12,10,0) -> 72.5 | BQ38: 42 | BR38: 25 | BV38: =IFERROR(__xludf.DUMMYFUNCTION("""COMPUTED_VALUE"""),"Riley Greene") -> Riley Greene | BW38: =IFERROR(__xludf.DUMMYFUNCTION("""COMPUTED_VALUE"""),"L") -> L | BX38: =IFERROR(__xludf.DUMMYFUNCTION("""COMPUTED_VALUE"""),38.0) -> 38 | BY38: =IFERROR(__xludf.DUMMYFUNCTION("""COMPUTED_VALUE"""),32.0) -> 32 | BZ38: =IFERROR(__xludf.DUMMYFUNCTION("""COMPUTED_VALUE"""),4.0) -> 4 | CA38: =IFERROR(__xludf.DUMMYFUNCTION("""COMPUTED_VALUE"""),17.0) -> 17 | CB38: =IFERROR(__xludf.DUMMYFUNCTION("""COMPUTED_VALUE"""),15.0) -> 15 | CC38: =IFERROR(__xludf.DUMMYFUNCTION("""COMPUTED_VALUE"""),23.0) -> 23 | CD38: =IFERROR(__xludf.DUMMYFUNCTION("""COMPUTED_VALUE"""),21.0) -> 21 | CE38: =IFERROR(__xludf.DUMMYFUNCTION("""COMPUTED_VALUE"""),42.0) -> 42 | CF38: =IFERROR(__xludf.DUMMYFUNCTION("""COMPUTED_VALUE"""),37.2) -> 37.2 | CG38: =IFERROR(__xludf.DUMMYFUNCTION("""COMPUTED_VALUE"""),40.0) -> 40 | CH38: =IFERROR(__xludf.DUMMYFUNCTION("""COMPUTED_VALUE"""),3.2) -> 3.2 | CI38: =IFERROR(__xludf.DUMMYFUNCTION("""COMPUTED_VALUE"""),3.4) -> 3.4 | CJ38: =IFERROR(__xludf.DUMMYFUNCTION("""COMPUTED_VALUE"""),6.0) -> 6 | CK38: =IFERROR(__xludf.DUMMYFUNCTION("""COMPUTED_VALUE"""),5.0) -> 5 | CL38: =IFERROR(__xludf.DUMMYFUNCTION("""COMPUTED_VALUE"""),0.0) -> 0 | CM38: =IFERROR(__xludf.DUMMYFUNCTION("""COMPUTED_VALUE"""),5.0) -> 5 | CN38: =IFERROR(__xludf.DUMMYFUNCTION("""COMPUTED_VALUE"""),0.0) -> 0 | CO38: =IFERROR(__xludf.DUMMYFUNCTION("""COMPUTED_VALUE"""),0.0) -> 0 | CP38: =IFERROR(__xludf.DUMMYFUNCTION("""COMPUTED_VALUE"""),"6/- (13-6)") -> 6/- (13-6) | CQ38: =IFERROR(__xludf.DUMMYFUNCTION("""COMPUTED_VALUE"""),"D") -> D | CR38: =IFERROR(__xludf.DUMMYFUNCTION("""COMPUTED_VALUE"""),"D") -> D | CS38: =IFERROR(__xludf.DUMMYFUNCTION("""COMPUTED_VALUE"""),"C") -> C | CT38: =if(BW38<>"",ifs(BW38="L","L",BW38="R","R",and(BW38="S",$AI$13="R"),"L",True,"R"),) -> L | CW38: 30 | CX38: 2.5 | CY38: 1.75 | CZ38: =SUM(CW38:CY38)+IF($AA$12,10,0) -> 34.25 | DA38: 57.1 | DB38: =SUM(CZ38:DA38) -> 91.35 | DC38: 48.5 | DD38: =DC38+CX38+CY38*4+IF($AA$12,10,0) -> 58 | DE38: 69 | DF38: 8
A39: =IFERROR(__xludf.DUMMYFUNCTION("""COMPUTED_VALUE"""),"JT Realmuto") -> JT Realmuto | B39: R | C39: 0.17019231 | D39: 0.23509615 | E39: 0.27307692 | F39: 0.36057692 | G39: 0.076923077 | H39: =if(not(isblank(A39)),(max(D39, C39*1.5)+E39) * (1 - G39),) -> 0.48772189 | I39: 8 | J39: 1B | R39: =IFERROR(__xludf.DUMMYFUNCTION("""COMPUTED_VALUE"""),"Matt Wallner") -> Matt Wallner | S39: L | T39: 0.14350962 | U39: 0.27932692 | V39: 0.30096154 | W39: 0.39903846 | X39: 0.043269231 | Y39: =if(not(isblank(R39)),(max(U39, T39*1.5)+V39) * (1 - X39),) -> 0.55517983 | AH39: =IFERROR(__xludf.DUMMYFUNCTION("""COMPUTED_VALUE"""),"Cedric Mullins") -> Cedric Mullins | AI39: =IFERROR(__xludf.DUMMYFUNCTION("""COMPUTED_VALUE"""),"L") -> L | AJ39: =IFERROR(__xludf.DUMMYFUNCTION("""COMPUTED_VALUE"""),16.0) -> 16 | AK39: =IFERROR(__xludf.DUMMYFUNCTION("""COMPUTED_VALUE"""),19.0) -> 19 | AL39: =IFERROR(__xludf.DUMMYFUNCTION("""COMPUTED_VALUE"""),0.0) -> 0 | AM39: =IFERROR(__xludf.DUMMYFUNCTION("""COMPUTED_VALUE"""),11.0) -> 11 | AN39: =IFERROR(__xludf.DUMMYFUNCTION("""COMPUTED_VALUE"""),14.0) -> 14 | AO39: =IFERROR(__xludf.DUMMYFUNCTION("""COMPUTED_VALUE"""),18.2) -> 18.2 | AP39: =IFERROR(__xludf.DUMMYFUNCTION("""COMPUTED_VALUE"""),16.0) -> 16 | AQ39: =IFERROR(__xludf.DUMMYFUNCTION("""COMPUTED_VALUE"""),31.2) -> 31.2 | AR39: =IFERROR(__xludf.DUMMYFUNCTION("""COMPUTED_VALUE"""),25.5) -> 25.5 | AS39: =IFERROR(__xludf.DUMMYFUNCTION("""COMPUTED_VALUE"""),31.0) -> 31 | AT39: =IFERROR(__xludf.DUMMYFUNCTION("""COMPUTED_VALUE"""),2.2) -> 2.2 | AU39: =IFERROR(__xludf.DUMMYFUNCTION("""COMPUTED_VALUE"""),3.2) -> 3.2 | AV39: =IFERROR(__xludf.DUMMYFUNCTION("""COMPUTED_VALUE"""),-3.0) -> -3 | AW39: =IFERROR(__xludf.DUMMYFUNCTION("""COMPUTED_VALUE"""),5.0) -> 5 | AX39: =IFERROR(__xludf.DUMMYFUNCTION("""COMPUTED_VALUE"""),5.0) -> 5 | AY39: =IFERROR(__xludf.DUMMYFUNCTION("""COMPUTED_VALUE"""),5.0) -> 5 | AZ39: =IFERROR(__xludf.DUMMYFUNCTION("""COMPUTED_VALUE"""),0.0) -> 0 | BA39: =IFERROR(__xludf.DUMMYFUNCTION("""COMPUTED_VALUE"""),0.0) -> 0 | BB39: =IFERROR(__xludf.DUMMYFUNCTION("""COMPUTED_VALUE"""),"*2-5,11,12/- (19-15)") -> *2-5,11,12/- (19-15) | BC39: =IFERROR(__xludf.DUMMYFUNCTION("""COMPUTED_VALUE"""),"AA") -> AA | BD39: =IFERROR(__xludf.DUMMYFUNCTION("""COMPUTED_VALUE"""),"B") -> B | BE39: =IFERROR(__xludf.DUMMYFUNCTION("""COMPUTED_VALUE"""),"B") -> B | BF39: =if(AI39<>"",ifs(AI39="L","L",AI39="R","R",and(AI39="S",$AI$16="R"),"L",True,"R"),) -> L | BI39: 28.6 | BJ39: 2.5 | BK39: 2.45 | BL39: =SUM(BI39:BK39)+IF($J$12,10,0) -> 33.55 | BM39: 50.7 | BN39: =SUM(BL39:BM39) -> 84.25 | BO39: 54 | BP39: =BO39+BJ39+BK39*4+IF($J$12,10,0) -> 66.3 | BQ39: 51 | BR39: 5 | BV39: =IFERROR(__xludf.DUMMYFUNCTION("""COMPUTED_VALUE"""),"Matt Wallner") -> Matt Wallner | BW39: =IFERROR(__xludf.DUMMYFUNCTION("""COMPUTED_VALUE"""),"L") -> L | BX39: =IFERROR(__xludf.DUMMYFUNCTION("""COMPUTED_VALUE"""),62.0) -> 62 | BY39: =IFERROR(__xludf.DUMMYFUNCTION("""COMPUTED_VALUE"""),46.0) -> 46 | BZ39: =IFERROR(__xludf.DUMMYFUNCTION("""COMPUTED_VALUE"""),7.0) -> 7 | CA39: =IFERROR(__xludf.DUMMYFUNCTION("""COMPUTED_VALUE"""),11.0) -> 11 | CB39: =IFERROR(__xludf.DUMMYFUNCTION("""COMPUTED_VALUE"""),7.8) -> 7.8 | CC39: =IFERROR(__xludf.DUMMYFUNCTION("""COMPUTED_VALUE"""),17.9) -> 17.9 | CD39: =IFERROR(__xludf.DUMMYFUNCTION("""COMPUTED_VALUE"""),28.9) -> 28.9 | CE39: =IFERROR(__xludf.DUMMYFUNCTION("""COMPUTED_VALUE"""),43.0) -> 43 | CF39: =IFERROR(__xludf.DUMMYFUNCTION("""COMPUTED_VALUE"""),11.9) -> 11.9 | CG39: =IFERROR(__xludf.DUMMYFUNCTION("""COMPUTED_VALUE"""),41.8) -> 41.8 | CH39: =IFERROR(__xludf.DUMMYFUNCTION("""COMPUTED_VALUE"""),1.4) -> 1.4 | CI39: =IFERROR(__xludf.DUMMYFUNCTION("""COMPUTED_VALUE"""),4.4) -> 4.4 | CJ39: =IFERROR(__xludf.DUMMYFUNCTION("""COMPUTED_VALUE"""),2.0) -> 2 | CK39: =IFERROR(__xludf.DUMMYFUNCTION("""COMPUTED_VALUE"""),7.0) -> 7 | CL39: =IFERROR(__xludf.DUMMYFUNCTION("""COMPUTED_VALUE"""),5.0) -> 5 | CM39: =IFERROR(__xludf.DUMMYFUNCTION("""COMPUTED_VALUE"""),5.0) -> 5 | CN39: =IFERROR(__xludf.DUMMYFUNCTION("""COMPUTED_VALUE"""),0.0) -> 0 | CO39: =IFERROR(__xludf.DUMMYFUNCTION("""COMPUTED_VALUE"""),1.0) -> 1 | CP39: =IFERROR(__xludf.DUMMYFUNCTION("""COMPUTED_VALUE"""),"3/- (20-6)") -> 3/- (20-6) | CQ39: =IFERROR(__xludf.DUMMYFUNCTION("""COMPUTED_VALUE"""),"C") -> C | CR39: =IFERROR(__xludf.DUMMYFUNCTION("""COMPUTED_VALUE"""),"D") -> D | CS39: =IFERROR(__xludf.DUMMYFUNCTION("""COMPUTED_VALUE"""),"D") -> D | CT39: =if(BW39<>"",ifs(BW39="L","L",BW39="R","R",and(BW39="S",$AI$13="R"),"L",True,"R"),) -> L | CW39: 24.9 | CX39: 2.5 | CY39: 2.45 | CZ39: =SUM(CW39:CY39)+IF($AA$12,10,0) -> 29.85 | DA39: 58.1 | DB39: =SUM(CZ39:DA39) -> 87.95 | DC39: 50.3 | DD39: =DC39+CX39+CY39*4+IF($AA$12,10,0) -> 62.6 | DE39: 83 | DF39: 9
A40: =IFERROR(__xludf.DUMMYFUNCTION("""COMPUTED_VALUE"""),"Mark Vientos") -> Mark Vientos | B40: R | C40: 0.14903846 | D40: 0.22836538 | E40: 0.30865385 | F40: 0.40384615 | G40: 0.057692308 | H40: =if(not(isblank(A40)),(max(D40, C40*1.5)+E40) * (1 - G40),) -> 0.50603735 | I40: 7 | J40: C | R40: =IFERROR(__xludf.DUMMYFUNCTION("""COMPUTED_VALUE"""),"Michael Busch") -> Michael Busch | S40: L | T40: 0.13942308 | U40: 0.23798077 | V40: 0.24759615 | W40: 0.36057692 | X40: 0.091346154 | Y40: =if(not(isblank(R40)),(max(U40, T40*1.5)+V40) * (1 - X40),) -> 0.44122134 | AH40: =IFERROR(__xludf.DUMMYFUNCTION("""COMPUTED_VALUE"""),"Andy Pages") -> Andy Pages | AI40: =IFERROR(__xludf.DUMMYFUNCTION("""COMPUTED_VALUE"""),"R") -> R | AJ40: =IFERROR(__xludf.DUMMYFUNCTION("""COMPUTED_VALUE"""),25.0) -> 25 | AK40: =IFERROR(__xludf.DUMMYFUNCTION("""COMPUTED_VALUE"""),29.0) -> 29 | AL40: =IFERROR(__xludf.DUMMYFUNCTION("""COMPUTED_VALUE"""),5.0) -> 5 | AM40: =IFERROR(__xludf.DUMMYFUNCTION("""COMPUTED_VALUE"""),7.0) -> 7 | AN40: =IFERROR(__xludf.DUMMYFUNCTION("""COMPUTED_VALUE"""),32.0) -> 32 | AO40: =IFERROR(__xludf.DUMMYFUNCTION("""COMPUTED_VALUE"""),18.6) -> 18.6 | AP40: =IFERROR(__xludf.DUMMYFUNCTION("""COMPUTED_VALUE"""),40.0) -> 40 | AQ40: =IFERROR(__xludf.DUMMYFUNCTION("""COMPUTED_VALUE"""),28.6) -> 28.6 | AR40: =IFERROR(__xludf.DUMMYFUNCTION("""COMPUTED_VALUE"""),45.7) -> 45.7 | AS40: =IFERROR(__xludf.DUMMYFUNCTION("""COMPUTED_VALUE"""),30.9) -> 30.9 | AT40: =IFERROR(__xludf.DUMMYFUNCTION("""COMPUTED_VALUE"""),1.8) -> 1.8 | AU40: =IFERROR(__xludf.DUMMYFUNCTION("""COMPUTED_VALUE"""),2.3) -> 2.3 | AV40: =IFERROR(__xludf.DUMMYFUNCTION("""COMPUTED_VALUE"""),2.0) -> 2 | AW40: =IFERROR(__xludf.DUMMYFUNCTION("""COMPUTED_VALUE"""),2.0) -> 2 | AX40: =IFERROR(__xludf.DUMMYFUNCTION("""COMPUTED_VALUE"""),5.0) -> 5 | AY40: =IFERROR(__xludf.DUMMYFUNCTION("""COMPUTED_VALUE"""),5.0) -> 5 | AZ40: =IFERROR(__xludf.DUMMYFUNCTION("""COMPUTED_VALUE"""),15.0) -> 15 | BA40: =IFERROR(__xludf.DUMMYFUNCTION("""COMPUTED_VALUE"""),15.0) -> 15 | BB40: =IFERROR(__xludf.DUMMYFUNCTION("""COMPUTED_VALUE"""),"7/8 (13-3)") -> 7/8 (13-3) | BC40: =IFERROR(__xludf.DUMMYFUNCTION("""COMPUTED_VALUE"""),"E") -> E | BD40: =IFERROR(__xludf.DUMMYFUNCTION("""COMPUTED_VALUE"""),"D") -> D | BE40: =IFERROR(__xludf.DUMMYFUNCTION("""COMPUTED_VALUE"""),"D") -> D | BF40: =if(AI40<>"",ifs(AI40="L","L",AI40="R","R",and(AI40="S",$AI$16="R"),"L",True,"R"),) -> R | BI40: 25.6 | BJ40: 3.5 | BK40: 0.5 | BL40: =SUM(BI40:BK40)+IF($J$12,10,0) -> 29.6 | BM40: 45.6 | BN40: =SUM(BL40:BM40) -> 75.2 | BO40: 44 | BP40: =BO40+BJ40+BK40*4+IF($J$12,10,0) -> 49.5 | BQ40: 75 | BR40: 18 | BV40: =IFERROR(__xludf.DUMMYFUNCTION("""COMPUTED_VALUE"""),"Nico Hoerner") -> Nico Hoerner | BW40: =IFERROR(__xludf.DUMMYFUNCTION("""COMPUTED_VALUE"""),"R") -> R | BX40: =IFERROR(__xludf.DUMMYFUNCTION("""COMPUTED_VALUE"""),0.0) -> 0 | BY40: =IFERROR(__xludf.DUMMYFUNCTION("""COMPUTED_VALUE"""),0.0) -> 0 | BZ40: =IFERROR(__xludf.DUMMYFUNCTION("""COMPUTED_VALUE"""),2.0) -> 2 | CA40: =IFERROR(__xludf.DUMMYFUNCTION("""COMPUTED_VALUE"""),8.0) -> 8 | CB40: =IFERROR(__xludf.DUMMYFUNCTION("""COMPUTED_VALUE"""),39.0) -> 39 | CC40: =IFERROR(__xludf.DUMMYFUNCTION("""COMPUTED_VALUE"""),24.5) -> 24.5 | CD40: =IFERROR(__xludf.DUMMYFUNCTION("""COMPUTED_VALUE"""),45.0) -> 45 | CE40: =IFERROR(__xludf.DUMMYFUNCTION("""COMPUTED_VALUE"""),36.4) -> 36.4 | CF40: =IFERROR(__xludf.DUMMYFUNCTION("""COMPUTED_VALUE"""),52.3) -> 52.3 | CG40: =IFERROR(__xludf.DUMMYFUNCTION("""COMPUTED_VALUE"""),38.2) -> 38.2 | CH40: =IFERROR(__xludf.DUMMYFUNCTION("""COMPUTED_VALUE"""),3.2) -> 3.2 | CI40: =IFERROR(__xludf.DUMMYFUNCTION("""COMPUTED_VALUE"""),2.1) -> 2.1 | CJ40: =IFERROR(__xludf.DUMMYFUNCTION("""COMPUTED_VALUE"""),-3.0) -> -3 | CK40: =IFERROR(__xludf.DUMMYFUNCTION("""COMPUTED_VALUE"""),-3.0) -> -3 | CL40: =IFERROR(__xludf.DUMMYFUNCTION("""COMPUTED_VALUE"""),5.0) -> 5 | CM40: =IFERROR(__xludf.DUMMYFUNCTION("""COMPUTED_VALUE"""),5.0) -> 5 | CN40: =IFERROR(__xludf.DUMMYFUNCTION("""COMPUTED_VALUE"""),9.0) -> 9 | CO40: =IFERROR(__xludf.DUMMYFUNCTION("""COMPUTED_VALUE"""),8.0) -> 8 | CP40: =IFERROR(__xludf.DUMMYFUNCTION("""COMPUTED_VALUE"""),"*5,6/- (19-13)") -> *5,6/- (19-13) | CQ40: =IFERROR(__xludf.DUMMYFUNCTION("""COMPUTED_VALUE"""),"A") -> A | CR40: =IFERROR(__xludf.DUMMYFUNCTION("""COMPUTED_VALUE"""),"D") -> D | CS40: =IFERROR(__xludf.DUMMYFUNCTION("""COMPUTED_VALUE"""),"C") -> C | CT40: =if(BW40<>"",ifs(BW40="L","L",BW40="R","R",and(BW40="S",$AI$13="R"),"L",True,"R"),) -> R | CW40: 46.8 | CX40: 3.5 | CY40: -0.25 | CZ40: =SUM(CW40:CY40)+IF($AA$12,10,0) -> 50.05 | DA40: 59.7 | DB40: =SUM(CZ40:DA40) -> 109.75 | DC40: 81.8 | DD40: =DC40+CX40+CY40*4+IF($AA$12,10,0) -> 84.3 | DE40: 37 | DF40: 15
A41: =IFERROR(__xludf.DUMMYFUNCTION("""COMPUTED_VALUE"""),"Mickey Moniak") -> Mickey Moniak | B41: L | C41: 0.15552885 | D41: 0.19807692 | E41: 0.3 | F41: 0.3125 | G41: 0.038461538 | H41: =if(not(isblank(A41)),(max(D41, C41*1.5)+E41) * (1 - G41),) -> 0.51278199 | I41: 5 | J41: 3B | R41: =IFERROR(__xludf.DUMMYFUNCTION("""COMPUTED_VALUE"""),"Miguel Andujar") -> Miguel Andujar | S41: R | T41: 0.25408654 | U41: 0.25288462 | V41: 0.41009615 | W41: 0.20192308 | X41: 0.15384615 | Y41: =if(not(isblank(R41)),(max(U41, T41*1.5)+V41) * (1 - X41),) -> 0.66949889 | AH41: =IFERROR(__xludf.DUMMYFUNCTION("""COMPUTED_VALUE"""),"JT Realmuto") -> JT Realmuto | AI41: =IFERROR(__xludf.DUMMYFUNCTION("""COMPUTED_VALUE"""),"R") -> R | AJ41: =IFERROR(__xludf.DUMMYFUNCTION("""COMPUTED_VALUE"""),27.0) -> 27 | AK41: =IFERROR(__xludf.DUMMYFUNCTION("""COMPUTED_VALUE"""),29.0) -> 29 | AL41: =IFERROR(__xludf.DUMMYFUNCTION("""COMPUTED_VALUE"""),7.0) -> 7 | AM41: =IFERROR(__xludf.DUMMYFUNCTION("""COMPUTED_VALUE"""),5.0) -> 5 | AN41: =IFERROR(__xludf.DUMMYFUNCTION("""COMPUTED_VALUE"""),29.1) -> 29.1 | AO41: =IFERROR(__xludf.DUMMYFUNCTION("""COMPUTED_VALUE"""),23.9) -> 23.9 | AP41: =IFERROR(__xludf.DUMMYFUNCTION("""COMPUTED_VALUE"""),39.1) -> 39.1 | AQ41: =IFERROR(__xludf.DUMMYFUNCTION("""COMPUTED_VALUE"""),31.9) -> 31.9 | AR41: =IFERROR(__xludf.DUMMYFUNCTION("""COMPUTED_VALUE"""),39.2) -> 39.2 | AS41: =IFERROR(__xludf.DUMMYFUNCTION("""COMPUTED_VALUE"""),36.2) -> 36.2 | AT41: =IFERROR(__xludf.DUMMYFUNCTION("""COMPUTED_VALUE"""),2.3) -> 2.3 | AU41: =IFERROR(__xludf.DUMMYFUNCTION("""COMPUTED_VALUE"""),2.3) -> 2.3 | AV41: =IFERROR(__xludf.DUMMYFUNCTION("""COMPUTED_VALUE"""),3.0) -> 3 | AW41: =IFERROR(__xludf.DUMMYFUNCTION("""COMPUTED_VALUE"""),4.0) -> 4 | AX41: =IFERROR(__xludf.DUMMYFUNCTION("""COMPUTED_VALUE"""),5.0) -> 5 | AY41: =IFERROR(__xludf.DUMMYFUNCTION("""COMPUTED_VALUE"""),5.0) -> 5 | AZ41: =IFERROR(__xludf.DUMMYFUNCTION("""COMPUTED_VALUE"""),10.0) -> 10 | BA41: =IFERROR(__xludf.DUMMYFUNCTION("""COMPUTED_VALUE"""),13.0) -> 13 | BB41: =IFERROR(__xludf.DUMMYFUNCTION("""COMPUTED_VALUE"""),"7/11 (13-5)") -> 7/11 (13-5) | BC41: =IFERROR(__xludf.DUMMYFUNCTION("""COMPUTED_VALUE"""),"D") -> D | BD41: =IFERROR(__xludf.DUMMYFUNCTION("""COMPUTED_VALUE"""),"D") -> D | BE41: =IFERROR(__xludf.DUMMYFUNCTION("""COMPUTED_VALUE"""),"D") -> D | BF41: =if(AI41<>"",ifs(AI41="L","L",AI41="R","R",and(AI41="S",$AI$16="R"),"L",True,"R"),) -> R | BI41: 30.9 | BJ41: 3.5 | BK41: 1 | BL41: =SUM(BI41:BK41)+IF($J$12,10,0) -> 35.4 | BM41: 48.9 | BN41: =SUM(BL41:BM41) -> 84.3 | BO41: 49.3 | BP41: =BO41+BJ41+BK41*4+IF($J$12,10,0) -> 56.8 | BQ41: 75 | BR41: 16 | BV41: =IFERROR(__xludf.DUMMYFUNCTION("""COMPUTED_VALUE"""),"Colton Cowser") -> Colton Cowser | BW41: =IFERROR(__xludf.DUMMYFUNCTION("""COMPUTED_VALUE"""),"L") -> L | BX41: =IFERROR(__xludf.DUMMYFUNCTION("""COMPUTED_VALUE"""),48.0) -> 48 | BY41: =IFERROR(__xludf.DUMMYFUNCTION("""COMPUTED_VALUE"""),39.0) -> 39 | BZ41: =IFERROR(__xludf.DUMMYFUNCTION("""COMPUTED_VALUE"""),5.0) -> 5 | CA41: =IFERROR(__xludf.DUMMYFUNCTION("""COMPUTED_VALUE"""),12.0) -> 12 | CB41: =IFERROR(__xludf.DUMMYFUNCTION("""COMPUTED_VALUE"""),16.9) -> 16.9 | CC41: =IFERROR(__xludf.DUMMYFUNCTION("""COMPUTED_VALUE"""),18.1) -> 18.1 | CD41: =IFERROR(__xludf.DUMMYFUNCTION("""COMPUTED_VALUE"""),24.8) -> 24.8 | CE41: =IFERROR(__xludf.DUMMYFUNCTION("""COMPUTED_VALUE"""),33.1) -> 33.1 | CF41: =IFERROR(__xludf.DUMMYFUNCTION("""COMPUTED_VALUE"""),27.9) -> 27.9 | CG41: =IFERROR(__xludf.DUMMYFUNCTION("""COMPUTED_VALUE"""),33.8) -> 33.8 | CH41: =IFERROR(__xludf.DUMMYFUNCTION("""COMPUTED_VALUE"""),2.5) -> 2.5 | CI41: =IFERROR(__xludf.DUMMYFUNCTION("""COMPUTED_VALUE"""),3.3) -> 3.3 | CJ41: =IFERROR(__xludf.DUMMYFUNCTION("""COMPUTED_VALUE"""),4.0) -> 4 | CK41: =IFERROR(__xludf.DUMMYFUNCTION("""COMPUTED_VALUE"""),6.0) -> 6 | CL41: =IFERROR(__xludf.DUMMYFUNCTION("""COMPUTED_VALUE"""),5.0) -> 5 | CM41: =IFERROR(__xludf.DUMMYFUNCTION("""COMPUTED_VALUE"""),5.0) -> 5 | CN41: =IFERROR(__xludf.DUMMYFUNCTION("""COMPUTED_VALUE"""),11.0) -> 11 | CO41: =IFERROR(__xludf.DUMMYFUNCTION("""COMPUTED_VALUE"""),10.0) -> 10 | CP41: =IFERROR(__xludf.DUMMYFUNCTION("""COMPUTED_VALUE"""),"*4,6/- (16-6)") -> *4,6/- (16-6) | CQ41: =IFERROR(__xludf.DUMMYFUNCTION("""COMPUTED_VALUE"""),"C") -> C | CR41: =IFERROR(__xludf.DUMMYFUNCTION("""COMPUTED_VALUE"""),"D") -> D | CS41: =IFERROR(__xludf.DUMMYFUNCTION("""COMPUTED_VALUE"""),"D") -> D | CT41: =if(BW41<>"",ifs(BW41="L","L",BW41="R","R",and(BW41="S",$AI$13="R"),"L",True,"R"),) -> L | CW41: 25.1 | CX41: 2.5 | CY41: 2.1 | CZ41: =SUM(CW41:CY41)+IF($AA$12,10,0) -> 29.7 | DA41: 48.2 | DB41: =SUM(CZ41:DA41) -> 77.9 | DC41: 42.3 | DD41: =DC41+CX41+CY41*4+IF($AA$12,10,0) -> 53.2 | DE41: 76 | DF41: 18
A42: =IFERROR(__xludf.DUMMYFUNCTION("""COMPUTED_VALUE"""),"Teoscar Hernandez") -> Teoscar Hernandez | B42: R | C42: 0.16850962 | D42: 0.25625 | E42: 0.29375 | F42: 0.40384615 | G42: 0.048076923 | H42: =if(not(isblank(A42)),(max(D42, C42*1.5)+E42) * (1 - G42),) -> 0.52355769 | R42: =IFERROR(__xludf.DUMMYFUNCTION("""COMPUTED_VALUE"""),"Nico Hoerner") -> Nico Hoerner | S42: R | T42: 0.240625 | U42: 0.28701923 | V42: 0.40528846 | W42: 0.17788462 | X42: 0.072115385 | Y42: =if(not(isblank(R42)),(max(U42, T42*1.5)+V42) * (1 - X42),) -> 0.71096928 | AH42: =IFERROR(__xludf.DUMMYFUNCTION("""COMPUTED_VALUE"""),"Mickey Moniak") -> Mickey Moniak | AI42: =IFERROR(__xludf.DUMMYFUNCTION("""COMPUTED_VALUE"""),"L") -> L | AJ42: =IFERROR(__xludf.DUMMYFUNCTION("""COMPUTED_VALUE"""),48.0) -> 48 | AK42: =IFERROR(__xludf.DUMMYFUNCTION("""COMPUTED_VALUE"""),33.0) -> 33 | AL42: =IFERROR(__xludf.DUMMYFUNCTION("""COMPUTED_VALUE"""),0.0) -> 0 | AM42: =IFERROR(__xludf.DUMMYFUNCTION("""COMPUTED_VALUE"""),2.0) -> 2 | AN42: =IFERROR(__xludf.DUMMYFUNCTION("""COMPUTED_VALUE"""),10.2) -> 10.2 | AO42: =IFERROR(__xludf.DUMMYFUNCTION("""COMPUTED_VALUE"""),17.7) -> 17.7 | AP42: =IFERROR(__xludf.DUMMYFUNCTION("""COMPUTED_VALUE"""),12.2) -> 12.2 | AQ42: =IFERROR(__xludf.DUMMYFUNCTION("""COMPUTED_VALUE"""),21.7) -> 21.7 | AR42: =IFERROR(__xludf.DUMMYFUNCTION("""COMPUTED_VALUE"""),16.9) -> 16.9 | AS42: =IFERROR(__xludf.DUMMYFUNCTION("""COMPUTED_VALUE"""),29.9) -> 29.9 | AT42: =IFERROR(__xludf.DUMMYFUNCTION("""COMPUTED_VALUE"""),2.3) -> 2.3 | AU42: =IFERROR(__xludf.DUMMYFUNCTION("""COMPUTED_VALUE"""),2.3) -> 2.3 | AV42: =IFERROR(__xludf.DUMMYFUNCTION("""COMPUTED_VALUE"""),3.0) -> 3 | AW42: =IFERROR(__xludf.DUMMYFUNCTION("""COMPUTED_VALUE"""),3.0) -> 3 | AX42: =IFERROR(__xludf.DUMMYFUNCTION("""COMPUTED_VALUE"""),5.0) -> 5 | AY42: =IFERROR(__xludf.DUMMYFUNCTION("""COMPUTED_VALUE"""),5.0) -> 5 | AZ42: =IFERROR(__xludf.DUMMYFUNCTION("""COMPUTED_VALUE"""),4.0) -> 4 | BA42: =IFERROR(__xludf.DUMMYFUNCTION("""COMPUTED_VALUE"""),3.0) -> 3 | BB42: =IFERROR(__xludf.DUMMYFUNCTION("""COMPUTED_VALUE"""),"*2-6,11,12/- (15-12)") -> *2-6,11,12/- (15-12) | BC42: =IFERROR(__xludf.DUMMYFUNCTION("""COMPUTED_VALUE"""),"B") -> B | BD42: =IFERROR(__xludf.DUMMYFUNCTION("""COMPUTED_VALUE"""),"D") -> D | BE42: =IFERROR(__xludf.DUMMYFUNCTION("""COMPUTED_VALUE"""),"D") -> D | BF42: =if(AI42<>"",ifs(AI42="L","L",AI42="R","R",and(AI42="S",$AI$16="R"),"L",True,"R"),) -> L | BI42: 28.1 | BJ42: 2.5 | BK42: 1.75 | BL42: =SUM(BI42:BK42)+IF($J$12,10,0) -> 32.35 | BM42: 41.2 | BN42: =SUM(BL42:BM42) -> 73.55 | BO42: 52.9 | BP42: =BO42+BJ42+BK42*4+IF($J$12,10,0) -> 62.4 | BQ42: 65 | BR42: 8 | BV42: =IFERROR(__xludf.DUMMYFUNCTION("""COMPUTED_VALUE"""),"Connor Wong") -> Connor Wong | BW42: =IFERROR(__xludf.DUMMYFUNCTION("""COMPUTED_VALUE"""),"R") -> R | BX42: =IFERROR(__xludf.DUMMYFUNCTION("""COMPUTED_VALUE"""),19.0) -> 19 | BY42: =IFERROR(__xludf.DUMMYFUNCTION("""COMPUTED_VALUE"""),29.0) -> 29 | BZ42: =IFERROR(__xludf.DUMMYFUNCTION("""COMPUTED_VALUE"""),12.0) -> 12 | CA42: =IFERROR(__xludf.DUMMYFUNCTION("""COMPUTED_VALUE"""),0.0) -> 0 | CB42: =IFERROR(__xludf.DUMMYFUNCTION("""COMPUTED_VALUE"""),29.5) -> 29.5 | CC42: =IFERROR(__xludf.DUMMYFUNCTION("""COMPUTED_VALUE"""),25.7) -> 25.7 | CD42: =IFERROR(__xludf.DUMMYFUNCTION("""COMPUTED_VALUE"""),45.5) -> 45.5 | CE42: =IFERROR(__xludf.DUMMYFUNCTION("""COMPUTED_VALUE"""),29.7) -> 29.7 | CF42: =IFERROR(__xludf.DUMMYFUNCTION("""COMPUTED_VALUE"""),43.5) -> 43.5 | CG42: =IFERROR(__xludf.DUMMYFUNCTION("""COMPUTED_VALUE"""),34.5) -> 34.5 | CH42: =IFERROR(__xludf.DUMMYFUNCTION("""COMPUTED_VALUE"""),2.3) -> 2.3 | CI42: =IFERROR(__xludf.DUMMYFUNCTION("""COMPUTED_VALUE"""),1.2) -> 1.2 | CJ42: =IFERROR(__xludf.DUMMYFUNCTION("""COMPUTED_VALUE"""),3.0) -> 3 | CK42: =IFERROR(__xludf.DUMMYFUNCTION("""COMPUTED_VALUE"""),2.0) -> 2 | CL42: =IFERROR(__xludf.DUMMYFUNCTION("""COMPUTED_VALUE"""),5.0) -> 5 | CM42: =IFERROR(__xludf.DUMMYFUNCTION("""COMPUTED_VALUE"""),5.0) -> 5 | CN42: =IFERROR(__xludf.DUMMYFUNCTION("""COMPUTED_VALUE"""),10.0) -> 10 | CO42: =IFERROR(__xludf.DUMMYFUNCTION("""COMPUTED_VALUE"""),12.0) -> 12 | CP42: =IFERROR(__xludf.DUMMYFUNCTION("""COMPUTED_VALUE"""),"*2-7/9 (15-8)") -> *2-7/9 (15-8) | CQ42: =IFERROR(__xludf.DUMMYFUNCTION("""COMPUTED_VALUE"""),"C") -> C | CR42: =IFERROR(__xludf.DUMMYFUNCTION("""COMPUTED_VALUE"""),"C") -> C | CS42: =IFERROR(__xludf.DUMMYFUNCTION("""COMPUTED_VALUE"""),"D") -> D | CT42: =if(BW42<>"",ifs(BW42="L","L",BW42="R","R",and(BW42="S",$AI$13="R"),"L",True,"R"),) -> R | CW42: 48 | CX42: 3.5 | CY42: 1 | CZ42: =SUM(CW42:CY42)+IF($AA$12,10,0) -> 52.5 | DA42: 53 | DB42: =SUM(CZ42:DA42) -> 105.5 | DC42: 78.1 | DD42: =DC42+CX42+CY42*4+IF($AA$12,10,0) -> 85.6 | DE42: 66 | DF42: 19
A43: =IFERROR(__xludf.DUMMYFUNCTION("""COMPUTED_VALUE"""),"Trea Turner") -> Trea Turner | B43: R | C43: 0.20913462 | D43: 0.25 | E43: 0.30384615 | F43: 0.29326923 | G43: 0.091346154 | H43: =if(not(isblank(A43)),(max(D43, C43*1.5)+E43) * (1 - G43),) -> 0.56113744 | I43: 3 | J43: RF | R43: =IFERROR(__xludf.DUMMYFUNCTION("""COMPUTED_VALUE"""),"Riley Greene") -> Riley Greene | S43: L | T43: 0.16466346 | U43: 0.27451923 | V43: 0.27884615 | W43: 0.33173077 | X43: 0.038461538 | Y43: =if(not(isblank(R43)),(max(U43, T43*1.5)+V43) * (1 - X43),) -> 0.5320821 | AH43: =IFERROR(__xludf.DUMMYFUNCTION("""COMPUTED_VALUE"""),"Jorge Polanco") -> Jorge Polanco | AI43: =IFERROR(__xludf.DUMMYFUNCTION("""COMPUTED_VALUE"""),"S") -> S | AJ43: =IFERROR(__xludf.DUMMYFUNCTION("""COMPUTED_VALUE"""),22.0) -> 22 | AK43: =IFERROR(__xludf.DUMMYFUNCTION("""COMPUTED_VALUE"""),46.0) -> 46 | AL43: =IFERROR(__xludf.DUMMYFUNCTION("""COMPUTED_VALUE"""),1.0) -> 1 | AM43: =IFERROR(__xludf.DUMMYFUNCTION("""COMPUTED_VALUE"""),14.0) -> 14 | AN43: =IFERROR(__xludf.DUMMYFUNCTION("""COMPUTED_VALUE"""),23.5) -> 23.5 | AO43: =IFERROR(__xludf.DUMMYFUNCTION("""COMPUTED_VALUE"""),10.4) -> 10.4 | AP43: =IFERROR(__xludf.DUMMYFUNCTION("""COMPUTED_VALUE"""),26.5) -> 26.5 | AQ43: =IFERROR(__xludf.DUMMYFUNCTION("""COMPUTED_VALUE"""),26.4) -> 26.4 | AR43: =IFERROR(__xludf.DUMMYFUNCTION("""COMPUTED_VALUE"""),29.9) -> 29.9 | AS43: =IFERROR(__xludf.DUMMYFUNCTION("""COMPUTED_VALUE"""),17.9) -> 17.9 | AT43: =IFERROR(__xludf.DUMMYFUNCTION("""COMPUTED_VALUE"""),1.8) -> 1.8 | AU43: =IFERROR(__xludf.DUMMYFUNCTION("""COMPUTED_VALUE"""),2.5) -> 2.5 | AV43: =IFERROR(__xludf.DUMMYFUNCTION("""COMPUTED_VALUE"""),3.0) -> 3 | AW43: =IFERROR(__xludf.DUMMYFUNCTION("""COMPUTED_VALUE"""),5.0) -> 5 | AX43: =IFERROR(__xludf.DUMMYFUNCTION("""COMPUTED_VALUE"""),5.0) -> 5 | AY43: =IFERROR(__xludf.DUMMYFUNCTION("""COMPUTED_VALUE"""),5.0) -> 5 | AZ43: =IFERROR(__xludf.DUMMYFUNCTION("""COMPUTED_VALUE"""),28.0) -> 28 | BA43: =IFERROR(__xludf.DUMMYFUNCTION("""COMPUTED_VALUE"""),21.0) -> 21 | BB43: =IFERROR(__xludf.DUMMYFUNCTION("""COMPUTED_VALUE"""),"4,5/- (13-6)") -> 4,5/- (13-6) | BC43: =IFERROR(__xludf.DUMMYFUNCTION("""COMPUTED_VALUE"""),"D") -> D | BD43: =IFERROR(__xludf.DUMMYFUNCTION("""COMPUTED_VALUE"""),"C") -> C | BE43: =IFERROR(__xludf.DUMMYFUNCTION("""COMPUTED_VALUE"""),"D") -> D | BF43: =if(AI43<>"",ifs(AI43="L","L",AI43="R","R",and(AI43="S",$AI$16="R"),"L",True,"R"),) -> L | BI43: 20.8 | BJ43: 2.5 | BK43: 2.45 | BL43: =SUM(BI43:BK43)+IF($J$12,10,0) -> 25.75 | BM43: 45.9 | BN43: =SUM(BL43:BM43) -> 71.65 | BO43: 40.9 | BP43: =BO43+BJ43+BK43*4+IF($J$12,10,0) -> 53.2 | BQ43: 78 | BR43: 26 | BV43: =IFERROR(__xludf.DUMMYFUNCTION("""COMPUTED_VALUE"""),"Miguel Andujar") -> Miguel Andujar | BW43: =IFERROR(__xludf.DUMMYFUNCTION("""COMPUTED_VALUE"""),"R") -> R | BX43: =IFERROR(__xludf.DUMMYFUNCTION("""COMPUTED_VALUE"""),0.0) -> 0 | BY43: =IFERROR(__xludf.DUMMYFUNCTION("""COMPUTED_VALUE"""),5.0) -> 5 | BZ43: =IFERROR(__xludf.DUMMYFUNCTION("""COMPUTED_VALUE"""),9.0) -> 9 | CA43: =IFERROR(__xludf.DUMMYFUNCTION("""COMPUTED_VALUE"""),0.0) -> 0 | CB43: =IFERROR(__xludf.DUMMYFUNCTION("""COMPUTED_VALUE"""),45.1) -> 45.1 | CC43: =IFERROR(__xludf.DUMMYFUNCTION("""COMPUTED_VALUE"""),27.3) -> 27.3 | CD43: =IFERROR(__xludf.DUMMYFUNCTION("""COMPUTED_VALUE"""),56.1) -> 56.1 | CE43: =IFERROR(__xludf.DUMMYFUNCTION("""COMPUTED_VALUE"""),29.3) -> 29.3 | CF43: =IFERROR(__xludf.DUMMYFUNCTION("""COMPUTED_VALUE"""),53.9) -> 53.9 | CG43: =IFERROR(__xludf.DUMMYFUNCTION("""COMPUTED_VALUE"""),39.2) -> 39.2 | CH43: =IFERROR(__xludf.DUMMYFUNCTION("""COMPUTED_VALUE"""),0.2) -> 0.2 | CI43: =IFERROR(__xludf.DUMMYFUNCTION("""COMPUTED_VALUE"""),2.5) -> 2.5 | CJ43: =IFERROR(__xludf.DUMMYFUNCTION("""COMPUTED_VALUE"""),0.0) -> 0 | CK43: =IFERROR(__xludf.DUMMYFUNCTION("""COMPUTED_VALUE"""),-3.0) -> -3 | CL43: =IFERROR(__xludf.DUMMYFUNCTION("""COMPUTED_VALUE"""),5.0) -> 5 | CM43: =IFERROR(__xludf.DUMMYFUNCTION("""COMPUTED_VALUE"""),5.0) -> 5 | CN43: =IFERROR(__xludf.DUMMYFUNCTION("""COMPUTED_VALUE"""),22.0) -> 22 | CO43: =IFERROR(__xludf.DUMMYFUNCTION("""COMPUTED_VALUE"""),25.0) -> 25 | CP43: =IFERROR(__xludf.DUMMYFUNCTION("""COMPUTED_VALUE"""),"7/12 (13-6)") -> 7/12 (13-6) | CQ43: =IFERROR(__xludf.DUMMYFUNCTION("""COMPUTED_VALUE"""),"D") -> D | CR43: =IFERROR(__xludf.DUMMYFUNCTION("""COMPUTED_VALUE"""),"D") -> D | CS43: =IFERROR(__xludf.DUMMYFUNCTION("""COMPUTED_VALUE"""),"C") -> C | CT43: =if(BW43<>"",ifs(BW43="L","L",BW43="R","R",and(BW43="S",$AI$13="R"),"L",True,"R"),) -> R | CW43: 49.6 | CX43: 3.5 | CY43: -0.25 | CZ43: =SUM(CW43:CY43)+IF($AA$12,10,0) -> 52.85 | DA43: 52.6 | DB43: =SUM(CZ43:DA43) -> 105.45 | DC43: 82.8 | DD43: =DC43+CX43+CY43*4+IF($AA$12,10,0) -> 85.3 | DE43: 42 | DF43: 32
A44: =IFERROR(__xludf.DUMMYFUNCTION("""COMPUTED_VALUE"""),"Yordan Alvarez") -> Yordan Alvarez | B44: L | C44: 0.19423077 | D44: 0.28125 | E44: 0.41682692 | F44: 0.18269231 | G44: 0.10576923 | H44: =if(not(isblank(A44)),(max(D44, C44*1.5)+E44) * (1 - G44),) -> 0.63327016 | I44: 1 | J44: SS | R44: =IFERROR(__xludf.DUMMYFUNCTION("""COMPUTED_VALUE"""),"Sal Frelick") -> Sal Frelick | S44: L | T44: 0.16514423 | U44: 0.23557692 | V44: 0.19134615 | W44: 0.21634615 | X44: 0.096153846 | Y44: =if(not(isblank(R44)),(max(U44, T44*1.5)+V44) * (1 - X44),) -> 0.39684495 | AH44: =IFERROR(__xludf.DUMMYFUNCTION("""COMPUTED_VALUE"""),"Ben Rice") -> Ben Rice | AI44: =IFERROR(__xludf.DUMMYFUNCTION("""COMPUTED_VALUE"""),"L") -> L | AJ44: =IFERROR(__xludf.DUMMYFUNCTION("""COMPUTED_VALUE"""),28.0) -> 28 | AK44: =IFERROR(__xludf.DUMMYFUNCTION("""COMPUTED_VALUE"""),38.0) -> 38 | AL44: =IFERROR(__xludf.DUMMYFUNCTION("""COMPUTED_VALUE"""),26.0) -> 26 | AM44: =IFERROR(__xludf.DUMMYFUNCTION("""COMPUTED_VALUE"""),12.0) -> 12 | AN44: =IFERROR(__xludf.DUMMYFUNCTION("""COMPUTED_VALUE"""),1.8) -> 1.8 | AO44: =IFERROR(__xludf.DUMMYFUNCTION("""COMPUTED_VALUE"""),6.6) -> 6.6 | AP44: =IFERROR(__xludf.DUMMYFUNCTION("""COMPUTED_VALUE"""),28.8) -> 28.8 | AQ44: =IFERROR(__xludf.DUMMYFUNCTION("""COMPUTED_VALUE"""),19.6) -> 19.6 | AR44: =IFERROR(__xludf.DUMMYFUNCTION("""COMPUTED_VALUE"""),7.0) -> 7 | AS44: =IFERROR(__xludf.DUMMYFUNCTION("""COMPUTED_VALUE"""),20.0) -> 20 | AT44: =IFERROR(__xludf.DUMMYFUNCTION("""COMPUTED_VALUE"""),1.8) -> 1.8 | AU44: =IFERROR(__xludf.DUMMYFUNCTION("""COMPUTED_VALUE"""),3.4) -> 3.4 | AV44: =IFERROR(__xludf.DUMMYFUNCTION("""COMPUTED_VALUE"""),1.0) -> 1 | AW44: =IFERROR(__xludf.DUMMYFUNCTION("""COMPUTED_VALUE"""),5.0) -> 5 | AX44: =IFERROR(__xludf.DUMMYFUNCTION("""COMPUTED_VALUE"""),0.0) -> 0 | AY44: =IFERROR(__xludf.DUMMYFUNCTION("""COMPUTED_VALUE"""),0.0) -> 0 | AZ44: =IFERROR(__xludf.DUMMYFUNCTION("""COMPUTED_VALUE"""),5.0) -> 5 | BA44: =IFERROR(__xludf.DUMMYFUNCTION("""COMPUTED_VALUE"""),8.0) -> 8 | BB44: =IFERROR(__xludf.DUMMYFUNCTION("""COMPUTED_VALUE"""),"2-6,11,12/- (3-1)") -> 2-6,11,12/- (3-1) | BC44: =IFERROR(__xludf.DUMMYFUNCTION("""COMPUTED_VALUE"""),"E") -> E | BD44: =IFERROR(__xludf.DUMMYFUNCTION("""COMPUTED_VALUE"""),"D") -> D | BE44: =IFERROR(__xludf.DUMMYFUNCTION("""COMPUTED_VALUE"""),"D") -> D | BF44: =if(AI44<>"",ifs(AI44="L","L",AI44="R","R",and(AI44="S",$AI$16="R"),"L",True,"R"),) -> L | BI44: 17 | BJ44: 1.25 | BK44: 2.45 | BL44: =SUM(BI44:BK44)+IF($J$12,10,0) -> 20.7 | BM44: 39.1 | BN44: =SUM(BL44:BM44) -> 59.8 | BO44: 43 | BP44: =BO44+BJ44+BK44*4+IF($J$12,10,0) -> 54.05 | BQ44: 70 | BR44: 13 | BV44: =IFERROR(__xludf.DUMMYFUNCTION("""COMPUTED_VALUE"""),"Hunter Goodman") -> Hunter Goodman | BW44: =IFERROR(__xludf.DUMMYFUNCTION("""COMPUTED_VALUE"""),"R") -> R | BX44: =IFERROR(__xludf.DUMMYFUNCTION("""COMPUTED_VALUE"""),43.0) -> 43 | BY44: =IFERROR(__xludf.DUMMYFUNCTION("""COMPUTED_VALUE"""),32.0) -> 32 | BZ44: =IFERROR(__xludf.DUMMYFUNCTION("""COMPUTED_VALUE"""),0.0) -> 0 | CA44: =IFERROR(__xludf.DUMMYFUNCTION("""COMPUTED_VALUE"""),0.0) -> 0 | CB44: =IFERROR(__xludf.DUMMYFUNCTION("""COMPUTED_VALUE"""),12.1) -> 12.1 | CC44: =IFERROR(__xludf.DUMMYFUNCTION("""COMPUTED_VALUE"""),7.0) -> 7 | CD44: =IFERROR(__xludf.DUMMYFUNCTION("""COMPUTED_VALUE"""),15.1) -> 15.1 | CE44: =IFERROR(__xludf.DUMMYFUNCTION("""COMPUTED_VALUE"""),10.0) -> 10 | CF44: =IFERROR(__xludf.DUMMYFUNCTION("""COMPUTED_VALUE"""),35.3) -> 35.3 | CG44: =IFERROR(__xludf.DUMMYFUNCTION("""COMPUTED_VALUE"""),21.8) -> 21.8 | CH44: =IFERROR(__xludf.DUMMYFUNCTION("""COMPUTED_VALUE"""),6.0) -> 6 | CI44: =IFERROR(__xludf.DUMMYFUNCTION("""COMPUTED_VALUE"""),4.2) -> 4.2 | CJ44: =IFERROR(__xludf.DUMMYFUNCTION("""COMPUTED_VALUE"""),8.0) -> 8 | CK44: =IFERROR(__xludf.DUMMYFUNCTION("""COMPUTED_VALUE"""),7.0) -> 7 | CL44: =IFERROR(__xludf.DUMMYFUNCTION("""COMPUTED_VALUE"""),0.0) -> 0 | CM44: =IFERROR(__xludf.DUMMYFUNCTION("""COMPUTED_VALUE"""),0.0) -> 0 | CN44: =IFERROR(__xludf.DUMMYFUNCTION("""COMPUTED_VALUE"""),19.0) -> 19 | CO44: =IFERROR(__xludf.DUMMYFUNCTION("""COMPUTED_VALUE"""),19.0) -> 19 | CP44: =IFERROR(__xludf.DUMMYFUNCTION("""COMPUTED_VALUE"""),"2-5/10 (13-6)") -> 2-5/10 (13-6) | CQ44: =IFERROR(__xludf.DUMMYFUNCTION("""COMPUTED_VALUE"""),"E") -> E | CR44: =IFERROR(__xludf.DUMMYFUNCTION("""COMPUTED_VALUE"""),"D") -> D | CS44: =IFERROR(__xludf.DUMMYFUNCTION("""COMPUTED_VALUE"""),"D") -> D | CT44: =if(BW44<>"",ifs(BW44="L","L",BW44="R","R",and(BW44="S",$AI$13="R"),"L",True,"R"),) -> R | CW44: 29.3 | CX44: 1.75 | CY44: 2.25 | CZ44: =SUM(CW44:CY44)+IF($AA$12,10,0) -> 33.3 | DA44: 33.3 | DB44: =SUM(CZ44:DA44) -> 66.6 | DC44: 65.4 | DD44: =DC44+CX44+CY44*4+IF($AA$12,10,0) -> 76.15 | DE44: 69 | DF44: 26
H45: =if(not(isblank(A45)),(max(D45, C45*1.5)+E45) * (1 - G45),) | I45: 2 | J45: LF | Y45: =if(not(isblank(R45)),(max(U45, T45*1.5)+V45) * (1 - X45),) | BF45: =if(AI45<>"",ifs(AI45="L","L",AI45="R","R",and(AI45="S",$AI$16="R"),"L",True,"R"),) | BL45: =SUM(BI45:BK45)+IF($J$12,10,0) -> 0 | BN45: =SUM(BL45:BM45) -> 0 | BP45: =BO45+BJ45+BK45*4+IF($J$12,10,0) -> 0 | CT45: =if(BW45<>"",ifs(BW45="L","L",BW45="R","R",and(BW45="S",$AI$13="R"),"L",True,"R"),) | CZ45: =SUM(CW45:CY45)+IF($AA$12,10,0) -> 0 | DB45: =SUM(CZ45:DA45) -> 0 | DD45: =DC45+CX45+CY45*4+IF($AA$12,10,0) -> 0
H46: =if(not(isblank(A46)),(max(D46, C46*1.5)+E46) * (1 - G46),) | Y46: =if(not(isblank(R46)),(max(U46, T46*1.5)+V46) * (1 - X46),) | BF46: =if(AI46<>"",ifs(AI46="L","L",AI46="R","R",and(AI46="S",$AI$16="R"),"L",True,"R"),) | BL46: =SUM(BI46:BK46)+IF($J$12,10,0) -> 0 | BN46: =SUM(BL46:BM46) -> 0 | BP46: =BO46+BJ46+BK46*4+IF($J$12,10,0) -> 0 | CT46: =if(BW46<>"",ifs(BW46="L","L",BW46="R","R",and(BW46="S",$AI$13="R"),"L",True,"R"),) | CZ46: =SUM(CW46:CY46)+IF($AA$12,10,0) -> 0 | DB46: =SUM(CZ46:DA46) -> 0 | DD46: =DC46+CX46+CY46*4+IF($AA$12,10,0) -> 0
H47: =if(not(isblank(A47)),(max(D47, C47*1.5)+E47) * (1 - G47),) | Y47: =if(not(isblank(R47)),(max(U47, T47*1.5)+V47) * (1 - X47),) | BF47: =if(AI47<>"",ifs(AI47="L","L",AI47="R","R",and(AI47="S",$AI$16="R"),"L",True,"R"),) | BL47: =SUM(BI47:BK47)+IF($J$12,10,0) -> 0 | BN47: =SUM(BL47:BM47) -> 0 | BP47: =BO47+BJ47+BK47*4+IF($J$12,10,0) -> 0 | CT47: =if(BW47<>"",ifs(BW47="L","L",BW47="R","R",and(BW47="S",$AI$13="R"),"L",True,"R"),) | CZ47: =SUM(CW47:CY47)+IF($AA$12,10,0) -> 0 | DB47: =SUM(CZ47:DA47) -> 0 | DD47: =DC47+CX47+CY47*4+IF($AA$12,10,0) -> 0
H48: =if(not(isblank(A48)),(max(D48, C48*1.5)+E48) * (1 - G48),) | Y48: =if(not(isblank(R48)),(max(U48, T48*1.5)+V48) * (1 - X48),) | BF48: =if(AI48<>"",ifs(AI48="L","L",AI48="R","R",and(AI48="S",$AI$16="R"),"L",True,"R"),) | BL48: =SUM(BI48:BK48)+IF($J$12,10,0) -> 0 | BN48: =SUM(BL48:BM48) -> 0 | BP48: =BO48+BJ48+BK48*4+IF($J$12,10,0) -> 0 | CT48: =if(BW48<>"",ifs(BW48="L","L",BW48="R","R",and(BW48="S",$AI$13="R"),"L",True,"R"),) | CZ48: =SUM(CW48:CY48)+IF($AA$12,10,0) -> 0 | DB48: =SUM(CZ48:DA48) -> 0 | DD48: =DC48+CX48+CY48*4+IF($AA$12,10,0) -> 0
H49: =if(not(isblank(A49)),(max(D49, C49*1.5)+E49) * (1 - G49),) | Y49: =if(not(isblank(R49)),(max(U49, T49*1.5)+V49) * (1 - X49),) | BF49: =if(AI49<>"",ifs(AI49="L","L",AI49="R","R",and(AI49="S",$AI$16="R"),"L",True,"R"),) | BL49: =SUM(BI49:BK49)+IF($J$12,10,0) -> 0 | BN49: =SUM(BL49:BM49) -> 0 | BP49: =BO49+BJ49+BK49*4+IF($J$12,10,0) -> 0 | CT49: =if(BW49<>"",ifs(BW49="L","L",BW49="R","R",and(BW49="S",$AI$13="R"),"L",True,"R"),) | CZ49: =SUM(CW49:CY49)+IF($AA$12,10,0) -> 0 | DB49: =SUM(CZ49:DA49) -> 0 | DD49: =DC49+CX49+CY49*4+IF($AA$12,10,0) -> 0
H50: =if(not(isblank(A50)),(max(D50, C50*1.5)+E50) * (1 - G50),) | Y50: =if(not(isblank(R50)),(max(U50, T50*1.5)+V50) * (1 - X50),) | BF50: =if(AI50<>"",ifs(AI50="L","L",AI50="R","R",and(AI50="S",$AI$16="R"),"L",True,"R"),) | BL50: =SUM(BI50:BK50)+IF($J$12,10,0) -> 0 | BN50: =SUM(BL50:BM50) -> 0 | BP50: =BO50+BJ50+BK50*4+IF($J$12,10,0) -> 0 | CT50: =if(BW50<>"",ifs(BW50="L","L",BW50="R","R",and(BW50="S",$AI$13="R"),"L",True,"R"),) | CZ50: =SUM(CW50:CY50)+IF($AA$12,10,0) -> 0 | DB50: =SUM(CZ50:DA50) -> 0 | DD50: =DC50+CX50+CY50*4+IF($AA$12,10,0) -> 0
H51: =if(not(isblank(A51)),(max(D51, C51*1.5)+E51) * (1 - G51),) | Y51: =if(not(isblank(R51)),(max(U51, T51*1.5)+V51) * (1 - X51),) | BF51: =if(AI51<>"",ifs(AI51="L","L",AI51="R","R",and(AI51="S",$AI$16="R"),"L",True,"R"),) | BL51: =SUM(BI51:BK51)+IF($J$12,10,0) -> 0 | BN51: =SUM(BL51:BM51) -> 0 | BP51: =BO51+BJ51+BK51*4+IF($J$12,10,0) -> 0 | CT51: =if(BW51<>"",ifs(BW51="L","L",BW51="R","R",and(BW51="S",$AI$13="R"),"L",True,"R"),) | CZ51: =SUM(CW51:CY51)+IF($AA$12,10,0) -> 0 | DB51: =SUM(CZ51:DA51) -> 0 | DD51: =DC51+CX51+CY51*4+IF($AA$12,10,0) -> 0
H52: =if(not(isblank(A52)),(max(D52, C52*1.5)+E52) * (1 - G52),) | Y52: =if(not(isblank(R52)),(max(U52, T52*1.5)+V52) * (1 - X52),) | BF52: =if(AI52<>"",ifs(AI52="L","L",AI52="R","R",and(AI52="S",$AI$16="R"),"L",True,"R"),) | BL52: =SUM(BI52:BK52)+IF($J$12,10,0) -> 0 | BN52: =SUM(BL52:BM52) -> 0 | BP52: =BO52+BJ52+BK52*4+IF($J$12,10,0) -> 0 | CT52: =if(BW52<>"",ifs(BW52="L","L",BW52="R","R",and(BW52="S",$AI$16="R"),"L",True,"R"),) | CZ52: =SUM(CW52:CY52)+IF($AA$12,10,0) -> 0 | DB52: =SUM(CZ52:DA52) -> 0 | DD52: =DC52+CX52+CY52*4+IF($AA$12,10,0) -> 0
I54: 3 | J54: DH
I56: 4 | J56: 2B
I57: 6 | J57: 3B
I58: 5 | J58: 1B
I59: 8 | J59: CF
I60: 2 | J60: C
I61: 1 | J61: RF
I62: 9 | J62: LF
I64: 7 | J64: SS

Sheet Transaction Math
A1: Players | B1: Name | C1: sWAR | D1: Card | E1: Card 2 | F1: IL Return | G1: Dem Wk | H1: Vanity | I1: Injury | J1: Destination | Q1: Destination | R1: Name | S1: playerID | T1: Name | U1: sWAR | V1: Card | W1: Card 2 | AJ1: IL Return | AK1: Dem Wk | AL1: Vanity | AO1: Injury
A2: =IFERROR(__xludf.DUMMYFUNCTION("QUERY(Imports!A1:Z1001,""select A, B, C, D, E, R, S, T, W where G = 'WV' order by B asc"", 0)"),12548.0) -> 12548 | B2: =IFERROR(__xludf.DUMMYFUNCTION("""COMPUTED_VALUE"""),"Andy Pages") -> Andy Pages | C2: =IFERROR(__xludf.DUMMYFUNCTION("""COMPUTED_VALUE"""),0.85) -> 0.85 | D2: =IFERROR(__xludf.DUMMYFUNCTION("""COMPUTED_VALUE"""),"https://sba-cards-2024.s3.us-east-1.amazonaws.com/2024-cards/andy-pages.png") -> https://sba-cards-2024.s3.us-east-1.amazonaws.com/2024-cards/andy-pages.png | G2: =IFERROR(__xludf.DUMMYFUNCTION("""COMPUTED_VALUE"""),-2.0) -> -2 | I2: =IFERROR(__xludf.DUMMYFUNCTION("""COMPUTED_VALUE"""),"1p60") -> 1p60 | R2: Jorge Polanco | S2: =IFERROR(__xludf.DUMMYFUNCTION("if(R2<>"""",filter(Imports!A:W,Imports!B:B=R2),)"),13007.0) -> 13007 | T2: =IFERROR(__xludf.DUMMYFUNCTION("""COMPUTED_VALUE"""),"Jorge Polanco") -> Jorge Polanco | U2: =IFERROR(__xludf.DUMMYFUNCTION("""COMPUTED_VALUE"""),0.48) -> 0.48 | V2: =IFERROR(__xludf.DUMMYFUNCTION("""COMPUTED_VALUE"""),"https://sba-cards-2024.s3.us-east-1.amazonaws.com/2024-cards/jorge-polanco.png") -> https://sba-cards-2024.s3.us-east-1.amazonaws.com/2024-cards/jorge-polanco.png | X2: =IFERROR(__xludf.DUMMYFUNCTION("""COMPUTED_VALUE"""),548.0) -> 548 | Y2: =IFERROR(__xludf.DUMMYFUNCTION("""COMPUTED_VALUE"""),"WV") -> WV | Z2: =IFERROR(__xludf.DUMMYFUNCTION("""COMPUTED_VALUE"""),"2B") -> 2B | AK2: =IFERROR(__xludf.DUMMYFUNCTION("""COMPUTED_VALUE"""),-2.0) -> -2 | AM2: =IFERROR(__xludf.DUMMYFUNCTION("""COMPUTED_VALUE"""),"Polanco,J") -> Polanco,J | AN2: =IFERROR(__xludf.DUMMYFUNCTION("""COMPUTED_VALUE"""),"polanjo01") -> polanjo01 | AO2: =IFERROR(__xludf.DUMMYFUNCTION("""COMPUTED_VALUE"""),"2p60") -> 2p60
A3: =IFERROR(__xludf.DUMMYFUNCTION("""COMPUTED_VALUE"""),12553.0) -> 12553 | B3: =IFERROR(__xludf.DUMMYFUNCTION("""COMPUTED_VALUE"""),"Anthony Bender") -> Anthony Bender | C3: =IFERROR(__xludf.DUMMYFUNCTION("""COMPUTED_VALUE"""),0.49) -> 0.49 | D3: =IFERROR(__xludf.DUMMYFUNCTION("""COMPUTED_VALUE"""),"https://sba-cards-2024.s3.us-east-1.amazonaws.com/2024-cards/anthony-bender.png") -> https://sba-cards-2024.s3.us-east-1.amazonaws.com/2024-cards/anthony-bender.png | G3: =IFERROR(__xludf.DUMMYFUNCTION("""COMPUTED_VALUE"""),-2.0) -> -2 | I3: =IFERROR(__xludf.DUMMYFUNCTION("""COMPUTED_VALUE"""),"2p50") -> 2p50 | L3: Starting sWAR | M3: Dropped sWAR | N3: Added sWAR | O3: Final sWAR | P3: sWAR Cap | R3: Anthony Bender | S3: =IFERROR(__xludf.DUMMYFUNCTION("if(R3<>"""",filter(Imports!A:W,Imports!B:B=R3),)"),12553.0) -> 12553 | T3: =IFERROR(__xludf.DUMMYFUNCTION("""COMPUTED_VALUE"""),"Anthony Bender") -> Anthony Bender | U3: =IFERROR(__xludf.DUMMYFUNCTION("""COMPUTED_VALUE"""),0.49) -> 0.49 | V3: =IFERROR(__xludf.DUMMYFUNCTION("""COMPUTED_VALUE"""),"https://sba-cards-2024.s3.us-east-1.amazonaws.com/2024-cards/anthony-bender.png") -> https://sba-cards-2024.s3.us-east-1.amazonaws.com/2024-cards/anthony-bender.png | X3: =IFERROR(__xludf.DUMMYFUNCTION("""COMPUTED_VALUE"""),548.0) -> 548 | Y3: =IFERROR(__xludf.DUMMYFUNCTION("""COMPUTED_VALUE"""),"WV") -> WV | Z3: =IFERROR(__xludf.DUMMYFUNCTION("""COMPUTED_VALUE"""),"RP") -> RP | AA3: =IFERROR(__xludf.DUMMYFUNCTION("""COMPUTED_VALUE"""),"CP") -> CP | AK3: =IFERROR(__xludf.DUMMYFUNCTION("""COMPUTED_VALUE"""),-2.0) -> -2 | AM3: =IFERROR(__xludf.DUMMYFUNCTION("""COMPUTED_VALUE"""),"Bender,A") -> Bender,A | AN3: =IFERROR(__xludf.DUMMYFUNCTION("""COMPUTED_VALUE"""),"bendean01") -> bendean01 | AO3: =IFERROR(__xludf.DUMMYFUNCTION("""COMPUTED_VALUE"""),"2p50") -> 2p50
A4: =IFERROR(__xludf.DUMMYFUNCTION("""COMPUTED_VALUE"""),12573.0) -> 12573 | B4: =IFERROR(__xludf.DUMMYFUNCTION("""COMPUTED_VALUE"""),"Ben Brown") -> Ben Brown | C4: =IFERROR(__xludf.DUMMYFUNCTION("""COMPUTED_VALUE"""),1.22) -> 1.22 | D4: =IFERROR(__xludf.DUMMYFUNCTION("""COMPUTED_VALUE"""),"https://sba-cards-2024.s3.us-east-1.amazonaws.com/2024-cards/ben-brown.png") -> https://sba-cards-2024.s3.us-east-1.amazonaws.com/2024-cards/ben-brown.png | F4: =IFERROR(__xludf.DUMMYFUNCTION("""COMPUTED_VALUE"""),"w07g2") -> w07g2 | G4: =IFERROR(__xludf.DUMMYFUNCTION("""COMPUTED_VALUE"""),-2.0) -> -2 | I4: =IFERROR(__xludf.DUMMYFUNCTION("""COMPUTED_VALUE"""),"5p30") -> 5p30 | L4: =sum(C2:C33) -> 26.93 | M4: =sumif(J2:J33,"<>",C2:C33) -> 0.08 | N4: =sumif(J36:J48,"WV",C36:C48)+sumif(J52:J60,"WV",C52:C60)+sumif(Q2:Q35,"WV",U2:U35) -> 0 | O4: =L4-M4+N4 -> 26.85 | P4: {=xlookup("WV",Imports!AC2:AC30,Imports!AU2:AU30)} -> 29.5 | R4: Stephen Kolek | S4: =IFERROR(__xludf.DUMMYFUNCTION("if(R4<>"""",filter(Imports!A:W,Imports!B:B=R4),)"),13389.0) -> 13389 | T4: =IFERROR(__xludf.DUMMYFUNCTION("""COMPUTED_VALUE"""),"Stephen Kolek") -> Stephen Kolek | U4: =IFERROR(__xludf.DUMMYFUNCTION("""COMPUTED_VALUE"""),0.0) -> 0 | V4: =IFERROR(__xludf.DUMMYFUNCTION("""COMPUTED_VALUE"""),"https://sba-cards-2024.s3.us-east-1.amazonaws.com/2024-cards/stephen-kolek.png") -> https://sba-cards-2024.s3.us-east-1.amazonaws.com/2024-cards/stephen-kolek.png | X4: =IFERROR(__xludf.DUMMYFUNCTION("""COMPUTED_VALUE"""),569.0) -> 569 | Y4: =IFERROR(__xludf.DUMMYFUNCTION("""COMPUTED_VALUE"""),"POR") -> POR | Z4: =IFERROR(__xludf.DUMMYFUNCTION("""COMPUTED_VALUE"""),"RP") -> RP | AK4: =IFERROR(__xludf.DUMMYFUNCTION("""COMPUTED_VALUE"""),-2.0) -> -2 | AM4: =IFERROR(__xludf.DUMMYFUNCTION("""COMPUTED_VALUE"""),"Kolek,S") -> Kolek,S | AN4: =IFERROR(__xludf.DUMMYFUNCTION("""COMPUTED_VALUE"""),"kolekst01") -> kolekst01 | AO4: =IFERROR(__xludf.DUMMYFUNCTION("""COMPUTED_VALUE"""),"5p30") -> 5p30
A5: =IFERROR(__xludf.DUMMYFUNCTION("""COMPUTED_VALUE"""),12577.0) -> 12577 | B5: =IFERROR(__xludf.DUMMYFUNCTION("""COMPUTED_VALUE"""),"Ben Rice") -> Ben Rice | C5: =IFERROR(__xludf.DUMMYFUNCTION("""COMPUTED_VALUE"""),0.0) -> 0 | D5: =IFERROR(__xludf.DUMMYFUNCTION("""COMPUTED_VALUE"""),"https://sba-cards-2024.s3.us-east-1.amazonaws.com/2024-cards/ben-rice.png") -> https://sba-cards-2024.s3.us-east-1.amazonaws.com/2024-cards/ben-rice.png | G5: =IFERROR(__xludf.DUMMYFUNCTION("""COMPUTED_VALUE"""),-2.0) -> -2 | I5: =IFERROR(__xludf.DUMMYFUNCTION("""COMPUTED_VALUE"""),"1p30") -> 1p30 | R5: Mickey Moniak | S5: =IFERROR(__xludf.DUMMYFUNCTION("if(R5<>"""",filter(Imports!A:W,Imports!B:B=R5),)"),13205.0) -> 13205 | T5: =IFERROR(__xludf.DUMMYFUNCTION("""COMPUTED_VALUE"""),"Mickey Moniak") -> Mickey Moniak | U5: =IFERROR(__xludf.DUMMYFUNCTION("""COMPUTED_VALUE"""),0.0) -> 0 | V5: =IFERROR(__xludf.DUMMYFUNCTION("""COMPUTED_VALUE"""),"https://sba-cards-2024.s3.us-east-1.amazonaws.com/2024-cards/mickey-moniak.png") -> https://sba-cards-2024.s3.us-east-1.amazonaws.com/2024-cards/mickey-moniak.png | X5: =IFERROR(__xludf.DUMMYFUNCTION("""COMPUTED_VALUE"""),548.0) -> 548 | Y5: =IFERROR(__xludf.DUMMYFUNCTION("""COMPUTED_VALUE"""),"WV") -> WV | Z5: =IFERROR(__xludf.DUMMYFUNCTION("""COMPUTED_VALUE"""),"CF") -> CF | AA5: =IFERROR(__xludf.DUMMYFUNCTION("""COMPUTED_VALUE"""),"RF") -> RF | AB5: =IFERROR(__xludf.DUMMYFUNCTION("""COMPUTED_VALUE"""),"LF") -> LF | AK5: =IFERROR(__xludf.DUMMYFUNCTION("""COMPUTED_VALUE"""),-2.0) -> -2 | AM5: =IFERROR(__xludf.DUMMYFUNCTION("""COMPUTED_VALUE"""),"Moniak,M") -> Moniak,M | AN5: =IFERROR(__xludf.DUMMYFUNCTION("""COMPUTED_VALUE"""),"moniami01") -> moniami01 | AO5: =IFERROR(__xludf.DUMMYFUNCTION("""COMPUTED_VALUE"""),"1p60") -> 1p60
A6: =IFERROR(__xludf.DUMMYFUNCTION("""COMPUTED_VALUE"""),12665.0) -> 12665 | B6: =IFERROR(__xludf.DUMMYFUNCTION("""COMPUTED_VALUE"""),"Cedric Mullins") -> Cedric Mullins | C6: =IFERROR(__xludf.DUMMYFUNCTION("""COMPUTED_VALUE"""),1.51) -> 1.51 | D6: =IFERROR(__xludf.DUMMYFUNCTION("""COMPUTED_VALUE"""),"https://sba-cards-2024.s3.us-east-1.amazonaws.com/2024-cards/cedric-mullins.png") -> https://sba-cards-2024.s3.us-east-1.amazonaws.com/2024-cards/cedric-mullins.png | G6: =IFERROR(__xludf.DUMMYFUNCTION("""COMPUTED_VALUE"""),-2.0) -> -2 | I6: =IFERROR(__xludf.DUMMYFUNCTION("""COMPUTED_VALUE"""),"1p65") -> 1p65 | L6: Count | M6: Count | N6: Count | O6: Count | S6: =IFERROR(__xludf.DUMMYFUNCTION("if(R6<>"""",filter(Imports!A:W,Imports!B:B=R6),)"),"")
A7: =IFERROR(__xludf.DUMMYFUNCTION("""COMPUTED_VALUE"""),12751.0) -> 12751 | B7: =IFERROR(__xludf.DUMMYFUNCTION("""COMPUTED_VALUE"""),"Dedniel Nunez") -> Dedniel Nunez | C7: =IFERROR(__xludf.DUMMYFUNCTION("""COMPUTED_VALUE"""),1.65) -> 1.65 | D7: =IFERROR(__xludf.DUMMYFUNCTION("""COMPUTED_VALUE"""),"https://sba-cards-2024.s3.us-east-1.amazonaws.com/2024-cards/dedniel-nunez.png") -> https://sba-cards-2024.s3.us-east-1.amazonaws.com/2024-cards/dedniel-nunez.png | G7: =IFERROR(__xludf.DUMMYFUNCTION("""COMPUTED_VALUE"""),-2.0) -> -2 | I7: =IFERROR(__xludf.DUMMYFUNCTION("""COMPUTED_VALUE"""),"5p20") -> 5p20 | L7: =counta(B2:B33) -> 26 | M7: =counta(J2:J33) -> 1 | N7: =countif(J36:J49,"WV")+countif(J52:J60,"WV")+countif(Q2:Q35,"WV") -> 1 | O7: =L7-M7+N7 -> 26 | S7: =IFERROR(__xludf.DUMMYFUNCTION("if(R7<>"""",filter(Imports!A:W,Imports!B:B=R7),)"),"")
A8: =IFERROR(__xludf.DUMMYFUNCTION("""COMPUTED_VALUE"""),12752.0) -> 12752 | B8: =IFERROR(__xludf.DUMMYFUNCTION("""COMPUTED_VALUE"""),"Dennis Santana") -> Dennis Santana | C8: =IFERROR(__xludf.DUMMYFUNCTION("""COMPUTED_VALUE"""),0.9) -> 0.9 | D8: =IFERROR(__xludf.DUMMYFUNCTION("""COMPUTED_VALUE"""),"https://sba-cards-2024.s3.us-east-1.amazonaws.com/2024-cards/dennis-santana.png") -> https://sba-cards-2024.s3.us-east-1.amazonaws.com/2024-cards/dennis-santana.png | G8: =IFERROR(__xludf.DUMMYFUNCTION("""COMPUTED_VALUE"""),-2.0) -> -2 | I8: =IFERROR(__xludf.DUMMYFUNCTION("""COMPUTED_VALUE"""),"1p40") -> 1p40 | S8: =IFERROR(__xludf.DUMMYFUNCTION("if(R8<>"""",filter(Imports!A:W,Imports!B:B=R8),)"),"")
A9: =IFERROR(__xludf.DUMMYFUNCTION("""COMPUTED_VALUE"""),12857.0) -> 12857 | B9: =IFERROR(__xludf.DUMMYFUNCTION("""COMPUTED_VALUE"""),"Griffin Canning") -> Griffin Canning | C9: =IFERROR(__xludf.DUMMYFUNCTION("""COMPUTED_VALUE"""),0.08) -> 0.08 | D9: =IFERROR(__xludf.DUMMYFUNCTION("""COMPUTED_VALUE"""),"https://sba-cards-2024.s3.us-east-1.amazonaws.com/2024-cards/griffin-canning.png") -> https://sba-cards-2024.s3.us-east-1.amazonaws.com/2024-cards/griffin-canning.png | G9: =IFERROR(__xludf.DUMMYFUNCTION("""COMPUTED_VALUE"""),-2.0) -> -2 | I9: =IFERROR(__xludf.DUMMYFUNCTION("""COMPUTED_VALUE"""),"1p70") -> 1p70 | J9: WVIL | S9: =IFERROR(__xludf.DUMMYFUNCTION("if(R9<>"""",filter(Imports!A:W,Imports!B:B=R9),)"),"")
A10: =IFERROR(__xludf.DUMMYFUNCTION("""COMPUTED_VALUE"""),12885.0) -> 12885 | B10: =IFERROR(__xludf.DUMMYFUNCTION("""COMPUTED_VALUE"""),"Ildemaro Vargas") -> Ildemaro Vargas | C10: =IFERROR(__xludf.DUMMYFUNCTION("""COMPUTED_VALUE"""),0.0) -> 0 | D10: =IFERROR(__xludf.DUMMYFUNCTION("""COMPUTED_VALUE"""),"https://sba-cards-2024.s3.us-east-1.amazonaws.com/2024-cards/ildemaro-vargas.png") -> https://sba-cards-2024.s3.us-east-1.amazonaws.com/2024-cards/ildemaro-vargas.png | G10: =IFERROR(__xludf.DUMMYFUNCTION("""COMPUTED_VALUE"""),-2.0) -> -2 | I10: =IFERROR(__xludf.DUMMYFUNCTION("""COMPUTED_VALUE"""),"1p50") -> 1p50 | L10: Starting MiL | M10: Dropped MiL | N10: Added MiL | O10: Final MiL | S10: =IFERROR(__xludf.DUMMYFUNCTION("if(R10<>"""",filter(Imports!A:W,Imports!B:B=R10),)"),"")
A11: =IFERROR(__xludf.DUMMYFUNCTION("""COMPUTED_VALUE"""),12927.0) -> 12927 | B11: =IFERROR(__xludf.DUMMYFUNCTION("""COMPUTED_VALUE"""),"Jared Jones") -> Jared Jones | C11: =IFERROR(__xludf.DUMMYFUNCTION("""COMPUTED_VALUE"""),1.11) -> 1.11 | D11: =IFERROR(__xludf.DUMMYFUNCTION("""COMPUTED_VALUE"""),"https://sba-cards-2024.s3.us-east-1.amazonaws.com/2024-cards/jared-jones.png") -> https://sba-cards-2024.s3.us-east-1.amazonaws.com/2024-cards/jared-jones.png | G11: =IFERROR(__xludf.DUMMYFUNCTION("""COMPUTED_VALUE"""),-2.0) -> -2 | I11: =IFERROR(__xludf.DUMMYFUNCTION("""COMPUTED_VALUE"""),"2p65") -> 2p65 | L11: =counta(B36:B49) -> 5 | M11: =counta(J36:J49) -> 1 | N11: =countif(J2:J28,"WVMiL")+countif(J52:J60,"WVMiL")+countif(Q2:Q40,"WVMiL") -> 0 | O11: =L11-M11+N11 -> 4 | S11: =IFERROR(__xludf.DUMMYFUNCTION("if(R11<>"""",filter(Imports!A:W,Imports!B:B=R11),)"),"")
A12: =IFERROR(__xludf.DUMMYFUNCTION("""COMPUTED_VALUE"""),12961.0) -> 12961 | B12: =IFERROR(__xludf.DUMMYFUNCTION("""COMPUTED_VALUE"""),"JJ Bleday") -> JJ Bleday | C12: =IFERROR(__xludf.DUMMYFUNCTION("""COMPUTED_VALUE"""),0.95) -> 0.95 | D12: =IFERROR(__xludf.DUMMYFUNCTION("""COMPUTED_VALUE"""),"https://sba-cards-2024.s3.us-east-1.amazonaws.com/2024-cards/jj-bleday.png") -> https://sba-cards-2024.s3.us-east-1.amazonaws.com/2024-cards/jj-bleday.png | G12: =IFERROR(__xludf.DUMMYFUNCTION("""COMPUTED_VALUE"""),-2.0) -> -2 | I12: =IFERROR(__xludf.DUMMYFUNCTION("""COMPUTED_VALUE"""),"1p70") -> 1p70 | S12: =IFERROR(__xludf.DUMMYFUNCTION("if(R12<>"""",filter(Imports!A:W,Imports!B:B=R12),)"),"")
A13: =IFERROR(__xludf.DUMMYFUNCTION("""COMPUTED_VALUE"""),12967.0) -> 12967 | B13: =IFERROR(__xludf.DUMMYFUNCTION("""COMPUTED_VALUE"""),"Joe Mantiply") -> Joe Mantiply | C13: =IFERROR(__xludf.DUMMYFUNCTION("""COMPUTED_VALUE"""),0.48) -> 0.48 | D13: =IFERROR(__xludf.DUMMYFUNCTION("""COMPUTED_VALUE"""),"https://sba-cards-2024.s3.us-east-1.amazonaws.com/2024-cards/joe-mantiply.png") -> https://sba-cards-2024.s3.us-east-1.amazonaws.com/2024-cards/joe-mantiply.png | G13: =IFERROR(__xludf.DUMMYFUNCTION("""COMPUTED_VALUE"""),-2.0) -> -2 | I13: =IFERROR(__xludf.DUMMYFUNCTION("""COMPUTED_VALUE"""),"0p72") -> 0p72 | S13: =IFERROR(__xludf.DUMMYFUNCTION("if(R13<>"""",filter(Imports!A:W,Imports!B:B=R13),)"),"")
A14: =IFERROR(__xludf.DUMMYFUNCTION("""COMPUTED_VALUE"""),12983.0) -> 12983 | B14: =IFERROR(__xludf.DUMMYFUNCTION("""COMPUTED_VALUE"""),"John Schreiber") -> John Schreiber | C14: =IFERROR(__xludf.DUMMYFUNCTION("""COMPUTED_VALUE"""),0.46) -> 0.46 | D14: =IFERROR(__xludf.DUMMYFUNCTION("""COMPUTED_VALUE"""),"https://sba-cards-2024.s3.us-east-1.amazonaws.com/2024-cards/john-schreiber.png") -> https://sba-cards-2024.s3.us-east-1.amazonaws.com/2024-cards/john-schreiber.png | G14: =IFERROR(__xludf.DUMMYFUNCTION("""COMPUTED_VALUE"""),-2.0) -> -2 | I14: =IFERROR(__xludf.DUMMYFUNCTION("""COMPUTED_VALUE"""),"2p40") -> 2p40 | S14: =IFERROR(__xludf.DUMMYFUNCTION("if(R14<>"""",filter(Imports!A:W,Imports!B:B=R14),)"),"")
A15: =IFERROR(__xludf.DUMMYFUNCTION("""COMPUTED_VALUE"""),13007.0) -> 13007 | B15: =IFERROR(__xludf.DUMMYFUNCTION("""COMPUTED_VALUE"""),"Jorge Polanco") -> Jorge Polanco | C15: =IFERROR(__xludf.DUMMYFUNCTION("""COMPUTED_VALUE"""),0.48) -> 0.48 | D15: =IFERROR(__xludf.DUMMYFUNCTION("""COMPUTED_VALUE"""),"https://sba-cards-2024.s3.us-east-1.amazonaws.com/2024-cards/jorge-polanco.png") -> https://sba-cards-2024.s3.us-east-1.amazonaws.com/2024-cards/jorge-polanco.png | G15: =IFERROR(__xludf.DUMMYFUNCTION("""COMPUTED_VALUE"""),-2.0) -> -2 | I15: =IFERROR(__xludf.DUMMYFUNCTION("""COMPUTED_VALUE"""),"2p60") -> 2p60 | L15: Week 10 Overall Moves: https://discord.com/channels/613880856032968834/613968699472347167/1409369181144748112 | S15: =IFERROR(__xludf.DUMMYFUNCTION("if(R15<>"""",filter(Imports!A:W,Imports!B:B=R15),)"),"")
A16: =IFERROR(__xludf.DUMMYFUNCTION("""COMPUTED_VALUE"""),13036.0) -> 13036 | B16: =IFERROR(__xludf.DUMMYFUNCTION("""COMPUTED_VALUE"""),"Josh Naylor") -> Josh Naylor | C16: =IFERROR(__xludf.DUMMYFUNCTION("""COMPUTED_VALUE"""),0.69) -> 0.69 | D16: =IFERROR(__xludf.DUMMYFUNCTION("""COMPUTED_VALUE"""),"https://sba-cards-2024.s3.us-east-1.amazonaws.com/2024-cards/josh-naylor.png") -> https://sba-cards-2024.s3.us-east-1.amazonaws.com/2024-cards/josh-naylor.png | G16: =IFERROR(__xludf.DUMMYFUNCTION("""COMPUTED_VALUE"""),-2.0) -> -2 | I16: =IFERROR(__xludf.DUMMYFUNCTION("""COMPUTED_VALUE"""),"1p70") -> 1p70 | S16: =IFERROR(__xludf.DUMMYFUNCTION("if(R16<>"""",filter(Imports!A:W,Imports!B:B=R16),)"),"")
A17: =IFERROR(__xludf.DUMMYFUNCTION("""COMPUTED_VALUE"""),13046.0) -> 13046 | B17: =IFERROR(__xludf.DUMMYFUNCTION("""COMPUTED_VALUE"""),"JT Realmuto") -> JT Realmuto | C17: =IFERROR(__xludf.DUMMYFUNCTION("""COMPUTED_VALUE"""),2.11) -> 2.11 | D17: =IFERROR(__xludf.DUMMYFUNCTION("""COMPUTED_VALUE"""),"https://sba-cards-2024.s3.us-east-1.amazonaws.com/2024-cards/jt-realmuto.png") -> https://sba-cards-2024.s3.us-east-1.amazonaws.com/2024-cards/jt-realmuto.png | G17: =IFERROR(__xludf.DUMMYFUNCTION("""COMPUTED_VALUE"""),-2.0) -> -2 | I17: =IFERROR(__xludf.DUMMYFUNCTION("""COMPUTED_VALUE"""),"4p50") -> 4p50 | S17: =IFERROR(__xludf.DUMMYFUNCTION("if(R17<>"""",filter(Imports!A:W,Imports!B:B=R17),)"),"")
A18: =IFERROR(__xludf.DUMMYFUNCTION("""COMPUTED_VALUE"""),13158.0) -> 13158 | B18: =IFERROR(__xludf.DUMMYFUNCTION("""COMPUTED_VALUE"""),"Mark Vientos") -> Mark Vientos | C18: =IFERROR(__xludf.DUMMYFUNCTION("""COMPUTED_VALUE"""),1.98) -> 1.98 | D18: =IFERROR(__xludf.DUMMYFUNCTION("""COMPUTED_VALUE"""),"https://sba-cards-2024.s3.us-east-1.amazonaws.com/2024-cards/mark-vientos.png") -> https://sba-cards-2024.s3.us-east-1.amazonaws.com/2024-cards/mark-vientos.png | G18: =IFERROR(__xludf.DUMMYFUNCTION("""COMPUTED_VALUE"""),-2.0) -> -2 | I18: =IFERROR(__xludf.DUMMYFUNCTION("""COMPUTED_VALUE"""),"1p50") -> 1p50 | S18: =IFERROR(__xludf.DUMMYFUNCTION("if(R18<>"""",filter(Imports!A:W,Imports!B:B=R18),)"),"")
A19: =IFERROR(__xludf.DUMMYFUNCTION("""COMPUTED_VALUE"""),13205.0) -> 13205 | B19: =IFERROR(__xludf.DUMMYFUNCTION("""COMPUTED_VALUE"""),"Mickey Moniak") -> Mickey Moniak | C19: =IFERROR(__xludf.DUMMYFUNCTION("""COMPUTED_VALUE"""),0.0) -> 0 | D19: =IFERROR(__xludf.DUMMYFUNCTION("""COMPUTED_VALUE"""),"https://sba-cards-2024.s3.us-east-1.amazonaws.com/2024-cards/mickey-moniak.png") -> https://sba-cards-2024.s3.us-east-1.amazonaws.com/2024-cards/mickey-moniak.png | G19: =IFERROR(__xludf.DUMMYFUNCTION("""COMPUTED_VALUE"""),-2.0) -> -2 | I19: =IFERROR(__xludf.DUMMYFUNCTION("""COMPUTED_VALUE"""),"1p60") -> 1p60 | S19: =IFERROR(__xludf.DUMMYFUNCTION("if(R19<>"""",filter(Imports!A:W,Imports!B:B=R19),)"),"")
A20: =IFERROR(__xludf.DUMMYFUNCTION("""COMPUTED_VALUE"""),13290.0) -> 13290 | B20: =IFERROR(__xludf.DUMMYFUNCTION("""COMPUTED_VALUE"""),"Porter Hodge") -> Porter Hodge | C20: =IFERROR(__xludf.DUMMYFUNCTION("""COMPUTED_VALUE"""),1.45) -> 1.45 | D20: =IFERROR(__xludf.DUMMYFUNCTION("""COMPUTED_VALUE"""),"https://sba-cards-2024.s3.us-east-1.amazonaws.com/2024-cards/porter-hodge.png") -> https://sba-cards-2024.s3.us-east-1.amazonaws.com/2024-cards/porter-hodge.png | G20: =IFERROR(__xludf.DUMMYFUNCTION("""COMPUTED_VALUE"""),-2.0) -> -2 | I20: =IFERROR(__xludf.DUMMYFUNCTION("""COMPUTED_VALUE"""),"1p40") -> 1p40 | S20: =IFERROR(__xludf.DUMMYFUNCTION("if(R20<>"""",filter(Imports!A:W,Imports!B:B=R20),)"),"")
A21: =IFERROR(__xludf.DUMMYFUNCTION("""COMPUTED_VALUE"""),13331.0) -> 13331 | B21: =IFERROR(__xludf.DUMMYFUNCTION("""COMPUTED_VALUE"""),"Ryan Fernandez") -> Ryan Fernandez | C21: =IFERROR(__xludf.DUMMYFUNCTION("""COMPUTED_VALUE"""),0.72) -> 0.72 | D21: =IFERROR(__xludf.DUMMYFUNCTION("""COMPUTED_VALUE"""),"https://sba-cards-2024.s3.us-east-1.amazonaws.com/2024-cards/ryan-fernandez.png") -> https://sba-cards-2024.s3.us-east-1.amazonaws.com/2024-cards/ryan-fernandez.png | G21: =IFERROR(__xludf.DUMMYFUNCTION("""COMPUTED_VALUE"""),-2.0) -> -2 | I21: =IFERROR(__xludf.DUMMYFUNCTION("""COMPUTED_VALUE"""),"1p60") -> 1p60 | S21: =IFERROR(__xludf.DUMMYFUNCTION("if(R21<>"""",filter(Imports!A:W,Imports!B:B=R21),)"),"")
A22: =IFERROR(__xludf.DUMMYFUNCTION("""COMPUTED_VALUE"""),13409.0) -> 13409 | B22: =IFERROR(__xludf.DUMMYFUNCTION("""COMPUTED_VALUE"""),"Teoscar Hernandez") -> Teoscar Hernandez | C22: =IFERROR(__xludf.DUMMYFUNCTION("""COMPUTED_VALUE"""),1.91) -> 1.91 | D22: =IFERROR(__xludf.DUMMYFUNCTION("""COMPUTED_VALUE"""),"https://sba-cards-2024.s3.us-east-1.amazonaws.com/2024-cards/teoscar-hernandez.png") -> https://sba-cards-2024.s3.us-east-1.amazonaws.com/2024-cards/teoscar-hernandez.png | G22: =IFERROR(__xludf.DUMMYFUNCTION("""COMPUTED_VALUE"""),-2.0) -> -2 | I22: =IFERROR(__xludf.DUMMYFUNCTION("""COMPUTED_VALUE"""),"1p70") -> 1p70 | S22: =IFERROR(__xludf.DUMMYFUNCTION("if(R22<>"""",filter(Imports!A:W,Imports!B:B=R22),)"),"")
A23: =IFERROR(__xludf.DUMMYFUNCTION("""COMPUTED_VALUE"""),13429.0) -> 13429 | B23: =IFERROR(__xludf.DUMMYFUNCTION("""COMPUTED_VALUE"""),"Trea Turner") -> Trea Turner | C23: =IFERROR(__xludf.DUMMYFUNCTION("""COMPUTED_VALUE"""),1.61) -> 1.61 | D23: =IFERROR(__xludf.DUMMYFUNCTION("""COMPUTED_VALUE"""),"https://sba-cards-2024.s3.us-east-1.amazonaws.com/2024-cards/trea-turner.png") -> https://sba-cards-2024.s3.us-east-1.amazonaws.com/2024-cards/trea-turner.png | G23: =IFERROR(__xludf.DUMMYFUNCTION("""COMPUTED_VALUE"""),-2.0) -> -2 | I23: =IFERROR(__xludf.DUMMYFUNCTION("""COMPUTED_VALUE"""),"1p60") -> 1p60 | S23: =IFERROR(__xludf.DUMMYFUNCTION("if(R23<>"""",filter(Imports!A:W,Imports!B:B=R23),)"),"")
A24: =IFERROR(__xludf.DUMMYFUNCTION("""COMPUTED_VALUE"""),13483.0) -> 13483 | B24: =IFERROR(__xludf.DUMMYFUNCTION("""COMPUTED_VALUE"""),"Will Vest") -> Will Vest | C24: =IFERROR(__xludf.DUMMYFUNCTION("""COMPUTED_VALUE"""),1.02) -> 1.02 | D24: =IFERROR(__xludf.DUMMYFUNCTION("""COMPUTED_VALUE"""),"https://sba-cards-2024.s3.us-east-1.amazonaws.com/2024-cards/will-vest.png") -> https://sba-cards-2024.s3.us-east-1.amazonaws.com/2024-cards/will-vest.png | G24: =IFERROR(__xludf.DUMMYFUNCTION("""COMPUTED_VALUE"""),-2.0) -> -2 | I24: =IFERROR(__xludf.DUMMYFUNCTION("""COMPUTED_VALUE"""),"1p60") -> 1p60 | S24: =IFERROR(__xludf.DUMMYFUNCTION("if(R24<>"""",filter(Imports!A:W,Imports!B:B=R24),)"),"")
A25: =IFERROR(__xludf.DUMMYFUNCTION("""COMPUTED_VALUE"""),13506.0) -> 13506 | B25: =IFERROR(__xludf.DUMMYFUNCTION("""COMPUTED_VALUE"""),"Yordan Alvarez") -> Yordan Alvarez | C25: =IFERROR(__xludf.DUMMYFUNCTION("""COMPUTED_VALUE"""),2.47) -> 2.47 | D25: =IFERROR(__xludf.DUMMYFUNCTION("""COMPUTED_VALUE"""),"https://sba-cards-2024.s3.us-east-1.amazonaws.com/2024-cards/yordan-alvarez.png") -> https://sba-cards-2024.s3.us-east-1.amazonaws.com/2024-cards/yordan-alvarez.png | G25: =IFERROR(__xludf.DUMMYFUNCTION("""COMPUTED_VALUE"""),-2.0) -> -2 | I25: =IFERROR(__xludf.DUMMYFUNCTION("""COMPUTED_VALUE"""),"1p65") -> 1p65 | S25: =IFERROR(__xludf.DUMMYFUNCTION("if(R25<>"""",filter(Imports!A:W,Imports!B:B=R25),)"),"")
A26: =IFERROR(__xludf.DUMMYFUNCTION("""COMPUTED_VALUE"""),13507.0) -> 13507 | B26: =IFERROR(__xludf.DUMMYFUNCTION("""COMPUTED_VALUE"""),"Yoshinobu Yamamoto") -> Yoshinobu Yamamoto | C26: =IFERROR(__xludf.DUMMYFUNCTION("""COMPUTED_VALUE"""),1.42) -> 1.42 | D26: =IFERROR(__xludf.DUMMYFUNCTION("""COMPUTED_VALUE"""),"https://sba-cards-2024.s3.us-east-1.amazonaws.com/2024-cards/yoshinobu-yamamoto.png") -> https://sba-cards-2024.s3.us-east-1.amazonaws.com/2024-cards/yoshinobu-yamamoto.png | G26: =IFERROR(__xludf.DUMMYFUNCTION("""COMPUTED_VALUE"""),-2.0) -> -2 | I26: =IFERROR(__xludf.DUMMYFUNCTION("""COMPUTED_VALUE"""),"3p50") -> 3p50 | S26: =IFERROR(__xludf.DUMMYFUNCTION("if(R26<>"""",filter(Imports!A:W,Imports!B:B=R26),)"),"")
A27: =IFERROR(__xludf.DUMMYFUNCTION("""COMPUTED_VALUE"""),13513.0) -> 13513 | B27: =IFERROR(__xludf.DUMMYFUNCTION("""COMPUTED_VALUE"""),"Zac Gallen") -> Zac Gallen | C27: =IFERROR(__xludf.DUMMYFUNCTION("""COMPUTED_VALUE"""),1.37) -> 1.37 | D27: =IFERROR(__xludf.DUMMYFUNCTION("""COMPUTED_VALUE"""),"https://sba-cards-2024.s3.us-east-1.amazonaws.com/2024-cards/zac-gallen.png") -> https://sba-cards-2024.s3.us-east-1.amazonaws.com/2024-cards/zac-gallen.png | G27: =IFERROR(__xludf.DUMMYFUNCTION("""COMPUTED_VALUE"""),-2.0) -> -2 | I27: =IFERROR(__xludf.DUMMYFUNCTION("""COMPUTED_VALUE"""),"1p70") -> 1p70 | S27: =IFERROR(__xludf.DUMMYFUNCTION("if(R27<>"""",filter(Imports!A:W,Imports!B:B=R27),)"),"")
A35: Minors | B35: Name | C35: sWAR | D35: Card | E35: Card 2 | F35: IL Return | G35: Dem Week | H35: Vanity | I35: Injury | J35: Destination | S35: =IFERROR(__xludf.DUMMYFUNCTION("if(R35<>"""",filter(Imports!A:W,Imports!B:B=R35),)"),"")
A36: =IFERROR(__xludf.DUMMYFUNCTION("iferror(QUERY(Imports!A1:W1001,""select A, B, C, D, E, R, S, T, W where G = 'WVMiL' order by B asc"", 0),""No MiL players found"")"),12506.0) -> 12506 | B36: =IFERROR(__xludf.DUMMYFUNCTION("""COMPUTED_VALUE"""),"Adley Rutschman") -> Adley Rutschman | C36: =IFERROR(__xludf.DUMMYFUNCTION("""COMPUTED_VALUE"""),1.55) -> 1.55 | D36: =IFERROR(__xludf.DUMMYFUNCTION("""COMPUTED_VALUE"""),"https://sba-cards-2024.s3.us-east-1.amazonaws.com/2024-cards/adley-rutschman.png") -> https://sba-cards-2024.s3.us-east-1.amazonaws.com/2024-cards/adley-rutschman.png | G36: =IFERROR(__xludf.DUMMYFUNCTION("""COMPUTED_VALUE"""),-2.0) -> -2 | I36: =IFERROR(__xludf.DUMMYFUNCTION("""COMPUTED_VALUE"""),"1p70") -> 1p70
A37: =IFERROR(__xludf.DUMMYFUNCTION("""COMPUTED_VALUE"""),13026.0) -> 13026 | B37: =IFERROR(__xludf.DUMMYFUNCTION("""COMPUTED_VALUE"""),"Jose Soriano") -> Jose Soriano | C37: =IFERROR(__xludf.DUMMYFUNCTION("""COMPUTED_VALUE"""),1.39) -> 1.39 | D37: =IFERROR(__xludf.DUMMYFUNCTION("""COMPUTED_VALUE"""),"https://sba-cards-2024.s3.us-east-1.amazonaws.com/2024-cards/jose-soriano.png") -> https://sba-cards-2024.s3.us-east-1.amazonaws.com/2024-cards/jose-soriano.png | G37: =IFERROR(__xludf.DUMMYFUNCTION("""COMPUTED_VALUE"""),-2.0) -> -2 | I37: =IFERROR(__xludf.DUMMYFUNCTION("""COMPUTED_VALUE"""),"3p60") -> 3p60
A38: =IFERROR(__xludf.DUMMYFUNCTION("""COMPUTED_VALUE"""),13322.0) -> 13322 | B38: =IFERROR(__xludf.DUMMYFUNCTION("""COMPUTED_VALUE"""),"Ronald Acuna Jr") -> Ronald Acuna Jr | C38: =IFERROR(__xludf.DUMMYFUNCTION("""COMPUTED_VALUE"""),0.0) -> 0 | D38: =IFERROR(__xludf.DUMMYFUNCTION("""COMPUTED_VALUE"""),"https://sba-cards-2024.s3.us-east-1.amazonaws.com/2024-cards/ronald-acuna-jr.png") -> https://sba-cards-2024.s3.us-east-1.amazonaws.com/2024-cards/ronald-acuna-jr.png | G38: =IFERROR(__xludf.DUMMYFUNCTION("""COMPUTED_VALUE"""),-2.0) -> -2 | I38: =IFERROR(__xludf.DUMMYFUNCTION("""COMPUTED_VALUE"""),"5p30") -> 5p30
A39: =IFERROR(__xludf.DUMMYFUNCTION("""COMPUTED_VALUE"""),13341.0) -> 13341 | B39: =IFERROR(__xludf.DUMMYFUNCTION("""COMPUTED_VALUE"""),"Ryan Thompson") -> Ryan Thompson | C39: =IFERROR(__xludf.DUMMYFUNCTION("""COMPUTED_VALUE"""),0.72) -> 0.72 | D39: =IFERROR(__xludf.DUMMYFUNCTION("""COMPUTED_VALUE"""),"https://sba-cards-2024.s3.us-east-1.amazonaws.com/2024-cards/ryan-thompson.png") -> https://sba-cards-2024.s3.us-east-1.amazonaws.com/2024-cards/ryan-thompson.png | G39: =IFERROR(__xludf.DUMMYFUNCTION("""COMPUTED_VALUE"""),-2.0) -> -2 | I39: =IFERROR(__xludf.DUMMYFUNCTION("""COMPUTED_VALUE"""),"1p60") -> 1p60
A40: =IFERROR(__xludf.DUMMYFUNCTION("""COMPUTED_VALUE"""),13470.0) -> 13470 | B40: =IFERROR(__xludf.DUMMYFUNCTION("""COMPUTED_VALUE"""),"Victor Vodnik") -> Victor Vodnik | C40: =IFERROR(__xludf.DUMMYFUNCTION("""COMPUTED_VALUE"""),0.78) -> 0.78 | D40: =IFERROR(__xludf.DUMMYFUNCTION("""COMPUTED_VALUE"""),"https://sba-cards-2024.s3.us-east-1.amazonaws.com/2024-cards/victor-vodnik.png") -> https://sba-cards-2024.s3.us-east-1.amazonaws.com/2024-cards/victor-vodnik.png | G40: =IFERROR(__xludf.DUMMYFUNCTION("""COMPUTED_VALUE"""),-2.0) -> -2 | I40: =IFERROR(__xludf.DUMMYFUNCTION("""COMPUTED_VALUE"""),"1p40") -> 1p40
J41: WV
A51: Injured List | B51: Name | C51: sWAR | D51: Card | E51: Card 2 | F51: IL Return | G51: Dem Week | H51: Vanity | I51: Injury | J51: Destination
A52: =IFERROR(__xludf.DUMMYFUNCTION("iferror(QUERY(Imports!A1:W1001,""select A, B, C, D, E, R, S, T, W where G = 'WVIL' order by B asc"", 0),""No IL players found"")"),12765.0) -> 12765 | B52: =IFERROR(__xludf.DUMMYFUNCTION("""COMPUTED_VALUE"""),"Donovan Solano") -> Donovan Solano | C52: =IFERROR(__xludf.DUMMYFUNCTION("""COMPUTED_VALUE"""),0.94) -> 0.94 | D52: =IFERROR(__xludf.DUMMYFUNCTION("""COMPUTED_VALUE"""),"https://sba-cards-2024.s3.us-east-1.amazonaws.com/2024-cards/donovan-solano.png") -> https://sba-cards-2024.s3.us-east-1.amazonaws.com/2024-cards/donovan-solano.png | F52: =IFERROR(__xludf.DUMMYFUNCTION("""COMPUTED_VALUE"""),"w06g4") -> w06g4 | G52: =IFERROR(__xludf.DUMMYFUNCTION("""COMPUTED_VALUE"""),-2.0) -> -2 | I52: =IFERROR(__xludf.DUMMYFUNCTION("""COMPUTED_VALUE"""),"1p50") -> 1p50
A53: =IFERROR(__xludf.DUMMYFUNCTION("""COMPUTED_VALUE"""),13396.0) -> 13396 | B53: =IFERROR(__xludf.DUMMYFUNCTION("""COMPUTED_VALUE"""),"Taj Bradley") -> Taj Bradley | C53: =IFERROR(__xludf.DUMMYFUNCTION("""COMPUTED_VALUE"""),1.04) -> 1.04 | D53: =IFERROR(__xludf.DUMMYFUNCTION("""COMPUTED_VALUE"""),"https://sba-cards-2024.s3.us-east-1.amazonaws.com/2024-cards/taj-bradley.png") -> https://sba-cards-2024.s3.us-east-1.amazonaws.com/2024-cards/taj-bradley.png | F53: =IFERROR(__xludf.DUMMYFUNCTION("""COMPUTED_VALUE"""),"w07g2") -> w07g2 | G53: =IFERROR(__xludf.DUMMYFUNCTION("""COMPUTED_VALUE"""),-2.0) -> -2 | I53: =IFERROR(__xludf.DUMMYFUNCTION("""COMPUTED_VALUE"""),"1p60") -> 1p60

Sheet Lineup Sheet
A1: Alternate Lineup | B1: Alt Lineup: | C1: TRUE
A2: 1 | B2: {=index(Matchups!$A$32:$A$52,match(A2,Matchups!$I$32:$I$52,0))} -> Yordan Alvarez | C2: {=index(Matchups!$J$32:$J$52,match(A2,Matchups!$I$32:$I$52,0))} -> SS | G2: =if($C$1,C2,C13) -> SS | I2: =if($C$1,B2,B13) -> Yordan Alvarez | K2: =image("https://cdn.showzone.gg/baked-images/mlb-the-show-21/fa0f7ea5e3afe4b9c533995639464fff-21.png",1)
A3: 2 | B3: {=index(Matchups!$A$32:$A$52,match(A3,Matchups!$I$32:$I$52,0))} | C3: {=index(Matchups!$J$32:$J$52,match(A3,Matchups!$I$32:$I$52,0))} -> LF
A4: 3 | B4: {=index(Matchups!$A$32:$A$52,match(A4,Matchups!$I$32:$I$52,0))} -> Trea Turner | C4: {=index(Matchups!$J$32:$J$52,match(A4,Matchups!$I$32:$I$52,0))} -> RF | G4: =if($C$1,C3,C14) -> LF | I4: =if($C$1,B3,B14)
A5: 4 | B5: {=index(Matchups!$A$32:$A$52,match(A5,Matchups!$I$32:$I$52,0))} -> Cedric Mullins | C5: {=index(Matchups!$J$32:$J$52,match(A5,Matchups!$I$32:$I$52,0))} -> CF
A6: 5 | B6: {=index(Matchups!$A$32:$A$52,match(A6,Matchups!$I$32:$I$52,0))} -> Mickey Moniak | C6: {=index(Matchups!$J$32:$J$52,match(A6,Matchups!$I$32:$I$52,0))} -> 3B | G6: =if($C$1,C4,C15) -> RF | I6: =if($C$1,B4,B15) -> Trea Turner
A7: 6 | B7: {=index(Matchups!$A$32:$A$52,match(A7,Matchups!$I$32:$I$52,0))} -> Jorge Polanco | C7: {=index(Matchups!$J$32:$J$52,match(A7,Matchups!$I$32:$I$52,0))} -> LF
A8: 7 | B8: {=index(Matchups!$A$32:$A$52,match(A8,Matchups!$I$32:$I$52,0))} -> Mark Vientos | C8: {=index(Matchups!$J$32:$J$52,match(A8,Matchups!$I$32:$I$52,0))} -> C | G8: =if($C$1,C5,C16) -> CF | I8: =if($C$1,B5,B16) -> Cedric Mullins
A9: 8 | B9: {=index(Matchups!$A$32:$A$52,match(A9,Matchups!$I$32:$I$52,0))} -> JT Realmuto | C9: {=index(Matchups!$J$32:$J$52,match(A9,Matchups!$I$32:$I$52,0))} -> 1B
A10: 9 | B10: {=index(Matchups!$A$32:$A$52,match(A10,Matchups!$I$32:$I$52,0))} -> Josh Naylor | C10: {=index(Matchups!$J$32:$J$52,match(A10,Matchups!$I$32:$I$52,0))} -> 2B | G10: =if($C$1,C6,C17) -> 3B | I10: =if($C$1,B6,B17) -> Mickey Moniak
A12: Standard Lineup | G12: =if($C$1,C7,C18) -> LF | I12: =if($C$1,B7,B18) -> Jorge Polanco
A13: 1 | B13: {=index(Matchups!$R$32:$R$52,match(A2,Matchups!$Z$32:$Z$52,0))} -> #N/A | C13: {=index(Matchups!$AA$32:$AA$52,match(A2,Matchups!$Z$32:$Z$52,0))} -> #N/A
A14: 2 | B14: {=index(Matchups!$R$32:$R$52,match(A3,Matchups!$Z$32:$Z$52,0))} -> #N/A | C14: {=index(Matchups!$AA$32:$AA$52,match(A3,Matchups!$Z$32:$Z$52,0))} -> #N/A | G14: =if($C$1,C8,C19) -> C | I14: =if($C$1,B8,B19) -> Mark Vientos
A15: 3 | B15: {=index(Matchups!$R$32:$R$52,match(A4,Matchups!$Z$32:$Z$52,0))} -> #N/A | C15: {=index(Matchups!$AA$32:$AA$52,match(A4,Matchups!$Z$32:$Z$52,0))} -> #N/A
A16: 4 | B16: {=index(Matchups!$R$32:$R$52,match(A5,Matchups!$Z$32:$Z$52,0))} -> #N/A | C16: {=index(Matchups!$AA$32:$AA$52,match(A5,Matchups!$Z$32:$Z$52,0))} -> #N/A | G16: =if($C$1,C9,C20) -> 1B | I16: =if($C$1,B9,B20) -> JT Realmuto
A17: 5 | B17: {=index(Matchups!$R$32:$R$52,match(A6,Matchups!$Z$32:$Z$52,0))} -> #N/A | C17: {=index(Matchups!$AA$32:$AA$52,match(A6,Matchups!$Z$32:$Z$52,0))} -> #N/A
A18: 6 | B18: {=index(Matchups!$R$32:$R$52,match(A7,Matchups!$Z$32:$Z$52,0))} -> #N/A | C18: {=index(Matchups!$AA$32:$AA$52,match(A7,Matchups!$Z$32:$Z$52,0))} -> #N/A | G18: =if($C$1,C10,C21) -> 2B | I18: =if($C$1,B10,B21) -> Josh Naylor
A19: 7 | B19: {=index(Matchups!$R$32:$R$52,match(A8,Matchups!$Z$32:$Z$52,0))} -> #N/A | C19: {=index(Matchups!$AA$32:$AA$52,match(A8,Matchups!$Z$32:$Z$52,0))} -> #N/A
A20: 8 | B20: {=index(Matchups!$R$32:$R$52,match(A9,Matchups!$Z$32:$Z$52,0))} -> #N/A | C20: {=index(Matchups!$AA$32:$AA$52,match(A9,Matchups!$Z$32:$Z$52,0))} -> #N/A | G20: P | I20: =if(C1,Matchups!S12,Matchups!B12) -> Yoshinobu Yamamoto
A21: 9 | B21: {=index(Matchups!$R$32:$R$52,match(A10,Matchups!$Z$32:$Z$52,0))} -> #N/A | C21: {=index(Matchups!$AA$32:$AA$52,match(A10,Matchups!$Z$32:$Z$52,0))} -> #N/A
A23: Highlight Player | C23: {=if(B23<>"",index('Depth Chart'!A2:A36,match(B23,'Depth Chart'!B2:B36,0)),)}
B24: {=INDEX(Imports!T:T,match(B23,Imports!B:B,0))} -> #N/A
A27: =if(C23<>"",SbaApiImport("views/season-stats/batting","csv=true&player_id="&C23),"No player selected") -> No player selected

Sheet Imports
A1: =if('Depth Chart'!AW2,SbaPlayerImport(13),"imports not enabled on Depth Chart tab...") -> player id | B1: name | C1: sWAR | D1: image | E1: image2 | F1: team id | G1: team abbrev | H1: pos 1 | I1: pos 2 | J1: pos 3 | K1: pos 4 | L1: pos 5 | M1: pos 6 | N1: pos 7 | O1: pos 8 | P1: last game | Q1: last game 2 | R1: il return | S1: dem week | T1: vanity card | U1: strat code | V1: bbref id | W1: injury rating | X1: DRAFT TEAM | Z1: BOARD TEAM | AB1: =SbaApiImport("teams","season=13&active_only=true") -> id | AC1: abbrev | AD1: sname | AE1: lname | AF1: manager_legacy | AG1: division_legacy | AH1: gmid | AI1: gmid2 | AJ1: manager1 | AK1: manager2 | AL1: division | AM1: mascot | AN1: stadium | AO1: gsheet | AP1: thumbnail | AQ1: color | AR1: dice_color | AS1: season | AT1: auto_draft | AU1: salary_cap
A2: 12492 | B2: Aaron Bummer | C2: 0.31 | D2: https://sba-cards-2024.s3.us-east-1.amazonaws.com/2024-cards/aaron-bummer.png | F2: 547 | G2: FA | H2: RP | S2: -2 | U2: Bummer,A | V2: bummeaa01 | W2: 1p50 | X2: {=if(B2:B1556<>"",XLOOKUP(B2:B1556,'Live Draft Import'!F:F,'Live Draft Import'!D:D,"",0,1),)} | Z2: {=if(not(ISNA(X2:X1556)),X2:X1556,Y2:Y1556)} | AB2: 547 | AC2: FA | AD2: Free Agents | AE2: Free Agents | AP2: https://sombaseball.ddns.net/static/images/sba-logo.png | AQ2: a6ce39 | AS2: 13
A3: 12493 | B3: Aaron Civale | C3: 0.34 | D3: https://sba-cards-2024.s3.us-east-1.amazonaws.com/2024-cards/aaron-civale.png | F3: 547 | G3: FA | H3: SP | S3: -2 | U3: Civale,A | V3: civalaa01 | W3: 1p70 | AB3: 548 | AC3: WV | AD3: Black Bears | AE3: West Virginia Black Bears | AH3: 258104532423147520 | AJ3: Cal | AL3: 42 | AN3: https://i.postimg.cc/XJXYbczz/WV-Weather.png | AP3: https://i.postimg.cc/HjDc8bBF/blackbears-transparent.png | AQ3: 6699FF | AS3: 13 | AU3: 29.5
A4: 12494 | B4: Aaron Hicks | C4: 0 | D4: https://sba-cards-2024.s3.us-east-1.amazonaws.com/2024-cards/aaron-hicks.png | F4: 547 | G4: FA | H4: RF | I4: LF | J4: CF | S4: -2 | U4: Hicks,A | V4: hicksaa01 | W4: 1p20 | AB4: 551 | AC4: DEN | AD4: Zephyr | AE4: Denver Zephyr | AH4: 301455044656758784 | AI4: 263736081000824832 | AJ4: Foxx | AK4: Brian | AL4: 43 | AN4: https://i.postimg.cc/9MzQhtnv/DEN_Weather.png | AP4: https://i.ibb.co/c6LkmsQ/newzephyr-final.png | AQ4: 33006f | AS4: 13 | AU4: 31.5
A5: 12495 | B5: Aaron Judge | C5: 4.45 | D5: https://sba-cards-2024.s3.us-east-1.amazonaws.com/2024-cards/aaron-judge.png | F5: 575 | G5: WAI | H5: CF | I5: RF | J5: LF | S5: -2 | U5: Judge,A | V5: judgeaa01 | W5: 1p70 | AB5: 554 | AC5: THE | AD5: HawkEyes | AE5: Tokyo HawkEyes | AH5: 97154612594741248 | AI5: 271800700525215744 | AJ5: Socc | AK5: Holly | AL5: 44 | AN5: https://i.postimg.cc/tT74jtcH/THE_Weather.png | AP5: https://files.catbox.moe/gcfpdg.png | AQ5: FCA9A5 | AR5: F9BD74 | AS5: 13 | AU5: 32.5
A6: 12496 | B6: Aaron Nola | C6: 1.63 | D6: https://sba-cards-2024.s3.us-east-1.amazonaws.com/2024-cards/aaron-nola.png | F6: 565 | G6: GMEMiL | H6: SP | S6: -2 | U6: Nola,A | V6: nolaaa01 | W6: 0p72 | AB6: 557 | AC6: MYT | AD6: Muses | AE6: Mytilene Muses | AH6: 231100460482691074 | AJ6: Val | AL6: 42 | AN6: https://i.postimg.cc/ydW8HXGH/MYT_Weather.png | AP6: https://i.imgur.com/CNyhpR6.png | AQ6: 931c72 | AR6: 931C72 | AS6: 13 | AU6: 33.5
A7: 12497 | B7: Aaron Schunk | C7: 0.35 | D7: https://sba-cards-2024.s3.us-east-1.amazonaws.com/2024-cards/aaron-schunk.png | F7: 547 | G7: FA | H7: 2B | I7: 3B | J7: SS | S7: -2 | U7: Schunk,A | V7: schunaa01 | W7: 1p20 | AB7: 560 | AC7: DAL | AD7: Drillers | AE7: Dallas Drillers | AH7: 593042150447382529 | AI7: 468456381528145931 | AJ7: Will | AK7: Admiral | AL7: 43 | AN7: https://i.postimg.cc/3RWxTCcX/DAL_Weather.png | AP7: https://i.postimg.cc/tTc8Q7mj/image-16.png | AQ7: FF0000 | AS7: 13 | AU7: 32.5
A8: 12498 | B8: Abraham Toro | C8: 0.48 | D8: https://sba-cards-2024.s3.us-east-1.amazonaws.com/2024-cards/abraham-toro.png | F8: 547 | G8: FA | H8: 3B | I8: 2B | J8: 1B | K8: LF | S8: -2 | U8: Toro,A | V8: toroab01 | W8: 2p50 | AB8: 563 | AC8: GME | AD8: Market Equities | AE8: Gotham Market Equities | AH8: 213403960072077312 | AI8: 143034072787058688 | AJ8: Mcast | AK8: Cash | AL8: 44 | AN8: https://i.postimg.cc/3RWxTCcz/GME_Weather.png | AP8: https://i.postimg.cc/pLdV3ZQW/gme.webp | AQ8: FFd601 | AS8: 13 | AU8: 31.5
A9: 12499 | B9: Adam Cimber | C9: 0 | D9: https://sba-cards-2024.s3.us-east-1.amazonaws.com/2024-cards/adam-cimber.png | F9: 593 | G9: CLS | H9: RP | S9: -2 | T9: https://i.postimg.cc/mrZm9knC/Cimber-FC.png | U9: Cimber,A | V9: cimbead01 | W9: 3p20 | AB9: 566 | AC9: MKE | AD9: Bovines | AE9: Milwaukee Bovines | AH9: 212687113634840580 | AI9: 521856020889337867 | AJ9: Basebally | AK9: Peter | AL9: 44 | AN9: https://i.postimg.cc/QtVd3kyc/MKE_Weather.png | AP9: https://i.imgur.com/6t7Mvml.png | AQ9: ECD69F | AS9: 13 | AU9: 31.5
A10: 12500 | B10: Adam Duvall | C10: 0 | D10: https://sba-cards-2024.s3.us-east-1.amazonaws.com/2024-cards/adam-duvall.png | F10: 587 | G10: CHC | H10: RF | I10: LF | S10: -2 | U10: Duvall,A | V10: duvalad01 | W10: 1p50 | AB10: 569 | AC10: POR | AD10: Loggers | AE10: Portland Loggers | AH10: 185167161734594560 | AI10: 283421208945360896 | AJ10: Ryan | AK10: Paul | AL10: 43 | AN10: https://i.postimg.cc/XJXYbczh/POR_Weather.png | AP10: https://i.postimg.cc/Bn7L5YmL/loggers.png | AQ10: 457604 | AS10: 13 | AU10: 34.5
A11: 12501 | B11: Adam Frazier | C11: 0.18 | D11: https://sba-cards-2024.s3.us-east-1.amazonaws.com/2024-cards/adam-frazier.png | F11: 547 | G11: FA | H11: 2B | I11: RF | J11: LF | K11: 3B | L11: 1B | S11: -2 | U11: Frazier,A | V11: fraziad01 | W11: 1p50 | AB11: 572 | AC11: BSG | AD11: Snow Geese | AE11: Big Sky Snow Geese | AH11: 148425866588848128 | AI11: 254774534274547713 | AJ11: Lyle | AK11: JZ | AL11: 45 | AN11: https://i.postimg.cc/bJMNND74/BSG_Weather.gif | AP11: https://i.postimg.cc/zGMmjtSZ/bigsky.png | AQ11: efa54e | AS11: 13 | AU11: 33.5
A12: 12502 | B12: Adam Mazur | C12: 0 | D12: https://sba-cards-2024.s3.us-east-1.amazonaws.com/2024-cards/adam-mazur.png | F12: 547 | G12: FA | H12: SP | S12: -2 | U12: Mazur,A | V12: mazurad01 | W12: 1p20 | AB12: 575 | AC12: WAI | AD12: Whale Sharks | AE12: Waikiki Whale Sharks | AH12: 139926308644847616 | AI12: 291738770313707521 | AJ12: Paulie | AK12: Derek | AL12: 45 | AN12: https://i.postimg.cc/ZR05SFMP/WAI_Weather.png | AP12: https://i.postimg.cc/XYykZKTH/1-1.png | AQ12: f68aa4 | AR12: f68aa4 | AS12: 13 | AU12: 29.5
A13: 12503 | B13: Adam Oller | C13: 0.43 | D13: https://sba-cards-2024.s3.us-east-1.amazonaws.com/2024-cards/adam-oller.png | F13: 547 | G13: FA | H13: SP | S13: -2 | U13: Oller,A | V13: ollerad01 | W13: 1p30 | AB13: 578 | AC13: CAN | AD13: Cavalry | AE13: Canterbury Cavalry | AH13: 1018721510111838309 | AJ13: Sandyman | AL13: 43 | AN13: https://i.postimg.cc/0Qrysd4P/CAN_Weather.png | AP13: https://i.postimg.cc/C1bS8JTZ/Cav-Logo.png | AQ13: dbb143 | AR13: DBB143 | AS13: 13 | AU13: 33.5
A14: 12504 | B14: Adam Ottavino | C14: 0 | D14: https://sba-cards-2024.s3.us-east-1.amazonaws.com/2024-cards/adam-ottavino.png | F14: 547 | G14: FA | H14: RP | I14: CP | S14: -2 | U14: Ottavino,A | V14: ottavad01 | W14: 1p50 | AB14: 581 | AC14: MDW | AD14: Death Worms | AE14: Mongolian Death Worms | AH14: 377826278004490240 | AI14: 268566559746686986 | AJ14: Smitty | AK14: JP | AL14: 44 | AN14: https://i.postimg.cc/QtVd3kyY/MDW_Weather.png | AP14: https://i.postimg.cc/MHWBNwzH/MDW-Primary-Logo.png | AQ14: 23c8b9 | AS14: 13 | AU14: 33.5
A15: 12505 | B15: Addison Barger | C15: 0.31 | D15: https://sba-cards-2024.s3.us-east-1.amazonaws.com/2024-cards/addison-barger.png | F15: 547 | G15: FA | H15: 3B | I15: RF | J15: LF | S15: -2 | U15: Barger,A | V15: bargead01 | W15: 1p40 | AB15: 584 | AC15: NSH | AD15: Wizards | AE15: Nashville Wizards | AH15: 485217045408120833 | AJ15: Reed | AL15: 42 | AN15: https://i.postimg.cc/mDhgsNnR/NSH_Weather.png | AP15: https://i.postimg.cc/mDPB77Pb/wizards-full.png | AQ15: 006900 | AR15: 006900 | AS15: 13 | AU15: 29.5
A16: 12506 | B16: Adley Rutschman | C16: 1.55 | D16: https://sba-cards-2024.s3.us-east-1.amazonaws.com/2024-cards/adley-rutschman.png | F16: 550 | G16: WVMiL | H16: C | S16: -2 | U16: Rutschman,A | V16: rutscad01 | W16: 1p70 | AB16: 587 | AC16: CHC | AD16: Cyclones | AE16: Chicago Cyclones | AH16: 383444903344078848 | AI16: 159766338833874944 | AJ16: Jack | AK16: Diego | AL16: 45 | AN16: https://i.postimg.cc/XvsYmDQk/CHC_Weather.png | AP16: https://i.postimg.cc/L8044JJC/chc.png | AQ16: ff5349 | AS16: 13 | AU16: 31.5
A17: 12507 | B17: Adolis Garcia | C17: 0.08 | D17: https://sba-cards-2024.s3.us-east-1.amazonaws.com/2024-cards/adolis-garcia.png | F17: 547 | G17: FA | H17: RF | S17: -2 | U17: Garcia,Adolis | V17: garciad02 | W17: 1p70 | AB17: 590 | AC17: CYP | AD17: Templar Knights | AE17: Cyprus Templar Knights | AH17: 473845222514884610 | AJ17: Plack | AL17: 45 | AN17: https://i.postimg.cc/cH6LSMb2/CYP_Weather.png | AP17: https://i.postimg.cc/cJgxvdYs/D72-C13-F4-DEDC-4184-A903-0-B962085-BE91-removebg-preview.png | AQ17: 0C4940 | AS17: 13 | AU17: 31.5
A18: 12508 | B18: Adrian Del Castillo | C18: 1.67 | D18: https://sba-cards-2024.s3.us-east-1.amazonaws.com/2024-cards/adrian-del-castillo.png | F18: 578 | G18: CAN | H18: C | S18: -2 | U18: Del Castillo,A | V18: delcaad01 | W18: 2p20 | AB18: 593 | AC18: CLS | AD18: Hydra | AE18: Columbus Hydra | AH18: 667135868477374485 | AI18: 105512327293448192 | AJ18: Mason | AK18: Guido | AL18: 42 | AN18: https://i.postimg.cc/263SDFK2/CLS_Weather.png | AP18: https://i.postimg.cc/3wGF3tvR/Hydras.png | AQ18: 07CED1 | AS18: 13 | AU18: 33.5
A19: 12509 | B19: Adrian Houser | C19: 0 | D19: https://sba-cards-2024.s3.us-east-1.amazonaws.com/2024-cards/adrian-houser.png | F19: 547 | G19: FA | H19: SP | I19: RP | J19: CP | S19: -2 | U19: Houser,A | V19: housead01 | W19: 1p40
A20: 12510 | B20: Adrian Morejon | C20: 0.59 | D20: https://sba-cards-2024.s3.us-east-1.amazonaws.com/2024-cards/adrian-morejon.png | F20: 595 | G20: CLSMiL | H20: RP | I20: CP | S20: -2 | U20: Morejon,A | V20: morejad01 | W20: 1p50
A21: 12511 | B21: AJ Minter | C21: 1.54 | D21: https://sba-cards-2024.s3.us-east-1.amazonaws.com/2024-cards/aj-minter.png | F21: 547 | G21: FA | H21: RP | I21: CP | S21: -2 | U21: Minter,A | V21: minteaj01 | W21: 5p30
A22: 12512 | B22: AJ Puk | C22: 1.41 | D22: https://sba-cards-2024.s3.us-east-1.amazonaws.com/2024-cards/aj-puk.png | F22: 584 | G22: NSH | H22: SP | I22: RP | J22: CP | S22: -2 | U22: Puk,A | V22: pukaj01 | W22: 1p40
A23: 12513 | B23: Akil Baddoo | C23: 0 | D23: https://sba-cards-2024.s3.us-east-1.amazonaws.com/2024-cards/akil-baddoo.png | F23: 547 | G23: FA | H23: LF | I23: RF | J23: CF | S23: -2 | U23: Baddoo,A | V23: baddoak01 | W23: 1p20
A24: 12514 | B24: Alan Trejo | C24: 0 | D24: https://sba-cards-2024.s3.us-east-1.amazonaws.com/2024-cards/alan-trejo.png | F24: 547 | G24: FA | H24: 2B | I24: 3B | J24: SS | S24: -2 | U24: Trejo,A | V24: trejoal01 | W24: 1p20
A25: 12515 | B25: Albert Suarez | C25: 0.71 | D25: https://sba-cards-2024.s3.us-east-1.amazonaws.com/2024-cards/albert-suarez.png | F25: 547 | G25: FA | H25: SP | I25: RP | S25: -2 | U25: Suarez,A | V25: suareal01 | W25: 1p70
A26: 12516 | B26: Alec Bohm | C26: 1.44 | D26: https://sba-cards-2024.s3.us-east-1.amazonaws.com/2024-cards/alec-bohm.png | F26: 578 | G26: CAN | H26: 3B | I26: 1B | S26: -2 | U26: Bohm,A | V26: bohmal01 | W26: 1p65
A27: 12517 | B27: Alec Burleson | C27: 0.58 | D27: https://sba-cards-2024.s3.us-east-1.amazonaws.com/2024-cards/alec-burleson.png | F27: 563 | G27: GME | H27: RF | I27: LF | J27: 1B | S27: -2 | U27: Burleson,A | V27: burleal01 | W27: 1p70
A28: 12518 | B28: Alec Marsh | C28: 0.31 | D28: https://sba-cards-2024.s3.us-east-1.amazonaws.com/2024-cards/alec-marsh.png | F28: 547 | G28: FA | H28: SP | S28: -2 | U28: Marsh,A | V28: marshal01 | W28: 1p65
A29: 12519 | B29: Alejandro Kirk | C29: 1.5 | D29: https://sba-cards-2024.s3.us-east-1.amazonaws.com/2024-cards/alejandro-kirk.png | F29: 565 | G29: GMEMiL | H29: C | S29: -2 | U29: Kirk,A | V29: kirkal01 | W29: 2p50
A30: 12520 | B30: Alek Thomas | C30: 0 | D30: https://sba-cards-2024.s3.us-east-1.amazonaws.com/2024-cards/alek-thomas.png | F30: 547 | G30: FA | H30: CF | S30: -2 | U30: Thomas,A | V30: thomaal01 | W30: 6p20
A31: 12521 | B31: Alex Bregman | C31: 1.88 | D31: https://sba-cards-2024.s3.us-east-1.amazonaws.com/2024-cards/alex-bregman.png | F31: 581 | G31: MDW | H31: 3B | S31: -2 | U31: Bregman,A | V31: bregmal01 | W31: 1p65
A32: 12522 | B32: Alex Call | C32: 3.85 | D32: https://sba-cards-2024.s3.us-east-1.amazonaws.com/2024-cards/alex-call.png | F32: 579 | G32: CANIL | H32: RF | I32: CF | J32: LF | R32: w06g1 | S32: -2 | U32: Call,A | V32: callal02 | W32: 3p20
A33: 12523 | B33: Alex Faedo | C33: 0.3 | D33: https://sba-cards-2024.s3.us-east-1.amazonaws.com/2024-cards/alex-faedo.png | F33: 547 | G33: FA | H33: SP | I33: RP | S33: -2 | U33: Faedo,A | V33: faedoal01 | W33: 5p50
A34: 12524 | B34: Alex Jackson | C34: 0 | D34: https://sba-cards-2024.s3.us-east-1.amazonaws.com/2024-cards/alex-jackson.png | F34: 547 | G34: FA | H34: C | S34: -2 | U34: Jackson,A | V34: jacksal02 | W34: 2p30
A35: 12525 | B35: Alex Kirilloff | C35: 0 | D35: https://sba-cards-2024.s3.us-east-1.amazonaws.com/2024-cards/alex-kirilloff.png | F35: 547 | G35: FA | H35: LF | I35: 1B | J35: RF | S35: -2 | U35: Kirilloff,A | V35: kirilal01 | W35: 5p30
A36: 12526 | B36: Alex Verdugo | C36: 0.22 | D36: https://sba-cards-2024.s3.us-east-1.amazonaws.com/2024-cards/alex-verdugo.png | F36: 547 | G36: FA | H36: LF | I36: RF | J36: CF | S36: -2 | U36: Verdugo,A | V36: verdual01 | W36: 1p70
