Workbook

Sheet Depth Chart
A1: Majors | B1: Name | C1: sWAR | D1: Card | E1: Card 2 | F1: Last 1 | G1: Last 2 | H1: IL Return | I1: Dem Wk | J1: Vanity | K1: Injury | L1: Hand | M1: C | N1: 1B | O1: 2B | P1: 3B | Q1: SS | R1: LF | S1: CF | T1: RF | U1: vL | V1: vR | W1: OVR | X1: P | Y1: SP | Z1: RP | AA1: CP | AB1: vL | AC1: vR | AD1: OVR | AE1: Defense / Endurance | AG1: Left Field | AL1: Center Field | AQ1: Right Field | AW1: FALSE | AX1: Draft Mode
A2: =IFERROR(__xludf.DUMMYFUNCTION("if(AW1,QUERY(Imports!A1:Z56,""select A, B, C, D, E, P, Q, R, S, T, W where Z = 'WV' order by B asc"", 0), QUERY(Imports!A1:Z56,""select A, B, C, D, E, P, Q, R, S, T, W where G = 'WV' order by B asc"", 0))"),12548.0) -> 12548 | B2: =IFERROR(__xludf.DUMMYFUNCTION("""COMPUTED_VALUE"""),"Andy Pages") -> Andy Pages | C2: =IFERROR(__xludf.DUMMYFUNCTION("""COMPUTED_VALUE"""),0.85) -> 0.85 | D2: =IFERROR(__xludf.DUMMYFUNCTION("""COMPUTED_VALUE"""),"https://sba-cards-2024.s3.us-east-1.amazonaws.com/2024-cards/andy-pages.png") -> https://sba-cards-2024.s3.us-east-1.amazonaws.com/2024-cards/andy-pages.png | I2: =IFERROR(__xludf.DUMMYFUNCTION("""COMPUTED_VALUE"""),-2.0) -> -2 | K2: =IFERROR(__xludf.DUMMYFUNCTION("""COMPUTED_VALUE"""),"1p60") -> 1p60 | L2: {=iferror(index(BatterCalcs!D:D,match(A2,BatterCalcs!A:A,0)),index(PitcherCalcs!E:E,match(A2,PitcherCalcs!A:A,0)))} -> R | M2: {=iferror(index(BatterCalcs!CJ:CQ,match(A2,BatterCalcs!A:A,0)),)} | R2: 205 | S2: 305 | T2: 205 | U2: {=iferror(index(BatterCalcs!CK:CM,match(A2,BatterCalcs!E:E,0)),)} | X2: {=iferror(index(PitcherCalcs!CL:CL,match(A2,PitcherCalcs!F:F,0)),)} | Y2: {=iferror(index(PitcherCalcs!CD:CF,match(A2,PitcherCalcs!A:A,0)),)} | AB2: {=iferror(index(BatterCalcs!CG:CG,match(A2,BatterCalcs!A:A,0)),index(PitcherCalcs!CT:CT,match(A2,PitcherCalcs!A:A,0)))} -> 10 | AC2: {=iferror(index(BatterCalcs!CH:CH,match(A2,BatterCalcs!A:A,0)),index(PitcherCalcs!CU:CU,match(A2,PitcherCalcs!A:A,0)))} -> -2 | AD2: {=iferror(index(BatterCalcs!CI:CI,match(A2,BatterCalcs!A:A,0)),index(PitcherCalcs!CV:CV,match(A2,PitcherCalcs!A:A,0)))} -> 7 | AE2: {=IFERROR(index(BatterCalcs!CR:CR,match(A2,BatterCalcs!A:A,0)),index(PitcherCalcs!BY:BY,match(A2,PitcherCalcs!A:A,0)))} -> cf-3(-1)e5 rf-2e5 lf-2e5 | AG2: Name | AH2: H | AI2: vL | AJ2: vR | AK2: Def | AL2: Name | AM2: H | AN2: vL | AO2: vR | AP2: Def | AQ2: Name | AR2: H | AS2: vL | AT2: vR | AU2: Def | AW2: TRUE | AX2: All Imports
A3: =IFERROR(__xludf.DUMMYFUNCTION("""COMPUTED_VALUE"""),12553.0) -> 12553 | B3: =IFERROR(__xludf.DUMMYFUNCTION("""COMPUTED_VALUE"""),"Anthony Bender") -> Anthony Bender | C3: =IFERROR(__xludf.DUMMYFUNCTION("""COMPUTED_VALUE"""),0.49) -> 0.49 | D3: =IFERROR(__xludf.DUMMYFUNCTION("""COMPUTED_VALUE"""),"https://sba-cards-2024.s3.us-east-1.amazonaws.com/2024-cards/anthony-bender.png") -> https://sba-cards-2024.s3.us-east-1.amazonaws.com/2024-cards/anthony-bender.png | I3: =IFERROR(__xludf.DUMMYFUNCTION("""COMPUTED_VALUE"""),-2.0) -> -2 | K3: =IFERROR(__xludf.DUMMYFUNCTION("""COMPUTED_VALUE"""),"2p50") -> 2p50 | L3: {=iferror(index(BatterCalcs!D:D,match(A3,BatterCalcs!A:A,0)),index(PitcherCalcs!E:E,match(A3,PitcherCalcs!A:A,0)))} -> R | M3: {=iferror(index(BatterCalcs!CJ:CQ,match(A3,BatterCalcs!A:A,0)),)} | U3: {=iferror(index(BatterCalcs!CK:CM,match(A3,BatterCalcs!E:E,0)),)} | X3: {=iferror(index(PitcherCalcs!CL:CL,match(A3,PitcherCalcs!F:F,0)),)} | Y3: {=iferror(index(PitcherCalcs!CD:CF,match(A3,PitcherCalcs!A:A,0)),)} | Z3: 1 | AA3: 0 | AB3: {=iferror(index(BatterCalcs!CG:CG,match(A3,BatterCalcs!A:A,0)),index(PitcherCalcs!CT:CT,match(A3,PitcherCalcs!A:A,0)))} -> -7 | AC3: {=iferror(index(BatterCalcs!CH:CH,match(A3,BatterCalcs!A:A,0)),index(PitcherCalcs!CU:CU,match(A3,PitcherCalcs!A:A,0)))} -> 46 | AD3: {=iferror(index(BatterCalcs!CI:CI,match(A3,BatterCalcs!A:A,0)),index(PitcherCalcs!CV:CV,match(A3,PitcherCalcs!A:A,0)))} -> 13.666667 | AE3: {=IFERROR(index(BatterCalcs!CR:CR,match(A3,BatterCalcs!A:A,0)),index(PitcherCalcs!BY:BY,match(A3,PitcherCalcs!A:A,0)))} -> R(1) C(0) | AG3: =IFERROR(__xludf.DUMMYFUNCTION("query($A$2:$AE$28,""select B, L, AB, AC, R where R is not null order by AD desc"")"),"Yordan Alvarez") -> Yordan Alvarez | AH3: =IFERROR(__xludf.DUMMYFUNCTION("""COMPUTED_VALUE"""),"L") -> L | AI3: =IFERROR(__xludf.DUMMYFUNCTION("""COMPUTED_VALUE"""),41.0) -> 41 | AJ3: =IFERROR(__xludf.DUMMYFUNCTION("""COMPUTED_VALUE"""),34.0) -> 34 | AK3: =IFERROR(__xludf.DUMMYFUNCTION("""COMPUTED_VALUE"""),503.0) -> 503 | AL3: =IFERROR(__xludf.DUMMYFUNCTION("query($A$2:$AE$28,""select B, L, AB, AC, S where S is not null order by AD desc"")"),"JJ Bleday") -> JJ Bleday | AM3: =IFERROR(__xludf.DUMMYFUNCTION("""COMPUTED_VALUE"""),"L") -> L | AN3: =IFERROR(__xludf.DUMMYFUNCTION("""COMPUTED_VALUE"""),14.0) -> 14 | AO3: =IFERROR(__xludf.DUMMYFUNCTION("""COMPUTED_VALUE"""),13.0) -> 13 | AP3: =IFERROR(__xludf.DUMMYFUNCTION("""COMPUTED_VALUE"""),406.0) -> 406 | AQ3: =IFERROR(__xludf.DUMMYFUNCTION("query($A$2:$AE$28,""select B, L, AB, AC, T where T is not null order by AD desc"")"),"Teoscar Hernandez") -> Teoscar Hernandez | AR3: =IFERROR(__xludf.DUMMYFUNCTION("""COMPUTED_VALUE"""),"R") -> R | AS3: =IFERROR(__xludf.DUMMYFUNCTION("""COMPUTED_VALUE"""),32.0) -> 32 | AT3: =IFERROR(__xludf.DUMMYFUNCTION("""COMPUTED_VALUE"""),23.0) -> 23 | AU3: =IFERROR(__xludf.DUMMYFUNCTION("""COMPUTED_VALUE"""),403.0) -> 403 | AV3: vs Left | AX3: vs Right
A4: =IFERROR(__xludf.DUMMYFUNCTION("""COMPUTED_VALUE"""),12573.0) -> 12573 | B4: =IFERROR(__xludf.DUMMYFUNCTION("""COMPUTED_VALUE"""),"Ben Brown") -> Ben Brown | C4: =IFERROR(__xludf.DUMMYFUNCTION("""COMPUTED_VALUE"""),1.22) -> 1.22 | D4: =IFERROR(__xludf.DUMMYFUNCTION("""COMPUTED_VALUE"""),"https://sba-cards-2024.s3.us-east-1.amazonaws.com/2024-cards/ben-brown.png") -> https://sba-cards-2024.s3.us-east-1.amazonaws.com/2024-cards/ben-brown.png | H4: =IFERROR(__xludf.DUMMYFUNCTION("""COMPUTED_VALUE"""),"w07g2") -> w07g2 | I4: =IFERROR(__xludf.DUMMYFUNCTION("""COMPUTED_VALUE"""),-2.0) -> -2 | K4: =IFERROR(__xludf.DUMMYFUNCTION("""COMPUTED_VALUE"""),"5p30") -> 5p30 | L4: {=iferror(index(BatterCalcs!D:D,match(A4,BatterCalcs!A:A,0)),index(PitcherCalcs!E:E,match(A4,PitcherCalcs!A:A,0)))} -> R | M4: {=iferror(index(BatterCalcs!CJ:CQ,match(A4,BatterCalcs!A:A,0)),)} | U4: {=iferror(index(BatterCalcs!CK:CM,match(A4,BatterCalcs!E:E,0)),)} | X4: {=iferror(index(PitcherCalcs!CL:CL,match(A4,PitcherCalcs!F:F,0)),)} | Y4: {=iferror(index(PitcherCalcs!CD:CF,match(A4,PitcherCalcs!A:A,0)),)} -> 5 | Z4: 4 | AB4: {=iferror(index(BatterCalcs!CG:CG,match(A4,BatterCalcs!A:A,0)),index(PitcherCalcs!CT:CT,match(A4,PitcherCalcs!A:A,0)))} -> 10 | AC4: {=iferror(index(BatterCalcs!CH:CH,match(A4,BatterCalcs!A:A,0)),index(PitcherCalcs!CU:CU,match(A4,PitcherCalcs!A:A,0)))} -> 35 | AD4: {=iferror(index(BatterCalcs!CI:CI,match(A4,BatterCalcs!A:A,0)),index(PitcherCalcs!CV:CV,match(A4,PitcherCalcs!A:A,0)))} -> 20.333333 | AE4: {=IFERROR(index(BatterCalcs!CR:CR,match(A4,BatterCalcs!A:A,0)),index(PitcherCalcs!BY:BY,match(A4,PitcherCalcs!A:A,0)))} -> S(5) R(4) | AG4: =IFERROR(__xludf.DUMMYFUNCTION("""COMPUTED_VALUE"""),"Teoscar Hernandez") -> Teoscar Hernandez | AH4: =IFERROR(__xludf.DUMMYFUNCTION("""COMPUTED_VALUE"""),"R") -> R | AI4: =IFERROR(__xludf.DUMMYFUNCTION("""COMPUTED_VALUE"""),32.0) -> 32 | AJ4: =IFERROR(__xludf.DUMMYFUNCTION("""COMPUTED_VALUE"""),23.0) -> 23 | AK4: =IFERROR(__xludf.DUMMYFUNCTION("""COMPUTED_VALUE"""),403.0) -> 403 | AL4: =IFERROR(__xludf.DUMMYFUNCTION("""COMPUTED_VALUE"""),"Cedric Mullins") -> Cedric Mullins | AM4: =IFERROR(__xludf.DUMMYFUNCTION("""COMPUTED_VALUE"""),"L") -> L | AN4: =IFERROR(__xludf.DUMMYFUNCTION("""COMPUTED_VALUE"""),-24.0) -> -24 | AO4: =IFERROR(__xludf.DUMMYFUNCTION("""COMPUTED_VALUE"""),14.0) -> 14 | AP4: =IFERROR(__xludf.DUMMYFUNCTION("""COMPUTED_VALUE"""),101.0) -> 101 | AQ4: =IFERROR(__xludf.DUMMYFUNCTION("""COMPUTED_VALUE"""),"Andy Pages") -> Andy Pages | AR4: =IFERROR(__xludf.DUMMYFUNCTION("""COMPUTED_VALUE"""),"R") -> R | AS4: =IFERROR(__xludf.DUMMYFUNCTION("""COMPUTED_VALUE"""),10.0) -> 10 | AT4: =IFERROR(__xludf.DUMMYFUNCTION("""COMPUTED_VALUE"""),-2.0) -> -2 | AU4: =IFERROR(__xludf.DUMMYFUNCTION("""COMPUTED_VALUE"""),205.0) -> 205 | AV4: David Fry | AW4: C | AX4: Shea Langaliers
A5: =IFERROR(__xludf.DUMMYFUNCTION("""COMPUTED_VALUE"""),12577.0) -> 12577 | B5: =IFERROR(__xludf.DUMMYFUNCTION("""COMPUTED_VALUE"""),"Ben Rice") -> Ben Rice | C5: =IFERROR(__xludf.DUMMYFUNCTION("""COMPUTED_VALUE"""),0.0) -> 0 | D5: =IFERROR(__xludf.DUMMYFUNCTION("""COMPUTED_VALUE"""),"https://sba-cards-2024.s3.us-east-1.amazonaws.com/2024-cards/ben-rice.png") -> https://sba-cards-2024.s3.us-east-1.amazonaws.com/2024-cards/ben-rice.png | I5: =IFERROR(__xludf.DUMMYFUNCTION("""COMPUTED_VALUE"""),-2.0) -> -2 | K5: =IFERROR(__xludf.DUMMYFUNCTION("""COMPUTED_VALUE"""),"1p30") -> 1p30 | L5: {=iferror(index(BatterCalcs!D:D,match(A5,BatterCalcs!A:A,0)),index(PitcherCalcs!E:E,match(A5,PitcherCalcs!A:A,0)))} -> L | M5: {=iferror(index(BatterCalcs!CJ:CQ,match(A5,BatterCalcs!A:A,0)),)} -> 402 | N5: 408 | U5: {=iferror(index(BatterCalcs!CK:CM,match(A5,BatterCalcs!E:E,0)),)} | X5: {=iferror(index(PitcherCalcs!CL:CL,match(A5,PitcherCalcs!F:F,0)),)} | Y5: {=iferror(index(PitcherCalcs!CD:CF,match(A5,PitcherCalcs!A:A,0)),)} | AB5: {=iferror(index(BatterCalcs!CG:CG,match(A5,BatterCalcs!A:A,0)),index(PitcherCalcs!CT:CT,match(A5,PitcherCalcs!A:A,0)))} -> -15 | AC5: {=iferror(index(BatterCalcs!CH:CH,match(A5,BatterCalcs!A:A,0)),index(PitcherCalcs!CU:CU,match(A5,PitcherCalcs!A:A,0)))} -> -15 | AD5: {=iferror(index(BatterCalcs!CI:CI,match(A5,BatterCalcs!A:A,0)),index(PitcherCalcs!CV:CV,match(A5,PitcherCalcs!A:A,0)))} -> -13 | AE5: {=IFERROR(index(BatterCalcs!CR:CR,match(A5,BatterCalcs!A:A,0)),index(PitcherCalcs!BY:BY,match(A5,PitcherCalcs!A:A,0)))} -> 1b-4e8 c-4(+2)e2,T-2(pb-0) | AG5: =IFERROR(__xludf.DUMMYFUNCTION("""COMPUTED_VALUE"""),"Andy Pages") -> Andy Pages | AH5: =IFERROR(__xludf.DUMMYFUNCTION("""COMPUTED_VALUE"""),"R") -> R | AI5: =IFERROR(__xludf.DUMMYFUNCTION("""COMPUTED_VALUE"""),10.0) -> 10 | AJ5: =IFERROR(__xludf.DUMMYFUNCTION("""COMPUTED_VALUE"""),-2.0) -> -2 | AK5: =IFERROR(__xludf.DUMMYFUNCTION("""COMPUTED_VALUE"""),205.0) -> 205 | AL5: =IFERROR(__xludf.DUMMYFUNCTION("""COMPUTED_VALUE"""),"Andy Pages") -> Andy Pages | AM5: =IFERROR(__xludf.DUMMYFUNCTION("""COMPUTED_VALUE"""),"R") -> R | AN5: =IFERROR(__xludf.DUMMYFUNCTION("""COMPUTED_VALUE"""),10.0) -> 10 | AO5: =IFERROR(__xludf.DUMMYFUNCTION("""COMPUTED_VALUE"""),-2.0) -> -2 | AP5: =IFERROR(__xludf.DUMMYFUNCTION("""COMPUTED_VALUE"""),305.0) -> 305 | AQ5: =IFERROR(__xludf.DUMMYFUNCTION("""COMPUTED_VALUE"""),"Mickey Moniak") -> Mickey Moniak | AR5: =IFERROR(__xludf.DUMMYFUNCTION("""COMPUTED_VALUE"""),"L") -> L | AS5: =IFERROR(__xludf.DUMMYFUNCTION("""COMPUTED_VALUE"""),-17.0) -> -17 | AT5: =IFERROR(__xludf.DUMMYFUNCTION("""COMPUTED_VALUE"""),-10.0) -> -10 | AU5: =IFERROR(__xludf.DUMMYFUNCTION("""COMPUTED_VALUE"""),306.0) -> 306 | AV5: Rhys Hoskins | AW5: 1B | AX5: Alec Burleson
A6: =IFERROR(__xludf.DUMMYFUNCTION("""COMPUTED_VALUE"""),12665.0) -> 12665 | B6: =IFERROR(__xludf.DUMMYFUNCTION("""COMPUTED_VALUE"""),"Cedric Mullins") -> Cedric Mullins | C6: =IFERROR(__xludf.DUMMYFUNCTION("""COMPUTED_VALUE"""),1.51) -> 1.51 | D6: =IFERROR(__xludf.DUMMYFUNCTION("""COMPUTED_VALUE"""),"https://sba-cards-2024.s3.us-east-1.amazonaws.com/2024-cards/cedric-mullins.png") -> https://sba-cards-2024.s3.us-east-1.amazonaws.com/2024-cards/cedric-mullins.png | I6: =IFERROR(__xludf.DUMMYFUNCTION("""COMPUTED_VALUE"""),-2.0) -> -2 | K6: =IFERROR(__xludf.DUMMYFUNCTION("""COMPUTED_VALUE"""),"1p65") -> 1p65 | L6: {=iferror(index(BatterCalcs!D:D,match(A6,BatterCalcs!A:A,0)),index(PitcherCalcs!E:E,match(A6,PitcherCalcs!A:A,0)))} -> L | M6: {=iferror(index(BatterCalcs!CJ:CQ,match(A6,BatterCalcs!A:A,0)),)} | S6: 101 | U6: {=iferror(index(BatterCalcs!CK:CM,match(A6,BatterCalcs!E:E,0)),)} | X6: {=iferror(index(PitcherCalcs!CL:CL,match(A6,PitcherCalcs!F:F,0)),)} | Y6: {=iferror(index(PitcherCalcs!CD:CF,match(A6,PitcherCalcs!A:A,0)),)} | AB6: {=iferror(index(BatterCalcs!CG:CG,match(A6,BatterCalcs!A:A,0)),index(PitcherCalcs!CT:CT,match(A6,PitcherCalcs!A:A,0)))} -> -24 | AC6: {=iferror(index(BatterCalcs!CH:CH,match(A6,BatterCalcs!A:A,0)),index(PitcherCalcs!CU:CU,match(A6,PitcherCalcs!A:A,0)))} -> 14 | AD6: {=iferror(index(BatterCalcs!CI:CI,match(A6,BatterCalcs!A:A,0)),index(PitcherCalcs!CV:CV,match(A6,PitcherCalcs!A:A,0)))} -> 14 | AE6: {=IFERROR(index(BatterCalcs!CR:CR,match(A6,BatterCalcs!A:A,0)),index(PitcherCalcs!BY:BY,match(A6,PitcherCalcs!A:A,0)))} -> cf-1(0)e1 | AG6: =IFERROR(__xludf.DUMMYFUNCTION("""COMPUTED_VALUE"""),"Mickey Moniak") -> Mickey Moniak | AH6: =IFERROR(__xludf.DUMMYFUNCTION("""COMPUTED_VALUE"""),"L") -> L | AI6: =IFERROR(__xludf.DUMMYFUNCTION("""COMPUTED_VALUE"""),-17.0) -> -17 | AJ6: =IFERROR(__xludf.DUMMYFUNCTION("""COMPUTED_VALUE"""),-10.0) -> -10 | AK6: =IFERROR(__xludf.DUMMYFUNCTION("""COMPUTED_VALUE"""),306.0) -> 306 | AL6: =IFERROR(__xludf.DUMMYFUNCTION("""COMPUTED_VALUE"""),"Mickey Moniak") -> Mickey Moniak | AM6: =IFERROR(__xludf.DUMMYFUNCTION("""COMPUTED_VALUE"""),"L") -> L | AN6: =IFERROR(__xludf.DUMMYFUNCTION("""COMPUTED_VALUE"""),-17.0) -> -17 | AO6: =IFERROR(__xludf.DUMMYFUNCTION("""COMPUTED_VALUE"""),-10.0) -> -10 | AP6: =IFERROR(__xludf.DUMMYFUNCTION("""COMPUTED_VALUE"""),306.0) -> 306 | AV6: Ramon Urias | AW6: 2B | AX6: Ramon Urias
A7: =IFERROR(__xludf.DUMMYFUNCTION("""COMPUTED_VALUE"""),12751.0) -> 12751 | B7: =IFERROR(__xludf.DUMMYFUNCTION("""COMPUTED_VALUE"""),"Dedniel Nunez") -> Dedniel Nunez | C7: =IFERROR(__xludf.DUMMYFUNCTION("""COMPUTED_VALUE"""),1.65) -> 1.65 | D7: =IFERROR(__xludf.DUMMYFUNCTION("""COMPUTED_VALUE"""),"https://sba-cards-2024.s3.us-east-1.amazonaws.com/2024-cards/dedniel-nunez.png") -> https://sba-cards-2024.s3.us-east-1.amazonaws.com/2024-cards/dedniel-nunez.png | I7: =IFERROR(__xludf.DUMMYFUNCTION("""COMPUTED_VALUE"""),-2.0) -> -2 | K7: =IFERROR(__xludf.DUMMYFUNCTION("""COMPUTED_VALUE"""),"5p20") -> 5p20 | L7: {=iferror(index(BatterCalcs!D:D,match(A7,BatterCalcs!A:A,0)),index(PitcherCalcs!E:E,match(A7,PitcherCalcs!A:A,0)))} -> R | M7: {=iferror(index(BatterCalcs!CJ:CQ,match(A7,BatterCalcs!A:A,0)),)} | U7: {=iferror(index(BatterCalcs!CK:CM,match(A7,BatterCalcs!E:E,0)),)} | X7: {=iferror(index(PitcherCalcs!CL:CL,match(A7,PitcherCalcs!F:F,0)),)} | Y7: {=iferror(index(PitcherCalcs!CD:CF,match(A7,PitcherCalcs!A:A,0)),)} | Z7: 2 | AA7: 0 | AB7: {=iferror(index(BatterCalcs!CG:CG,match(A7,BatterCalcs!A:A,0)),index(PitcherCalcs!CT:CT,match(A7,PitcherCalcs!A:A,0)))} -> 35 | AC7: {=iferror(index(BatterCalcs!CH:CH,match(A7,BatterCalcs!A:A,0)),index(PitcherCalcs!CU:CU,match(A7,PitcherCalcs!A:A,0)))} -> 46 | AD7: {=iferror(index(BatterCalcs!CI:CI,match(A7,BatterCalcs!A:A,0)),index(PitcherCalcs!CV:CV,match(A7,PitcherCalcs!A:A,0)))} -> 41.666667 | AE7: {=IFERROR(index(BatterCalcs!CR:CR,match(A7,BatterCalcs!A:A,0)),index(PitcherCalcs!BY:BY,match(A7,PitcherCalcs!A:A,0)))} -> R(2) C(0) | AG7: =IFERROR(__xludf.DUMMYFUNCTION("""COMPUTED_VALUE"""),"Ildemaro Vargas") -> Ildemaro Vargas | AH7: =IFERROR(__xludf.DUMMYFUNCTION("""COMPUTED_VALUE"""),"S") -> S | AI7: =IFERROR(__xludf.DUMMYFUNCTION("""COMPUTED_VALUE"""),-13.0) -> -13 | AJ7: =IFERROR(__xludf.DUMMYFUNCTION("""COMPUTED_VALUE"""),-22.0) -> -22 | AK7: =IFERROR(__xludf.DUMMYFUNCTION("""COMPUTED_VALUE"""),518.0) -> 518 | AV7: Alex Bregman | AW7: 3B | AX7: Alex Bregman
A8: =IFERROR(__xludf.DUMMYFUNCTION("""COMPUTED_VALUE"""),12752.0) -> 12752 | B8: =IFERROR(__xludf.DUMMYFUNCTION("""COMPUTED_VALUE"""),"Dennis Santana") -> Dennis Santana | C8: =IFERROR(__xludf.DUMMYFUNCTION("""COMPUTED_VALUE"""),0.9) -> 0.9 | D8: =IFERROR(__xludf.DUMMYFUNCTION("""COMPUTED_VALUE"""),"https://sba-cards-2024.s3.us-east-1.amazonaws.com/2024-cards/dennis-santana.png") -> https://sba-cards-2024.s3.us-east-1.amazonaws.com/2024-cards/dennis-santana.png | I8: =IFERROR(__xludf.DUMMYFUNCTION("""COMPUTED_VALUE"""),-2.0) -> -2 | K8: =IFERROR(__xludf.DUMMYFUNCTION("""COMPUTED_VALUE"""),"1p40") -> 1p40 | L8: {=iferror(index(BatterCalcs!D:D,match(A8,BatterCalcs!A:A,0)),index(PitcherCalcs!E:E,match(A8,PitcherCalcs!A:A,0)))} -> R | M8: {=iferror(index(BatterCalcs!CJ:CQ,match(A8,BatterCalcs!A:A,0)),)} | U8: {=iferror(index(BatterCalcs!CK:CM,match(A8,BatterCalcs!E:E,0)),)} | X8: {=iferror(index(PitcherCalcs!CL:CL,match(A8,PitcherCalcs!F:F,0)),)} | Y8: {=iferror(index(PitcherCalcs!CD:CF,match(A8,PitcherCalcs!A:A,0)),)} | Z8: 2 | AA8: 2 | AB8: {=iferror(index(BatterCalcs!CG:CG,match(A8,BatterCalcs!A:A,0)),index(PitcherCalcs!CT:CT,match(A8,PitcherCalcs!A:A,0)))} -> 22 | AC8: {=iferror(index(BatterCalcs!CH:CH,match(A8,BatterCalcs!A:A,0)),index(PitcherCalcs!CU:CU,match(A8,PitcherCalcs!A:A,0)))} -> 20 | AD8: {=iferror(index(BatterCalcs!CI:CI,match(A8,BatterCalcs!A:A,0)),index(PitcherCalcs!CV:CV,match(A8,PitcherCalcs!A:A,0)))} -> 25.666667 | AE8: {=IFERROR(index(BatterCalcs!CR:CR,match(A8,BatterCalcs!A:A,0)),index(PitcherCalcs!BY:BY,match(A8,PitcherCalcs!A:A,0)))} -> R(2) C(2) | AV8: Trea Turner | AW8: SS | AX8: Trea Turner
A9: =IFERROR(__xludf.DUMMYFUNCTION("""COMPUTED_VALUE"""),12857.0) -> 12857 | B9: =IFERROR(__xludf.DUMMYFUNCTION("""COMPUTED_VALUE"""),"Griffin Canning") -> Griffin Canning | C9: =IFERROR(__xludf.DUMMYFUNCTION("""COMPUTED_VALUE"""),0.08) -> 0.08 | D9: =IFERROR(__xludf.DUMMYFUNCTION("""COMPUTED_VALUE"""),"https://sba-cards-2024.s3.us-east-1.amazonaws.com/2024-cards/griffin-canning.png") -> https://sba-cards-2024.s3.us-east-1.amazonaws.com/2024-cards/griffin-canning.png | I9: =IFERROR(__xludf.DUMMYFUNCTION("""COMPUTED_VALUE"""),-2.0) -> -2 | K9: =IFERROR(__xludf.DUMMYFUNCTION("""COMPUTED_VALUE"""),"1p70") -> 1p70 | L9: {=iferror(index(BatterCalcs!D:D,match(A9,BatterCalcs!A:A,0)),index(PitcherCalcs!E:E,match(A9,PitcherCalcs!A:A,0)))} -> R | M9: {=iferror(index(BatterCalcs!CJ:CQ,match(A9,BatterCalcs!A:A,0)),)} | U9: {=iferror(index(BatterCalcs!CK:CM,match(A9,BatterCalcs!E:E,0)),)} | X9: {=iferror(index(PitcherCalcs!CL:CL,match(A9,PitcherCalcs!F:F,0)),)} | Y9: {=iferror(index(PitcherCalcs!CD:CF,match(A9,PitcherCalcs!A:A,0)),)} -> 5 | AB9: {=iferror(index(BatterCalcs!CG:CG,match(A9,BatterCalcs!A:A,0)),index(PitcherCalcs!CT:CT,match(A9,PitcherCalcs!A:A,0)))} -> -22 | AC9: {=iferror(index(BatterCalcs!CH:CH,match(A9,BatterCalcs!A:A,0)),index(PitcherCalcs!CU:CU,match(A9,PitcherCalcs!A:A,0)))} -> -9 | AD9: {=iferror(index(BatterCalcs!CI:CI,match(A9,BatterCalcs!A:A,0)),index(PitcherCalcs!CV:CV,match(A9,PitcherCalcs!A:A,0)))} -> -10.666667 | AE9: {=IFERROR(index(BatterCalcs!CR:CR,match(A9,BatterCalcs!A:A,0)),index(PitcherCalcs!BY:BY,match(A9,PitcherCalcs!A:A,0)))} -> S(5) | AV9: Steven Kwan | AW9: LF | AX9: Steven Kwan
A10: =IFERROR(__xludf.DUMMYFUNCTION("""COMPUTED_VALUE"""),12885.0) -> 12885 | B10: =IFERROR(__xludf.DUMMYFUNCTION("""COMPUTED_VALUE"""),"Ildemaro Vargas") -> Ildemaro Vargas | C10: =IFERROR(__xludf.DUMMYFUNCTION("""COMPUTED_VALUE"""),0.0) -> 0 | D10: =IFERROR(__xludf.DUMMYFUNCTION("""COMPUTED_VALUE"""),"https://sba-cards-2024.s3.us-east-1.amazonaws.com/2024-cards/ildemaro-vargas.png") -> https://sba-cards-2024.s3.us-east-1.amazonaws.com/2024-cards/ildemaro-vargas.png | I10: =IFERROR(__xludf.DUMMYFUNCTION("""COMPUTED_VALUE"""),-2.0) -> -2 | K10: =IFERROR(__xludf.DUMMYFUNCTION("""COMPUTED_VALUE"""),"1p50") -> 1p50 | L10: {=iferror(index(BatterCalcs!D:D,match(A10,BatterCalcs!A:A,0)),index(PitcherCalcs!E:E,match(A10,PitcherCalcs!A:A,0)))} -> S | M10: {=iferror(index(BatterCalcs!CJ:CQ,match(A10,BatterCalcs!A:A,0)),)} | N10: 425 | O10: 303 | P10: 219 | Q10: 427 | R10: 518 | U10: {=iferror(index(BatterCalcs!CK:CM,match(A10,BatterCalcs!E:E,0)),)} | X10: {=iferror(index(PitcherCalcs!CL:CL,match(A10,PitcherCalcs!F:F,0)),)} | Y10: {=iferror(index(PitcherCalcs!CD:CF,match(A10,PitcherCalcs!A:A,0)),)} | AB10: {=iferror(index(BatterCalcs!CG:CG,match(A10,BatterCalcs!A:A,0)),index(PitcherCalcs!CT:CT,match(A10,PitcherCalcs!A:A,0)))} -> -13 | AC10: {=iferror(index(BatterCalcs!CH:CH,match(A10,BatterCalcs!A:A,0)),index(PitcherCalcs!CU:CU,match(A10,PitcherCalcs!A:A,0)))} -> -22 | AD10: {=iferror(index(BatterCalcs!CI:CI,match(A10,BatterCalcs!A:A,0)),index(PitcherCalcs!CV:CV,match(A10,PitcherCalcs!A:A,0)))} -> -14 | AE10: {=IFERROR(index(BatterCalcs!CR:CR,match(A10,BatterCalcs!A:A,0)),index(PitcherCalcs!BY:BY,match(A10,PitcherCalcs!A:A,0)))} -> 3b-2e19 2b-3e3 lf-5(0)e18 ss-4e27 1b-4e25 | AG10: Third Base | AL10: Shortstop | AQ10: Second Base | AV10: Blake Perkins | AW10: CF | AX10: Blake Perkins
A11: =IFERROR(__xludf.DUMMYFUNCTION("""COMPUTED_VALUE"""),12927.0) -> 12927 | B11: =IFERROR(__xludf.DUMMYFUNCTION("""COMPUTED_VALUE"""),"Jared Jones") -> Jared Jones | C11: =IFERROR(__xludf.DUMMYFUNCTION("""COMPUTED_VALUE"""),1.11) -> 1.11 | D11: =IFERROR(__xludf.DUMMYFUNCTION("""COMPUTED_VALUE"""),"https://sba-cards-2024.s3.us-east-1.amazonaws.com/2024-cards/jared-jones.png") -> https://sba-cards-2024.s3.us-east-1.amazonaws.com/2024-cards/jared-jones.png | I11: =IFERROR(__xludf.DUMMYFUNCTION("""COMPUTED_VALUE"""),-2.0) -> -2 | K11: =IFERROR(__xludf.DUMMYFUNCTION("""COMPUTED_VALUE"""),"2p65") -> 2p65 | L11: {=iferror(index(BatterCalcs!D:D,match(A11,BatterCalcs!A:A,0)),index(PitcherCalcs!E:E,match(A11,PitcherCalcs!A:A,0)))} -> R | M11: {=iferror(index(BatterCalcs!CJ:CQ,match(A11,BatterCalcs!A:A,0)),)} | U11: {=iferror(index(BatterCalcs!CK:CM,match(A11,BatterCalcs!E:E,0)),)} | X11: {=iferror(index(PitcherCalcs!CL:CL,match(A11,PitcherCalcs!F:F,0)),)} | Y11: {=iferror(index(PitcherCalcs!CD:CF,match(A11,PitcherCalcs!A:A,0)),)} -> 5 | AB11: {=iferror(index(BatterCalcs!CG:CG,match(A11,BatterCalcs!A:A,0)),index(PitcherCalcs!CT:CT,match(A11,PitcherCalcs!A:A,0)))} -> 9 | AC11: {=iferror(index(BatterCalcs!CH:CH,match(A11,BatterCalcs!A:A,0)),index(PitcherCalcs!CU:CU,match(A11,PitcherCalcs!A:A,0)))} -> 7 | AD11: {=iferror(index(BatterCalcs!CI:CI,match(A11,BatterCalcs!A:A,0)),index(PitcherCalcs!CV:CV,match(A11,PitcherCalcs!A:A,0)))} -> 12.666667 | AE11: {=IFERROR(index(BatterCalcs!CR:CR,match(A11,BatterCalcs!A:A,0)),index(PitcherCalcs!BY:BY,match(A11,PitcherCalcs!A:A,0)))} -> S(5) | AG11: Name | AH11: H | AI11: vL | AJ11: vR | AK11: Def | AL11: Name | AM11: H | AN11: vL | AO11: vR | AP11: Def | AQ11: Name | AR11: H | AS11: vL | AT11: vR | AU11: Def | AV11: Jo Adell | AW11: RF | AX11: Ronald Acuna Jr
A12: =IFERROR(__xludf.DUMMYFUNCTION("""COMPUTED_VALUE"""),12961.0) -> 12961 | B12: =IFERROR(__xludf.DUMMYFUNCTION("""COMPUTED_VALUE"""),"JJ Bleday") -> JJ Bleday | C12: =IFERROR(__xludf.DUMMYFUNCTION("""COMPUTED_VALUE"""),0.95) -> 0.95 | D12: =IFERROR(__xludf.DUMMYFUNCTION("""COMPUTED_VALUE"""),"https://sba-cards-2024.s3.us-east-1.amazonaws.com/2024-cards/jj-bleday.png") -> https://sba-cards-2024.s3.us-east-1.amazonaws.com/2024-cards/jj-bleday.png | I12: =IFERROR(__xludf.DUMMYFUNCTION("""COMPUTED_VALUE"""),-2.0) -> -2 | K12: =IFERROR(__xludf.DUMMYFUNCTION("""COMPUTED_VALUE"""),"1p70") -> 1p70 | L12: {=iferror(index(BatterCalcs!D:D,match(A12,BatterCalcs!A:A,0)),index(PitcherCalcs!E:E,match(A12,PitcherCalcs!A:A,0)))} -> L | M12: {=iferror(index(BatterCalcs!CJ:CQ,match(A12,BatterCalcs!A:A,0)),)} | S12: 406 | U12: {=iferror(index(BatterCalcs!CK:CM,match(A12,BatterCalcs!E:E,0)),)} | X12: {=iferror(index(PitcherCalcs!CL:CL,match(A12,PitcherCalcs!F:F,0)),)} | Y12: {=iferror(index(PitcherCalcs!CD:CF,match(A12,PitcherCalcs!A:A,0)),)} | AB12: {=iferror(index(BatterCalcs!CG:CG,match(A12,BatterCalcs!A:A,0)),index(PitcherCalcs!CT:CT,match(A12,PitcherCalcs!A:A,0)))} -> 14 | AC12: {=iferror(index(BatterCalcs!CH:CH,match(A12,BatterCalcs!A:A,0)),index(PitcherCalcs!CU:CU,match(A12,PitcherCalcs!A:A,0)))} -> 13 | AD12: {=iferror(index(BatterCalcs!CI:CI,match(A12,BatterCalcs!A:A,0)),index(PitcherCalcs!CV:CV,match(A12,PitcherCalcs!A:A,0)))} -> 21 | AE12: {=IFERROR(index(BatterCalcs!CR:CR,match(A12,BatterCalcs!A:A,0)),index(PitcherCalcs!BY:BY,match(A12,PitcherCalcs!A:A,0)))} -> cf-4(-2)e6 | AG12: =IFERROR(__xludf.DUMMYFUNCTION("query($A$2:$AE$28,""select B, L, AB, AC, P where P is not null order by AD desc"")"),"Mark Vientos") -> Mark Vientos | AH12: =IFERROR(__xludf.DUMMYFUNCTION("""COMPUTED_VALUE"""),"R") -> R | AI12: =IFERROR(__xludf.DUMMYFUNCTION("""COMPUTED_VALUE"""),30.0) -> 30 | AJ12: =IFERROR(__xludf.DUMMYFUNCTION("""COMPUTED_VALUE"""),21.0) -> 21 | AK12: =IFERROR(__xludf.DUMMYFUNCTION("""COMPUTED_VALUE"""),408.0) -> 408 | AL12: =IFERROR(__xludf.DUMMYFUNCTION("query($A$2:$AE$28,""select B, L, AB, AC, Q where Q is not null order by AD desc"")"),"Trea Turner") -> Trea Turner | AM12: =IFERROR(__xludf.DUMMYFUNCTION("""COMPUTED_VALUE"""),"R") -> R | AN12: =IFERROR(__xludf.DUMMYFUNCTION("""COMPUTED_VALUE"""),32.0) -> 32 | AO12: =IFERROR(__xludf.DUMMYFUNCTION("""COMPUTED_VALUE"""),15.0) -> 15 | AP12: =IFERROR(__xludf.DUMMYFUNCTION("""COMPUTED_VALUE"""),324.0) -> 324 | AQ12: =IFERROR(__xludf.DUMMYFUNCTION("query($A$2:$AE$28,""select B, L, AB, AC, O where O is not null order by AD desc"")"),"Jorge Polanco") -> Jorge Polanco | AR12: =IFERROR(__xludf.DUMMYFUNCTION("""COMPUTED_VALUE"""),"S") -> S | AS12: =IFERROR(__xludf.DUMMYFUNCTION("""COMPUTED_VALUE"""),-9.0) -> -9 | AT12: =IFERROR(__xludf.DUMMYFUNCTION("""COMPUTED_VALUE"""),-16.0) -> -16 | AU12: =IFERROR(__xludf.DUMMYFUNCTION("""COMPUTED_VALUE"""),411.0) -> 411 | AV12: Ronald Acuna Jr | AW12: DH | AX12: Andrew McCutchen
A13: =IFERROR(__xludf.DUMMYFUNCTION("""COMPUTED_VALUE"""),12967.0) -> 12967 | B13: =IFERROR(__xludf.DUMMYFUNCTION("""COMPUTED_VALUE"""),"Joe Mantiply") -> Joe Mantiply | C13: =IFERROR(__xludf.DUMMYFUNCTION("""COMPUTED_VALUE"""),0.48) -> 0.48 | D13: =IFERROR(__xludf.DUMMYFUNCTION("""COMPUTED_VALUE"""),"https://sba-cards-2024.s3.us-east-1.amazonaws.com/2024-cards/joe-mantiply.png") -> https://sba-cards-2024.s3.us-east-1.amazonaws.com/2024-cards/joe-mantiply.png | I13: =IFERROR(__xludf.DUMMYFUNCTION("""COMPUTED_VALUE"""),-2.0) -> -2 | K13: =IFERROR(__xludf.DUMMYFUNCTION("""COMPUTED_VALUE"""),"0p72") -> 0p72 | L13: {=iferror(index(BatterCalcs!D:D,match(A13,BatterCalcs!A:A,0)),index(PitcherCalcs!E:E,match(A13,PitcherCalcs!A:A,0)))} -> L | M13: {=iferror(index(BatterCalcs!CJ:CQ,match(A13,BatterCalcs!A:A,0)),)} | U13: {=iferror(index(BatterCalcs!CK:CM,match(A13,BatterCalcs!E:E,0)),)} | X13: {=iferror(index(PitcherCalcs!CL:CL,match(A13,PitcherCalcs!F:F,0)),)} | Y13: {=iferror(index(PitcherCalcs!CD:CF,match(A13,PitcherCalcs!A:A,0)),)} -> 1 | Z13: 1 | AA13: 0 | AB13: {=iferror(index(BatterCalcs!CG:CG,match(A13,BatterCalcs!A:A,0)),index(PitcherCalcs!CT:CT,match(A13,PitcherCalcs!A:A,0)))} -> 35 | AC13: {=iferror(index(BatterCalcs!CH:CH,match(A13,BatterCalcs!A:A,0)),index(PitcherCalcs!CU:CU,match(A13,PitcherCalcs!A:A,0)))} -> 10 | AD13: {=iferror(index(BatterCalcs!CI:CI,match(A13,BatterCalcs!A:A,0)),index(PitcherCalcs!CV:CV,match(A13,PitcherCalcs!A:A,0)))} -> 27.333333 | AE13: {=IFERROR(index(BatterCalcs!CR:CR,match(A13,BatterCalcs!A:A,0)),index(PitcherCalcs!BY:BY,match(A13,PitcherCalcs!A:A,0)))} -> S(1) R(1) C(0) | AG13: =IFERROR(__xludf.DUMMYFUNCTION("""COMPUTED_VALUE"""),"Ildemaro Vargas") -> Ildemaro Vargas | AH13: =IFERROR(__xludf.DUMMYFUNCTION("""COMPUTED_VALUE"""),"S") -> S | AI13: =IFERROR(__xludf.DUMMYFUNCTION("""COMPUTED_VALUE"""),-13.0) -> -13 | AJ13: =IFERROR(__xludf.DUMMYFUNCTION("""COMPUTED_VALUE"""),-22.0) -> -22 | AK13: =IFERROR(__xludf.DUMMYFUNCTION("""COMPUTED_VALUE"""),219.0) -> 219 | AL13: =IFERROR(__xludf.DUMMYFUNCTION("""COMPUTED_VALUE"""),"Ildemaro Vargas") -> Ildemaro Vargas | AM13: =IFERROR(__xludf.DUMMYFUNCTION("""COMPUTED_VALUE"""),"S") -> S | AN13: =IFERROR(__xludf.DUMMYFUNCTION("""COMPUTED_VALUE"""),-13.0) -> -13 | AO13: =IFERROR(__xludf.DUMMYFUNCTION("""COMPUTED_VALUE"""),-22.0) -> -22 | AP13: =IFERROR(__xludf.DUMMYFUNCTION("""COMPUTED_VALUE"""),427.0) -> 427 | AQ13: =IFERROR(__xludf.DUMMYFUNCTION("""COMPUTED_VALUE"""),"Ildemaro Vargas") -> Ildemaro Vargas | AR13: =IFERROR(__xludf.DUMMYFUNCTION("""COMPUTED_VALUE"""),"S") -> S | AS13: =IFERROR(__xludf.DUMMYFUNCTION("""COMPUTED_VALUE"""),-13.0) -> -13 | AT13: =IFERROR(__xludf.DUMMYFUNCTION("""COMPUTED_VALUE"""),-22.0) -> -22 | AU13: =IFERROR(__xludf.DUMMYFUNCTION("""COMPUTED_VALUE"""),303.0) -> 303
A14: =IFERROR(__xludf.DUMMYFUNCTION("""COMPUTED_VALUE"""),12983.0) -> 12983 | B14: =IFERROR(__xludf.DUMMYFUNCTION("""COMPUTED_VALUE"""),"John Schreiber") -> John Schreiber | C14: =IFERROR(__xludf.DUMMYFUNCTION("""COMPUTED_VALUE"""),0.46) -> 0.46 | D14: =IFERROR(__xludf.DUMMYFUNCTION("""COMPUTED_VALUE"""),"https://sba-cards-2024.s3.us-east-1.amazonaws.com/2024-cards/john-schreiber.png") -> https://sba-cards-2024.s3.us-east-1.amazonaws.com/2024-cards/john-schreiber.png | I14: =IFERROR(__xludf.DUMMYFUNCTION("""COMPUTED_VALUE"""),-2.0) -> -2 | K14: =IFERROR(__xludf.DUMMYFUNCTION("""COMPUTED_VALUE"""),"2p40") -> 2p40 | L14: {=iferror(index(BatterCalcs!D:D,match(A14,BatterCalcs!A:A,0)),index(PitcherCalcs!E:E,match(A14,PitcherCalcs!A:A,0)))} -> R | M14: {=iferror(index(BatterCalcs!CJ:CQ,match(A14,BatterCalcs!A:A,0)),)} | U14: {=iferror(index(BatterCalcs!CK:CM,match(A14,BatterCalcs!E:E,0)),)} | X14: {=iferror(index(PitcherCalcs!CL:CL,match(A14,PitcherCalcs!F:F,0)),)} | Y14: {=iferror(index(PitcherCalcs!CD:CF,match(A14,PitcherCalcs!A:A,0)),)} | Z14: 1 | AA14: 1 | AB14: {=iferror(index(BatterCalcs!CG:CG,match(A14,BatterCalcs!A:A,0)),index(PitcherCalcs!CT:CT,match(A14,PitcherCalcs!A:A,0)))} -> 10 | AC14: {=iferror(index(BatterCalcs!CH:CH,match(A14,BatterCalcs!A:A,0)),index(PitcherCalcs!CU:CU,match(A14,PitcherCalcs!A:A,0)))} -> 24 | AD14: {=iferror(index(BatterCalcs!CI:CI,match(A14,BatterCalcs!A:A,0)),index(PitcherCalcs!CV:CV,match(A14,PitcherCalcs!A:A,0)))} -> 18.666667 | AE14: {=IFERROR(index(BatterCalcs!CR:CR,match(A14,BatterCalcs!A:A,0)),index(PitcherCalcs!BY:BY,match(A14,PitcherCalcs!A:A,0)))} -> R(1) C(1)
A15: =IFERROR(__xludf.DUMMYFUNCTION("""COMPUTED_VALUE"""),13007.0) -> 13007 | B15: =IFERROR(__xludf.DUMMYFUNCTION("""COMPUTED_VALUE"""),"Jorge Polanco") -> Jorge Polanco | C15: =IFERROR(__xludf.DUMMYFUNCTION("""COMPUTED_VALUE"""),0.48) -> 0.48 | D15: =IFERROR(__xludf.DUMMYFUNCTION("""COMPUTED_VALUE"""),"https://sba-cards-2024.s3.us-east-1.amazonaws.com/2024-cards/jorge-polanco.png") -> https://sba-cards-2024.s3.us-east-1.amazonaws.com/2024-cards/jorge-polanco.png | I15: =IFERROR(__xludf.DUMMYFUNCTION("""COMPUTED_VALUE"""),-2.0) -> -2 | K15: =IFERROR(__xludf.DUMMYFUNCTION("""COMPUTED_VALUE"""),"2p60") -> 2p60 | L15: {=iferror(index(BatterCalcs!D:D,match(A15,BatterCalcs!A:A,0)),index(PitcherCalcs!E:E,match(A15,PitcherCalcs!A:A,0)))} -> S | M15: {=iferror(index(BatterCalcs!CJ:CQ,match(A15,BatterCalcs!A:A,0)),)} | O15: 411 | U15: {=iferror(index(BatterCalcs!CK:CM,match(A15,BatterCalcs!E:E,0)),)} | X15: {=iferror(index(PitcherCalcs!CL:CL,match(A15,PitcherCalcs!F:F,0)),)} | Y15: {=iferror(index(PitcherCalcs!CD:CF,match(A15,PitcherCalcs!A:A,0)),)} | AB15: {=iferror(index(BatterCalcs!CG:CG,match(A15,BatterCalcs!A:A,0)),index(PitcherCalcs!CT:CT,match(A15,PitcherCalcs!A:A,0)))} -> -9 | AC15: {=iferror(index(BatterCalcs!CH:CH,match(A15,BatterCalcs!A:A,0)),index(PitcherCalcs!CU:CU,match(A15,PitcherCalcs!A:A,0)))} -> -16 | AD15: {=iferror(index(BatterCalcs!CI:CI,match(A15,BatterCalcs!A:A,0)),index(PitcherCalcs!CV:CV,match(A15,PitcherCalcs!A:A,0)))} -> -11 | AE15: {=IFERROR(index(BatterCalcs!CR:CR,match(A15,BatterCalcs!A:A,0)),index(PitcherCalcs!BY:BY,match(A15,PitcherCalcs!A:A,0)))} -> 2b-4e11
A16: =IFERROR(__xludf.DUMMYFUNCTION("""COMPUTED_VALUE"""),13036.0) -> 13036 | B16: =IFERROR(__xludf.DUMMYFUNCTION("""COMPUTED_VALUE"""),"Josh Naylor") -> Josh Naylor | C16: =IFERROR(__xludf.DUMMYFUNCTION("""COMPUTED_VALUE"""),0.69) -> 0.69 | D16: =IFERROR(__xludf.DUMMYFUNCTION("""COMPUTED_VALUE"""),"https://sba-cards-2024.s3.us-east-1.amazonaws.com/2024-cards/josh-naylor.png") -> https://sba-cards-2024.s3.us-east-1.amazonaws.com/2024-cards/josh-naylor.png | I16: =IFERROR(__xludf.DUMMYFUNCTION("""COMPUTED_VALUE"""),-2.0) -> -2 | K16: =IFERROR(__xludf.DUMMYFUNCTION("""COMPUTED_VALUE"""),"1p70") -> 1p70 | L16: {=iferror(index(BatterCalcs!D:D,match(A16,BatterCalcs!A:A,0)),index(PitcherCalcs!E:E,match(A16,PitcherCalcs!A:A,0)))} -> L | M16: {=iferror(index(BatterCalcs!CJ:CQ,match(A16,BatterCalcs!A:A,0)),)} | N16: 311 | U16: {=iferror(index(BatterCalcs!CK:CM,match(A16,BatterCalcs!E:E,0)),)} | X16: {=iferror(index(PitcherCalcs!CL:CL,match(A16,PitcherCalcs!F:F,0)),)} | Y16: {=iferror(index(PitcherCalcs!CD:CF,match(A16,PitcherCalcs!A:A,0)),)} | AB16: {=iferror(index(BatterCalcs!CG:CG,match(A16,BatterCalcs!A:A,0)),index(PitcherCalcs!CT:CT,match(A16,PitcherCalcs!A:A,0)))} -> 5 | AC16: {=iferror(index(BatterCalcs!CH:CH,match(A16,BatterCalcs!A:A,0)),index(PitcherCalcs!CU:CU,match(A16,PitcherCalcs!A:A,0)))} -> 12 | AD16: {=iferror(index(BatterCalcs!CI:CI,match(A16,BatterCalcs!A:A,0)),index(PitcherCalcs!CV:CV,match(A16,PitcherCalcs!A:A,0)))} -> 18 | AE16: {=IFERROR(index(BatterCalcs!CR:CR,match(A16,BatterCalcs!A:A,0)),index(PitcherCalcs!BY:BY,match(A16,PitcherCalcs!A:A,0)))} -> 1b-3e11
A17: =IFERROR(__xludf.DUMMYFUNCTION("""COMPUTED_VALUE"""),13046.0) -> 13046 | B17: =IFERROR(__xludf.DUMMYFUNCTION("""COMPUTED_VALUE"""),"JT Realmuto") -> JT Realmuto | C17: =IFERROR(__xludf.DUMMYFUNCTION("""COMPUTED_VALUE"""),2.11) -> 2.11 | D17: =IFERROR(__xludf.DUMMYFUNCTION("""COMPUTED_VALUE"""),"https://sba-cards-2024.s3.us-east-1.amazonaws.com/2024-cards/jt-realmuto.png") -> https://sba-cards-2024.s3.us-east-1.amazonaws.com/2024-cards/jt-realmuto.png | I17: =IFERROR(__xludf.DUMMYFUNCTION("""COMPUTED_VALUE"""),-2.0) -> -2 | K17: =IFERROR(__xludf.DUMMYFUNCTION("""COMPUTED_VALUE"""),"4p50") -> 4p50 | L17: {=iferror(index(BatterCalcs!D:D,match(A17,BatterCalcs!A:A,0)),index(PitcherCalcs!E:E,match(A17,PitcherCalcs!A:A,0)))} -> R | M17: {=iferror(index(BatterCalcs!CJ:CQ,match(A17,BatterCalcs!A:A,0)),)} -> 201 | U17: {=iferror(index(BatterCalcs!CK:CM,match(A17,BatterCalcs!E:E,0)),)} | X17: {=iferror(index(PitcherCalcs!CL:CL,match(A17,PitcherCalcs!F:F,0)),)} | Y17: {=iferror(index(PitcherCalcs!CD:CF,match(A17,PitcherCalcs!A:A,0)),)} | AB17: {=iferror(index(BatterCalcs!CG:CG,match(A17,BatterCalcs!A:A,0)),index(PitcherCalcs!CT:CT,match(A17,PitcherCalcs!A:A,0)))} -> 15 | AC17: {=iferror(index(BatterCalcs!CH:CH,match(A17,BatterCalcs!A:A,0)),index(PitcherCalcs!CU:CU,match(A17,PitcherCalcs!A:A,0)))} -> 5 | AD17: {=iferror(index(BatterCalcs!CI:CI,match(A17,BatterCalcs!A:A,0)),index(PitcherCalcs!CV:CV,match(A17,PitcherCalcs!A:A,0)))} -> 7 | AE17: {=IFERROR(index(BatterCalcs!CR:CR,match(A17,BatterCalcs!A:A,0)),index(PitcherCalcs!BY:BY,match(A17,PitcherCalcs!A:A,0)))} -> c-2(-3)e1,T-7(pb-1)
A18: =IFERROR(__xludf.DUMMYFUNCTION("""COMPUTED_VALUE"""),13158.0) -> 13158 | B18: =IFERROR(__xludf.DUMMYFUNCTION("""COMPUTED_VALUE"""),"Mark Vientos") -> Mark Vientos | C18: =IFERROR(__xludf.DUMMYFUNCTION("""COMPUTED_VALUE"""),1.98) -> 1.98 | D18: =IFERROR(__xludf.DUMMYFUNCTION("""COMPUTED_VALUE"""),"https://sba-cards-2024.s3.us-east-1.amazonaws.com/2024-cards/mark-vientos.png") -> https://sba-cards-2024.s3.us-east-1.amazonaws.com/2024-cards/mark-vientos.png | I18: =IFERROR(__xludf.DUMMYFUNCTION("""COMPUTED_VALUE"""),-2.0) -> -2 | K18: =IFERROR(__xludf.DUMMYFUNCTION("""COMPUTED_VALUE"""),"1p50") -> 1p50 | L18: {=iferror(index(BatterCalcs!D:D,match(A18,BatterCalcs!A:A,0)),index(PitcherCalcs!E:E,match(A18,PitcherCalcs!A:A,0)))} -> R | M18: {=iferror(index(BatterCalcs!CJ:CQ,match(A18,BatterCalcs!A:A,0)),)} | N18: 412 | P18: 408 | U18: {=iferror(index(BatterCalcs!CK:CM,match(A18,BatterCalcs!E:E,0)),)} | X18: {=iferror(index(PitcherCalcs!CL:CL,match(A18,PitcherCalcs!F:F,0)),)} | Y18: {=iferror(index(PitcherCalcs!CD:CF,match(A18,PitcherCalcs!A:A,0)),)} | AB18: {=iferror(index(BatterCalcs!CG:CG,match(A18,BatterCalcs!A:A,0)),index(PitcherCalcs!CT:CT,match(A18,PitcherCalcs!A:A,0)))} -> 30 | AC18: {=iferror(index(BatterCalcs!CH:CH,match(A18,BatterCalcs!A:A,0)),index(PitcherCalcs!CU:CU,match(A18,PitcherCalcs!A:A,0)))} -> 21 | AD18: {=iferror(index(BatterCalcs!CI:CI,match(A18,BatterCalcs!A:A,0)),index(PitcherCalcs!CV:CV,match(A18,PitcherCalcs!A:A,0)))} -> 27 | AE18: {=IFERROR(index(BatterCalcs!CR:CR,match(A18,BatterCalcs!A:A,0)),index(PitcherCalcs!BY:BY,match(A18,PitcherCalcs!A:A,0)))} -> 3b-4e8 1b-4e12
A19: =IFERROR(__xludf.DUMMYFUNCTION("""COMPUTED_VALUE"""),13205.0) -> 13205 | B19: =IFERROR(__xludf.DUMMYFUNCTION("""COMPUTED_VALUE"""),"Mickey Moniak") -> Mickey Moniak | C19: =IFERROR(__xludf.DUMMYFUNCTION("""COMPUTED_VALUE"""),0.0) -> 0 | D19: =IFERROR(__xludf.DUMMYFUNCTION("""COMPUTED_VALUE"""),"https://sba-cards-2024.s3.us-east-1.amazonaws.com/2024-cards/mickey-moniak.png") -> https://sba-cards-2024.s3.us-east-1.amazonaws.com/2024-cards/mickey-moniak.png | I19: =IFERROR(__xludf.DUMMYFUNCTION("""COMPUTED_VALUE"""),-2.0) -> -2 | K19: =IFERROR(__xludf.DUMMYFUNCTION("""COMPUTED_VALUE"""),"1p60") -> 1p60 | L19: {=iferror(index(BatterCalcs!D:D,match(A19,BatterCalcs!A:A,0)),index(PitcherCalcs!E:E,match(A19,PitcherCalcs!A:A,0)))} -> L | M19: {=iferror(index(BatterCalcs!CJ:CQ,match(A19,BatterCalcs!A:A,0)),)} | R19: 306 | S19: 306 | T19: 306 | U19: {=iferror(index(BatterCalcs!CK:CM,match(A19,BatterCalcs!E:E,0)),)} | X19: {=iferror(index(PitcherCalcs!CL:CL,match(A19,PitcherCalcs!F:F,0)),)} | Y19: {=iferror(index(PitcherCalcs!CD:CF,match(A19,PitcherCalcs!A:A,0)),)} | AB19: {=iferror(index(BatterCalcs!CG:CG,match(A19,BatterCalcs!A:A,0)),index(PitcherCalcs!CT:CT,match(A19,PitcherCalcs!A:A,0)))} -> -17 | AC19: {=iferror(index(BatterCalcs!CH:CH,match(A19,BatterCalcs!A:A,0)),index(PitcherCalcs!CU:CU,match(A19,PitcherCalcs!A:A,0)))} -> -10 | AD19: {=iferror(index(BatterCalcs!CI:CI,match(A19,BatterCalcs!A:A,0)),index(PitcherCalcs!CV:CV,match(A19,PitcherCalcs!A:A,0)))} -> -6 | AE19: {=IFERROR(index(BatterCalcs!CR:CR,match(A19,BatterCalcs!A:A,0)),index(PitcherCalcs!BY:BY,match(A19,PitcherCalcs!A:A,0)))} -> cf-3(0)e6 rf-3e6 lf-3e6 | AL19: Catcher | AQ19: First Base
A20: =IFERROR(__xludf.DUMMYFUNCTION("""COMPUTED_VALUE"""),13290.0) -> 13290 | B20: =IFERROR(__xludf.DUMMYFUNCTION("""COMPUTED_VALUE"""),"Porter Hodge") -> Porter Hodge | C20: =IFERROR(__xludf.DUMMYFUNCTION("""COMPUTED_VALUE"""),1.45) -> 1.45 | D20: =IFERROR(__xludf.DUMMYFUNCTION("""COMPUTED_VALUE"""),"https://sba-cards-2024.s3.us-east-1.amazonaws.com/2024-cards/porter-hodge.png") -> https://sba-cards-2024.s3.us-east-1.amazonaws.com/2024-cards/porter-hodge.png | I20: =IFERROR(__xludf.DUMMYFUNCTION("""COMPUTED_VALUE"""),-2.0) -> -2 | K20: =IFERROR(__xludf.DUMMYFUNCTION("""COMPUTED_VALUE"""),"1p40") -> 1p40 | L20: {=iferror(index(BatterCalcs!D:D,match(A20,BatterCalcs!A:A,0)),index(PitcherCalcs!E:E,match(A20,PitcherCalcs!A:A,0)))} -> R | M20: {=iferror(index(BatterCalcs!CJ:CQ,match(A20,BatterCalcs!A:A,0)),)} | U20: {=iferror(index(BatterCalcs!CK:CM,match(A20,BatterCalcs!E:E,0)),)} | X20: {=iferror(index(PitcherCalcs!CL:CL,match(A20,PitcherCalcs!F:F,0)),)} | Y20: {=iferror(index(PitcherCalcs!CD:CF,match(A20,PitcherCalcs!A:A,0)),)} | Z20: 1 | AA20: 4 | AB20: {=iferror(index(BatterCalcs!CG:CG,match(A20,BatterCalcs!A:A,0)),index(PitcherCalcs!CT:CT,match(A20,PitcherCalcs!A:A,0)))} -> 33 | AC20: {=iferror(index(BatterCalcs!CH:CH,match(A20,BatterCalcs!A:A,0)),index(PitcherCalcs!CU:CU,match(A20,PitcherCalcs!A:A,0)))} -> 35 | AD20: {=iferror(index(BatterCalcs!CI:CI,match(A20,BatterCalcs!A:A,0)),index(PitcherCalcs!CV:CV,match(A20,PitcherCalcs!A:A,0)))} -> 38.666667 | AE20: {=IFERROR(index(BatterCalcs!CR:CR,match(A20,BatterCalcs!A:A,0)),index(PitcherCalcs!BY:BY,match(A20,PitcherCalcs!A:A,0)))} -> R(1) C(4) | AL20: Name | AM20: H | AN20: vL | AO20: vR | AP20: Def | AQ20: Name | AR20: H | AS20: vL | AT20: vR | AU20: Def
A21: =IFERROR(__xludf.DUMMYFUNCTION("""COMPUTED_VALUE"""),13331.0) -> 13331 | B21: =IFERROR(__xludf.DUMMYFUNCTION("""COMPUTED_VALUE"""),"Ryan Fernandez") -> Ryan Fernandez | C21: =IFERROR(__xludf.DUMMYFUNCTION("""COMPUTED_VALUE"""),0.72) -> 0.72 | D21: =IFERROR(__xludf.DUMMYFUNCTION("""COMPUTED_VALUE"""),"https://sba-cards-2024.s3.us-east-1.amazonaws.com/2024-cards/ryan-fernandez.png") -> https://sba-cards-2024.s3.us-east-1.amazonaws.com/2024-cards/ryan-fernandez.png | I21: =IFERROR(__xludf.DUMMYFUNCTION("""COMPUTED_VALUE"""),-2.0) -> -2 | K21: =IFERROR(__xludf.DUMMYFUNCTION("""COMPUTED_VALUE"""),"1p60") -> 1p60 | L21: {=iferror(index(BatterCalcs!D:D,match(A21,BatterCalcs!A:A,0)),index(PitcherCalcs!E:E,match(A21,PitcherCalcs!A:A,0)))} -> R | M21: {=iferror(index(BatterCalcs!CJ:CQ,match(A21,BatterCalcs!A:A,0)),)} | U21: {=iferror(index(BatterCalcs!CK:CM,match(A21,BatterCalcs!E:E,0)),)} | X21: {=iferror(index(PitcherCalcs!CL:CL,match(A21,PitcherCalcs!F:F,0)),)} | Y21: {=iferror(index(PitcherCalcs!CD:CF,match(A21,PitcherCalcs!A:A,0)),)} | Z21: 1 | AA21: 1 | AB21: {=iferror(index(BatterCalcs!CG:CG,match(A21,BatterCalcs!A:A,0)),index(PitcherCalcs!CT:CT,match(A21,PitcherCalcs!A:A,0)))} -> 25 | AC21: {=iferror(index(BatterCalcs!CH:CH,match(A21,BatterCalcs!A:A,0)),index(PitcherCalcs!CU:CU,match(A21,PitcherCalcs!A:A,0)))} -> 12 | AD21: {=iferror(index(BatterCalcs!CI:CI,match(A21,BatterCalcs!A:A,0)),index(PitcherCalcs!CV:CV,match(A21,PitcherCalcs!A:A,0)))} -> 21.333333 | AE21: {=IFERROR(index(BatterCalcs!CR:CR,match(A21,BatterCalcs!A:A,0)),index(PitcherCalcs!BY:BY,match(A21,PitcherCalcs!A:A,0)))} -> R(1) C(1) | AG21: Black Bears sWAR | AH21: =sum(C2:C28) -> 26.93 | AI21: =AH21-sumif(AF2:AF27,"x",C2:C27) -> 26.93 | AL21: =IFERROR(__xludf.DUMMYFUNCTION("query($A$2:$AE$28,""select B, L, AB, AC, M where M is not null order by AD desc"")"),"JT Realmuto") -> JT Realmuto | AM21: =IFERROR(__xludf.DUMMYFUNCTION("""COMPUTED_VALUE"""),"R") -> R | AN21: =IFERROR(__xludf.DUMMYFUNCTION("""COMPUTED_VALUE"""),15.0) -> 15 | AO21: =IFERROR(__xludf.DUMMYFUNCTION("""COMPUTED_VALUE"""),5.0) -> 5 | AP21: =IFERROR(__xludf.DUMMYFUNCTION("""COMPUTED_VALUE"""),201.0) -> 201 | AQ21: =IFERROR(__xludf.DUMMYFUNCTION("query($A$2:$AE$28,""select B, L, AB, AC, N where N is not null order by AD desc"")"),"Mark Vientos") -> Mark Vientos | AR21: =IFERROR(__xludf.DUMMYFUNCTION("""COMPUTED_VALUE"""),"R") -> R | AS21: =IFERROR(__xludf.DUMMYFUNCTION("""COMPUTED_VALUE"""),30.0) -> 30 | AT21: =IFERROR(__xludf.DUMMYFUNCTION("""COMPUTED_VALUE"""),21.0) -> 21 | AU21: =IFERROR(__xludf.DUMMYFUNCTION("""COMPUTED_VALUE"""),412.0) -> 412
A22: =IFERROR(__xludf.DUMMYFUNCTION("""COMPUTED_VALUE"""),13409.0) -> 13409 | B22: =IFERROR(__xludf.DUMMYFUNCTION("""COMPUTED_VALUE"""),"Teoscar Hernandez") -> Teoscar Hernandez | C22: =IFERROR(__xludf.DUMMYFUNCTION("""COMPUTED_VALUE"""),1.91) -> 1.91 | D22: =IFERROR(__xludf.DUMMYFUNCTION("""COMPUTED_VALUE"""),"https://sba-cards-2024.s3.us-east-1.amazonaws.com/2024-cards/teoscar-hernandez.png") -> https://sba-cards-2024.s3.us-east-1.amazonaws.com/2024-cards/teoscar-hernandez.png | I22: =IFERROR(__xludf.DUMMYFUNCTION("""COMPUTED_VALUE"""),-2.0) -> -2 | K22: =IFERROR(__xludf.DUMMYFUNCTION("""COMPUTED_VALUE"""),"1p70") -> 1p70 | L22: {=iferror(index(BatterCalcs!D:D,match(A22,BatterCalcs!A:A,0)),index(PitcherCalcs!E:E,match(A22,PitcherCalcs!A:A,0)))} -> R | M22: {=iferror(index(BatterCalcs!CJ:CQ,match(A22,BatterCalcs!A:A,0)),)} | R22: 403 | T22: 403 | U22: {=iferror(index(BatterCalcs!CK:CM,match(A22,BatterCalcs!E:E,0)),)} | X22: {=iferror(index(PitcherCalcs!CL:CL,match(A22,PitcherCalcs!F:F,0)),)} | Y22: {=iferror(index(PitcherCalcs!CD:CF,match(A22,PitcherCalcs!A:A,0)),)} | AB22: {=iferror(index(BatterCalcs!CG:CG,match(A22,BatterCalcs!A:A,0)),index(PitcherCalcs!CT:CT,match(A22,PitcherCalcs!A:A,0)))} -> 32 | AC22: {=iferror(index(BatterCalcs!CH:CH,match(A22,BatterCalcs!A:A,0)),index(PitcherCalcs!CU:CU,match(A22,PitcherCalcs!A:A,0)))} -> 23 | AD22: {=iferror(index(BatterCalcs!CI:CI,match(A22,BatterCalcs!A:A,0)),index(PitcherCalcs!CV:CV,match(A22,PitcherCalcs!A:A,0)))} -> 34 | AE22: {=IFERROR(index(BatterCalcs!CR:CR,match(A22,BatterCalcs!A:A,0)),index(PitcherCalcs!BY:BY,match(A22,PitcherCalcs!A:A,0)))} -> lf-4(-1)e3 rf-4e3 | AG22: Coal Miners sWAR | AH22: =sum(C30:C35) -> 4.44 | AI22: =sumif(AF30:AF42,"x",#REF!) -> #N/A | AL22: =IFERROR(__xludf.DUMMYFUNCTION("""COMPUTED_VALUE"""),"Ben Rice") -> Ben Rice | AM22: =IFERROR(__xludf.DUMMYFUNCTION("""COMPUTED_VALUE"""),"L") -> L | AN22: =IFERROR(__xludf.DUMMYFUNCTION("""COMPUTED_VALUE"""),-15.0) -> -15 | AO22: =IFERROR(__xludf.DUMMYFUNCTION("""COMPUTED_VALUE"""),-15.0) -> -15 | AP22: =IFERROR(__xludf.DUMMYFUNCTION("""COMPUTED_VALUE"""),402.0) -> 402 | AQ22: =IFERROR(__xludf.DUMMYFUNCTION("""COMPUTED_VALUE"""),"Josh Naylor") -> Josh Naylor | AR22: =IFERROR(__xludf.DUMMYFUNCTION("""COMPUTED_VALUE"""),"L") -> L | AS22: =IFERROR(__xludf.DUMMYFUNCTION("""COMPUTED_VALUE"""),5.0) -> 5 | AT22: =IFERROR(__xludf.DUMMYFUNCTION("""COMPUTED_VALUE"""),12.0) -> 12 | AU22: =IFERROR(__xludf.DUMMYFUNCTION("""COMPUTED_VALUE"""),311.0) -> 311
A23: =IFERROR(__xludf.DUMMYFUNCTION("""COMPUTED_VALUE"""),13429.0) -> 13429 | B23: =IFERROR(__xludf.DUMMYFUNCTION("""COMPUTED_VALUE"""),"Trea Turner") -> Trea Turner | C23: =IFERROR(__xludf.DUMMYFUNCTION("""COMPUTED_VALUE"""),1.61) -> 1.61 | D23: =IFERROR(__xludf.DUMMYFUNCTION("""COMPUTED_VALUE"""),"https://sba-cards-2024.s3.us-east-1.amazonaws.com/2024-cards/trea-turner.png") -> https://sba-cards-2024.s3.us-east-1.amazonaws.com/2024-cards/trea-turner.png | I23: =IFERROR(__xludf.DUMMYFUNCTION("""COMPUTED_VALUE"""),-2.0) -> -2 | K23: =IFERROR(__xludf.DUMMYFUNCTION("""COMPUTED_VALUE"""),"1p60") -> 1p60 | L23: {=iferror(index(BatterCalcs!D:D,match(A23,BatterCalcs!A:A,0)),index(PitcherCalcs!E:E,match(A23,PitcherCalcs!A:A,0)))} -> R | M23: {=iferror(index(BatterCalcs!CJ:CQ,match(A23,BatterCalcs!A:A,0)),)} | Q23: 324 | U23: {=iferror(index(BatterCalcs!CK:CM,match(A23,BatterCalcs!E:E,0)),)} | X23: {=iferror(index(PitcherCalcs!CL:CL,match(A23,PitcherCalcs!F:F,0)),)} | Y23: {=iferror(index(PitcherCalcs!CD:CF,match(A23,PitcherCalcs!A:A,0)),)} | AB23: {=iferror(index(BatterCalcs!CG:CG,match(A23,BatterCalcs!A:A,0)),index(PitcherCalcs!CT:CT,match(A23,PitcherCalcs!A:A,0)))} -> 32 | AC23: {=iferror(index(BatterCalcs!CH:CH,match(A23,BatterCalcs!A:A,0)),index(PitcherCalcs!CU:CU,match(A23,PitcherCalcs!A:A,0)))} -> 15 | AD23: {=iferror(index(BatterCalcs!CI:CI,match(A23,BatterCalcs!A:A,0)),index(PitcherCalcs!CV:CV,match(A23,PitcherCalcs!A:A,0)))} -> 28 | AE23: {=IFERROR(index(BatterCalcs!CR:CR,match(A23,BatterCalcs!A:A,0)),index(PitcherCalcs!BY:BY,match(A23,PitcherCalcs!A:A,0)))} -> ss-3e24 | AG23: Injured List sWAR | AH23: =sum(C38:C56) -> 1.98 | AI23: =AI21+AI22 -> #N/A | AQ23: =IFERROR(__xludf.DUMMYFUNCTION("""COMPUTED_VALUE"""),"Ben Rice") -> Ben Rice | AR23: =IFERROR(__xludf.DUMMYFUNCTION("""COMPUTED_VALUE"""),"L") -> L | AS23: =IFERROR(__xludf.DUMMYFUNCTION("""COMPUTED_VALUE"""),-15.0) -> -15 | AT23: =IFERROR(__xludf.DUMMYFUNCTION("""COMPUTED_VALUE"""),-15.0) -> -15 | AU23: =IFERROR(__xludf.DUMMYFUNCTION("""COMPUTED_VALUE"""),408.0) -> 408
A24: =IFERROR(__xludf.DUMMYFUNCTION("""COMPUTED_VALUE"""),13483.0) -> 13483 | B24: =IFERROR(__xludf.DUMMYFUNCTION("""COMPUTED_VALUE"""),"Will Vest") -> Will Vest | C24: =IFERROR(__xludf.DUMMYFUNCTION("""COMPUTED_VALUE"""),1.02) -> 1.02 | D24: =IFERROR(__xludf.DUMMYFUNCTION("""COMPUTED_VALUE"""),"https://sba-cards-2024.s3.us-east-1.amazonaws.com/2024-cards/will-vest.png") -> https://sba-cards-2024.s3.us-east-1.amazonaws.com/2024-cards/will-vest.png | I24: =IFERROR(__xludf.DUMMYFUNCTION("""COMPUTED_VALUE"""),-2.0) -> -2 | K24: =IFERROR(__xludf.DUMMYFUNCTION("""COMPUTED_VALUE"""),"1p60") -> 1p60 | L24: {=iferror(index(BatterCalcs!D:D,match(A24,BatterCalcs!A:A,0)),index(PitcherCalcs!E:E,match(A24,PitcherCalcs!A:A,0)))} -> R | M24: {=iferror(index(BatterCalcs!CJ:CQ,match(A24,BatterCalcs!A:A,0)),)} | U24: {=iferror(index(BatterCalcs!CK:CM,match(A24,BatterCalcs!E:E,0)),)} | X24: {=iferror(index(PitcherCalcs!CL:CL,match(A24,PitcherCalcs!F:F,0)),)} | Y24: {=iferror(index(PitcherCalcs!CD:CF,match(A24,PitcherCalcs!A:A,0)),)} | Z24: 1 | AA24: 1 | AB24: {=iferror(index(BatterCalcs!CG:CG,match(A24,BatterCalcs!A:A,0)),index(PitcherCalcs!CT:CT,match(A24,PitcherCalcs!A:A,0)))} -> 29 | AC24: {=iferror(index(BatterCalcs!CH:CH,match(A24,BatterCalcs!A:A,0)),index(PitcherCalcs!CU:CU,match(A24,PitcherCalcs!A:A,0)))} -> 21 | AD24: {=iferror(index(BatterCalcs!CI:CI,match(A24,BatterCalcs!A:A,0)),index(PitcherCalcs!CV:CV,match(A24,PitcherCalcs!A:A,0)))} -> 28.666667 | AE24: {=IFERROR(index(BatterCalcs!CR:CR,match(A24,BatterCalcs!A:A,0)),index(PitcherCalcs!BY:BY,match(A24,PitcherCalcs!A:A,0)))} -> R(1) C(1) | AQ24: =IFERROR(__xludf.DUMMYFUNCTION("""COMPUTED_VALUE"""),"Ildemaro Vargas") -> Ildemaro Vargas | AR24: =IFERROR(__xludf.DUMMYFUNCTION("""COMPUTED_VALUE"""),"S") -> S | AS24: =IFERROR(__xludf.DUMMYFUNCTION("""COMPUTED_VALUE"""),-13.0) -> -13 | AT24: =IFERROR(__xludf.DUMMYFUNCTION("""COMPUTED_VALUE"""),-22.0) -> -22 | AU24: =IFERROR(__xludf.DUMMYFUNCTION("""COMPUTED_VALUE"""),425.0) -> 425
A25: =IFERROR(__xludf.DUMMYFUNCTION("""COMPUTED_VALUE"""),13506.0) -> 13506 | B25: =IFERROR(__xludf.DUMMYFUNCTION("""COMPUTED_VALUE"""),"Yordan Alvarez") -> Yordan Alvarez | C25: =IFERROR(__xludf.DUMMYFUNCTION("""COMPUTED_VALUE"""),2.47) -> 2.47 | D25: =IFERROR(__xludf.DUMMYFUNCTION("""COMPUTED_VALUE"""),"https://sba-cards-2024.s3.us-east-1.amazonaws.com/2024-cards/yordan-alvarez.png") -> https://sba-cards-2024.s3.us-east-1.amazonaws.com/2024-cards/yordan-alvarez.png | I25: =IFERROR(__xludf.DUMMYFUNCTION("""COMPUTED_VALUE"""),-2.0) -> -2 | K25: =IFERROR(__xludf.DUMMYFUNCTION("""COMPUTED_VALUE"""),"1p65") -> 1p65 | L25: {=iferror(index(BatterCalcs!D:D,match(A25,BatterCalcs!A:A,0)),index(PitcherCalcs!E:E,match(A25,PitcherCalcs!A:A,0)))} -> L | M25: {=iferror(index(BatterCalcs!CJ:CQ,match(A25,BatterCalcs!A:A,0)),)} | R25: 503 | U25: {=iferror(index(BatterCalcs!CK:CM,match(A25,BatterCalcs!E:E,0)),)} | X25: {=iferror(index(PitcherCalcs!CL:CL,match(A25,PitcherCalcs!F:F,0)),)} | Y25: {=iferror(index(PitcherCalcs!CD:CF,match(A25,PitcherCalcs!A:A,0)),)} | AB25: {=iferror(index(BatterCalcs!CG:CG,match(A25,BatterCalcs!A:A,0)),index(PitcherCalcs!CT:CT,match(A25,PitcherCalcs!A:A,0)))} -> 41 | AC25: {=iferror(index(BatterCalcs!CH:CH,match(A25,BatterCalcs!A:A,0)),index(PitcherCalcs!CU:CU,match(A25,PitcherCalcs!A:A,0)))} -> 34 | AD25: {=iferror(index(BatterCalcs!CI:CI,match(A25,BatterCalcs!A:A,0)),index(PitcherCalcs!CV:CV,match(A25,PitcherCalcs!A:A,0)))} -> 42 | AE25: {=IFERROR(index(BatterCalcs!CR:CR,match(A25,BatterCalcs!A:A,0)),index(PitcherCalcs!BY:BY,match(A25,PitcherCalcs!A:A,0)))} -> lf-5(-3)e3
A26: =IFERROR(__xludf.DUMMYFUNCTION("""COMPUTED_VALUE"""),13507.0) -> 13507 | B26: =IFERROR(__xludf.DUMMYFUNCTION("""COMPUTED_VALUE"""),"Yoshinobu Yamamoto") -> Yoshinobu Yamamoto | C26: =IFERROR(__xludf.DUMMYFUNCTION("""COMPUTED_VALUE"""),1.42) -> 1.42 | D26: =IFERROR(__xludf.DUMMYFUNCTION("""COMPUTED_VALUE"""),"https://sba-cards-2024.s3.us-east-1.amazonaws.com/2024-cards/yoshinobu-yamamoto.png") -> https://sba-cards-2024.s3.us-east-1.amazonaws.com/2024-cards/yoshinobu-yamamoto.png | I26: =IFERROR(__xludf.DUMMYFUNCTION("""COMPUTED_VALUE"""),-2.0) -> -2 | K26: =IFERROR(__xludf.DUMMYFUNCTION("""COMPUTED_VALUE"""),"3p50") -> 3p50 | L26: {=iferror(index(BatterCalcs!D:D,match(A26,BatterCalcs!A:A,0)),index(PitcherCalcs!E:E,match(A26,PitcherCalcs!A:A,0)))} -> R | M26: {=iferror(index(BatterCalcs!CJ:CQ,match(A26,BatterCalcs!A:A,0)),)} | U26: {=iferror(index(BatterCalcs!CK:CM,match(A26,BatterCalcs!E:E,0)),)} | X26: {=iferror(index(PitcherCalcs!CL:CL,match(A26,PitcherCalcs!F:F,0)),)} | Y26: {=iferror(index(PitcherCalcs!CD:CF,match(A26,PitcherCalcs!A:A,0)),)} -> 5 | AB26: {=iferror(index(BatterCalcs!CG:CG,match(A26,BatterCalcs!A:A,0)),index(PitcherCalcs!CT:CT,match(A26,PitcherCalcs!A:A,0)))} -> 42 | AC26: {=iferror(index(BatterCalcs!CH:CH,match(A26,BatterCalcs!A:A,0)),index(PitcherCalcs!CU:CU,match(A26,PitcherCalcs!A:A,0)))} -> 6 | AD26: {=iferror(index(BatterCalcs!CI:CI,match(A26,BatterCalcs!A:A,0)),index(PitcherCalcs!CV:CV,match(A26,PitcherCalcs!A:A,0)))} -> 20 | AE26: {=IFERROR(index(BatterCalcs!CR:CR,match(A26,BatterCalcs!A:A,0)),index(PitcherCalcs!BY:BY,match(A26,PitcherCalcs!A:A,0)))} -> S(5)
A27: =IFERROR(__xludf.DUMMYFUNCTION("""COMPUTED_VALUE"""),13513.0) -> 13513 | B27: =IFERROR(__xludf.DUMMYFUNCTION("""COMPUTED_VALUE"""),"Zac Gallen") -> Zac Gallen | C27: =IFERROR(__xludf.DUMMYFUNCTION("""COMPUTED_VALUE"""),1.37) -> 1.37 | D27: =IFERROR(__xludf.DUMMYFUNCTION("""COMPUTED_VALUE"""),"https://sba-cards-2024.s3.us-east-1.amazonaws.com/2024-cards/zac-gallen.png") -> https://sba-cards-2024.s3.us-east-1.amazonaws.com/2024-cards/zac-gallen.png | I27: =IFERROR(__xludf.DUMMYFUNCTION("""COMPUTED_VALUE"""),-2.0) -> -2 | K27: =IFERROR(__xludf.DUMMYFUNCTION("""COMPUTED_VALUE"""),"1p70") -> 1p70 | L27: {=iferror(index(BatterCalcs!D:D,match(A27,BatterCalcs!A:A,0)),index(PitcherCalcs!E:E,match(A27,PitcherCalcs!A:A,0)))} -> R | M27: {=iferror(index(BatterCalcs!CJ:CQ,match(A27,BatterCalcs!A:A,0)),)} | U27: {=iferror(index(BatterCalcs!CK:CM,match(A27,BatterCalcs!E:E,0)),)} | X27: {=iferror(index(PitcherCalcs!CL:CL,match(A27,PitcherCalcs!F:F,0)),)} | Y27: {=iferror(index(PitcherCalcs!CD:CF,match(A27,PitcherCalcs!A:A,0)),)} -> 5 | AB27: {=iferror(index(BatterCalcs!CG:CG,match(A27,BatterCalcs!A:A,0)),index(PitcherCalcs!CT:CT,match(A27,PitcherCalcs!A:A,0)))} -> 25 | AC27: {=iferror(index(BatterCalcs!CH:CH,match(A27,BatterCalcs!A:A,0)),index(PitcherCalcs!CU:CU,match(A27,PitcherCalcs!A:A,0)))} -> 10 | AD27: {=iferror(index(BatterCalcs!CI:CI,match(A27,BatterCalcs!A:A,0)),index(PitcherCalcs!CV:CV,match(A27,PitcherCalcs!A:A,0)))} -> 22 | AE27: {=IFERROR(index(BatterCalcs!CR:CR,match(A27,BatterCalcs!A:A,0)),index(PitcherCalcs!BY:BY,match(A27,PitcherCalcs!A:A,0)))} -> S(5)
AG28: Starting Pitchers | AQ28: Relief Pitchers
A29: Minors | B29: Name | C29: sWAR | D29: Card | E29: Card 2 | F29: Last 1 | G29: Last 2 | H29: IL Return | I29: Dem Week | J29: Vanity | K29: Injury | L29: Hand | M29: C | N29: 1B | O29: 2B | P29: 3B | Q29: SS | R29: LF | S29: CF | T29: RF | U29: P | V29: SP | W29: RP | X29: CP | Y29: Defense / Endurance | AE29: Defense / Endurance | AG29: Name | AH29: H | AI29: vL | AJ29: vR | AK29: End | AL29: Last 2 | AQ29: Name | AR29: H | AS29: vL | AT29: vR | AU29: End | AV29: Last 2
A30: =IFERROR(__xludf.DUMMYFUNCTION("iferror(QUERY(Imports!A1:W56,""select A, B, C, D, E, P, Q, R, S, T, W where G = 'WVMiL' order by B asc"", 0),""No MiL players found"")"),12506.0) -> 12506 | B30: =IFERROR(__xludf.DUMMYFUNCTION("""COMPUTED_VALUE"""),"Adley Rutschman") -> Adley Rutschman | C30: =IFERROR(__xludf.DUMMYFUNCTION("""COMPUTED_VALUE"""),1.55) -> 1.55 | D30: =IFERROR(__xludf.DUMMYFUNCTION("""COMPUTED_VALUE"""),"https://sba-cards-2024.s3.us-east-1.amazonaws.com/2024-cards/adley-rutschman.png") -> https://sba-cards-2024.s3.us-east-1.amazonaws.com/2024-cards/adley-rutschman.png | I30: =IFERROR(__xludf.DUMMYFUNCTION("""COMPUTED_VALUE"""),-2.0) -> -2 | K30: =IFERROR(__xludf.DUMMYFUNCTION("""COMPUTED_VALUE"""),"1p70") -> 1p70 | AE30: {=IFERROR(index(BatterCalcs!CR:CR,match(A30,BatterCalcs!A:A,0)),index(PitcherCalcs!BY:BY,match(A30,PitcherCalcs!A:A,0)))} -> c-1(0)e1,T-5(pb-1) | AG30: =IFERROR(__xludf.DUMMYFUNCTION("query($A$2:$AE$28,""select B, L, AB, AC, AE where Y is not null and Y > 3 order by AD desc"")"),"Zac Gallen") -> Zac Gallen | AH30: =IFERROR(__xludf.DUMMYFUNCTION("""COMPUTED_VALUE"""),"R") -> R | AI30: =IFERROR(__xludf.DUMMYFUNCTION("""COMPUTED_VALUE"""),25.0) -> 25 | AJ30: =IFERROR(__xludf.DUMMYFUNCTION("""COMPUTED_VALUE"""),10.0) -> 10 | AK30: =IFERROR(__xludf.DUMMYFUNCTION("""COMPUTED_VALUE"""),"S(5)") -> S(5) | AL30: {=if(AG30:AG39<>"",XLOOKUP(AG30:AG39, 'Import - Decisions'!$T$2:$T$21,'Import - Decisions'!$BC$2:$BC$21),)} -> #N/A | AP30: FALSE | AQ30: =IFERROR(__xludf.DUMMYFUNCTION("query($A$2:$AE$28,""select B, L, AB, AC, AE where Z is not null order by AD desc"")"),"Dedniel Nunez") -> Dedniel Nunez | AR30: =IFERROR(__xludf.DUMMYFUNCTION("""COMPUTED_VALUE"""),"R") -> R | AS30: =IFERROR(__xludf.DUMMYFUNCTION("""COMPUTED_VALUE"""),35.0) -> 35 | AT30: =IFERROR(__xludf.DUMMYFUNCTION("""COMPUTED_VALUE"""),46.0) -> 46 | AU30: =IFERROR(__xludf.DUMMYFUNCTION("""COMPUTED_VALUE"""),"R(2) C(0)") -> R(2) C(0) | AV30: {=if(AQ30:AQ39<>"",XLOOKUP(AQ30:AQ39, 'Import - Decisions'!$T$2:$T$21,'Import - Decisions'!$BC$2:$BC$21),)} -> #N/A
A31: =IFERROR(__xludf.DUMMYFUNCTION("""COMPUTED_VALUE"""),13026.0) -> 13026 | B31: =IFERROR(__xludf.DUMMYFUNCTION("""COMPUTED_VALUE"""),"Jose Soriano") -> Jose Soriano | C31: =IFERROR(__xludf.DUMMYFUNCTION("""COMPUTED_VALUE"""),1.39) -> 1.39 | D31: =IFERROR(__xludf.DUMMYFUNCTION("""COMPUTED_VALUE"""),"https://sba-cards-2024.s3.us-east-1.amazonaws.com/2024-cards/jose-soriano.png") -> https://sba-cards-2024.s3.us-east-1.amazonaws.com/2024-cards/jose-soriano.png | I31: =IFERROR(__xludf.DUMMYFUNCTION("""COMPUTED_VALUE"""),-2.0) -> -2 | K31: =IFERROR(__xludf.DUMMYFUNCTION("""COMPUTED_VALUE"""),"3p60") -> 3p60 | AE31: {=IFERROR(index(BatterCalcs!CR:CR,match(A31,BatterCalcs!A:A,0)),index(PitcherCalcs!BY:BY,match(A31,PitcherCalcs!A:A,0)))} -> S(5) R(3) | AG31: =IFERROR(__xludf.DUMMYFUNCTION("""COMPUTED_VALUE"""),"Ben Brown") -> Ben Brown | AH31: =IFERROR(__xludf.DUMMYFUNCTION("""COMPUTED_VALUE"""),"R") -> R | AI31: =IFERROR(__xludf.DUMMYFUNCTION("""COMPUTED_VALUE"""),10.0) -> 10 | AJ31: =IFERROR(__xludf.DUMMYFUNCTION("""COMPUTED_VALUE"""),35.0) -> 35 | AK31: =IFERROR(__xludf.DUMMYFUNCTION("""COMPUTED_VALUE"""),"S(5) R(4)") -> S(5) R(4) | AL31: #N/A | AP31: FALSE | AQ31: =IFERROR(__xludf.DUMMYFUNCTION("""COMPUTED_VALUE"""),"Porter Hodge") -> Porter Hodge | AR31: =IFERROR(__xludf.DUMMYFUNCTION("""COMPUTED_VALUE"""),"R") -> R | AS31: =IFERROR(__xludf.DUMMYFUNCTION("""COMPUTED_VALUE"""),33.0) -> 33 | AT31: =IFERROR(__xludf.DUMMYFUNCTION("""COMPUTED_VALUE"""),35.0) -> 35 | AU31: =IFERROR(__xludf.DUMMYFUNCTION("""COMPUTED_VALUE"""),"R(1) C(4)") -> R(1) C(4) | AV31: #N/A
A32: =IFERROR(__xludf.DUMMYFUNCTION("""COMPUTED_VALUE"""),13322.0) -> 13322 | B32: =IFERROR(__xludf.DUMMYFUNCTION("""COMPUTED_VALUE"""),"Ronald Acuna Jr") -> Ronald Acuna Jr | C32: =IFERROR(__xludf.DUMMYFUNCTION("""COMPUTED_VALUE"""),0.0) -> 0 | D32: =IFERROR(__xludf.DUMMYFUNCTION("""COMPUTED_VALUE"""),"https://sba-cards-2024.s3.us-east-1.amazonaws.com/2024-cards/ronald-acuna-jr.png") -> https://sba-cards-2024.s3.us-east-1.amazonaws.com/2024-cards/ronald-acuna-jr.png | I32: =IFERROR(__xludf.DUMMYFUNCTION("""COMPUTED_VALUE"""),-2.0) -> -2 | K32: =IFERROR(__xludf.DUMMYFUNCTION("""COMPUTED_VALUE"""),"5p30") -> 5p30 | AE32: {=IFERROR(index(BatterCalcs!CR:CR,match(A32,BatterCalcs!A:A,0)),index(PitcherCalcs!BY:BY,match(A32,PitcherCalcs!A:A,0)))} -> rf-3(-4)e7 | AG32: =IFERROR(__xludf.DUMMYFUNCTION("""COMPUTED_VALUE"""),"Yoshinobu Yamamoto") -> Yoshinobu Yamamoto | AH32: =IFERROR(__xludf.DUMMYFUNCTION("""COMPUTED_VALUE"""),"R") -> R | AI32: =IFERROR(__xludf.DUMMYFUNCTION("""COMPUTED_VALUE"""),42.0) -> 42 | AJ32: =IFERROR(__xludf.DUMMYFUNCTION("""COMPUTED_VALUE"""),6.0) -> 6 | AK32: =IFERROR(__xludf.DUMMYFUNCTION("""COMPUTED_VALUE"""),"S(5)") -> S(5) | AL32: #N/A | AP32: FALSE | AQ32: =IFERROR(__xludf.DUMMYFUNCTION("""COMPUTED_VALUE"""),"Will Vest") -> Will Vest | AR32: =IFERROR(__xludf.DUMMYFUNCTION("""COMPUTED_VALUE"""),"R") -> R | AS32: =IFERROR(__xludf.DUMMYFUNCTION("""COMPUTED_VALUE"""),29.0) -> 29 | AT32: =IFERROR(__xludf.DUMMYFUNCTION("""COMPUTED_VALUE"""),21.0) -> 21 | AU32: =IFERROR(__xludf.DUMMYFUNCTION("""COMPUTED_VALUE"""),"R(1) C(1)") -> R(1) C(1) | AV32: #N/A
